BEGIN:VCALENDAR
VERSION:2.0
PRODID:-//Port Discovery Children&#039;s Museum - ECPv6.15.20//NONSGML v1.0//EN
CALSCALE:GREGORIAN
METHOD:PUBLISH
X-WR-CALNAME:Port Discovery Children&#039;s Museum
X-ORIGINAL-URL:https://www.portdiscovery.org
X-WR-CALDESC:Events for Port Discovery Children&#039;s Museum
REFRESH-INTERVAL;VALUE=DURATION:PT1H
X-Robots-Tag:noindex
X-PUBLISHED-TTL:PT1H
BEGIN:VTIMEZONE
TZID:America/New_York
BEGIN:DAYLIGHT
TZOFFSETFROM:-0500
TZOFFSETTO:-0400
TZNAME:EDT
DTSTART:20230312T070000
END:DAYLIGHT
BEGIN:STANDARD
TZOFFSETFROM:-0400
TZOFFSETTO:-0500
TZNAME:EST
DTSTART:20231105T060000
END:STANDARD
BEGIN:DAYLIGHT
TZOFFSETFROM:-0500
TZOFFSETTO:-0400
TZNAME:EDT
DTSTART:20240310T070000
END:DAYLIGHT
BEGIN:STANDARD
TZOFFSETFROM:-0400
TZOFFSETTO:-0500
TZNAME:EST
DTSTART:20241103T060000
END:STANDARD
BEGIN:DAYLIGHT
TZOFFSETFROM:-0500
TZOFFSETTO:-0400
TZNAME:EDT
DTSTART:20250309T070000
END:DAYLIGHT
BEGIN:STANDARD
TZOFFSETFROM:-0400
TZOFFSETTO:-0500
TZNAME:EST
DTSTART:20251102T060000
END:STANDARD
END:VTIMEZONE
BEGIN:VEVENT
DTSTART;VALUE=DATE:20240421
DTEND;VALUE=DATE:20240422
DTSTAMP:20260420T041316
CREATED:20240216T200239Z
LAST-MODIFIED:20240405T151058Z
UID:10005549-1713657600-1713743999@www.portdiscovery.org
SUMMARY:All About Bugs
DESCRIPTION:Craft and decorate your own itty-bitty bug or a silly creepy crawler with a variety of mixed media materials in our Studio Workshop. \nPort Discovery is partnering with Arts for Learning Maryland to celebrate the Month of the Young Child! Educational programming made with our youngest learners in mind will be presented by our Learning Specialists\, emphasizing on STEM\, Language\, and Social Emotional Learning through hands on and interactive activities.
URL:https://www.portdiscovery.org/event/all-about-bugs/2024-04-21/
LOCATION:Port Discovery Children’s Museum\, 35 Market Place\, Baltimore\, MD\, 21202\, United States
END:VEVENT
BEGIN:VEVENT
DTSTART;TZID=America/New_York:20240421T090000
DTEND;TZID=America/New_York:20240421T110000
DTSTAMP:20260420T041316
CREATED:20240105T211624Z
LAST-MODIFIED:20240208T181012Z
UID:10005474-1713690000-1713697200@www.portdiscovery.org
SUMMARY:Sensory Friendly Morning
DESCRIPTION:Port Discovery’s Sensory Friendly Mornings provide Museum access to families who would benefit from a sensory friendly experience and quieter setting at Port Discovery two hours before opening to the general public.
URL:https://www.portdiscovery.org/event/sensory-friendly-morning-3/2024-04-21/
LOCATION:Port Discovery Children’s Museum\, 35 Market Place\, Baltimore\, MD\, 21202\, United States
CATEGORIES:Special Events
END:VEVENT
BEGIN:VEVENT
DTSTART;TZID=America/New_York:20240421T100000
DTEND;TZID=America/New_York:20240421T110000
DTSTAMP:20260420T041316
CREATED:20240213T173820Z
LAST-MODIFIED:20240220T213753Z
UID:10005512-1713693600-1713697200@www.portdiscovery.org
SUMMARY:Signs of Spring : Stories by Hand with Kathy MacMillan
DESCRIPTION:Learn basic American Sign Language vocabulary as we explore the season through stories\, songs\, and more! Presented by Kathy MacMillan\, author of the Little Hands Signing series. \nKathy MacMillan (she/her) is an author\, nationally certified American Sign Language interpreter\, librarian\, and signing storyteller. She has published more than two dozen books for children\, teens\, and adults\, including the Little Hands Signing series and Little Hands and Big Hands: Children and Adults Signing Together. Find her online at KathyMacMillan.com. \nPort Discovery is partnering with Arts for Learning Maryland to celebrate the Month of the Young Child! Educational programming made with our youngest learners in mind will be presented by our Learning Specialists\, emphasizing on STEM\, Language\, and Social Emotional Learning through hands on and interactive activities.
URL:https://www.portdiscovery.org/event/signs-of-spring-stories-by-hand-with-kathy-macmillan/
LOCATION:Port Discovery Children’s Museum\, 35 Market Place\, Baltimore\, MD\, 21202\, United States
CATEGORIES:6-10
ATTACH;FMTTYPE=image/jpeg:https://www.portdiscovery.org/wp-content/uploads/2024/02/Kathy-and-JX-ILY-Rainbow-slide.jpg
END:VEVENT
BEGIN:VEVENT
DTSTART;TZID=America/New_York:20240421T120000
DTEND;TZID=America/New_York:20240421T123000
DTSTAMP:20260420T041316
CREATED:20240208T170358Z
LAST-MODIFIED:20240220T213620Z
UID:10005397-1713700800-1713702600@www.portdiscovery.org
SUMMARY:Discovery Tales
DESCRIPTION:Look\, listen and sing! Gather ’round\, friends. Join us as we sing songs and read stories and the whole family can enjoy. \nPort Discovery is partnering with Arts for Learning Maryland to celebrate the Month of the Young Child! Educational programming made with our youngest learners in mind will be presented by our Learning Specialists\, emphasizing on STEM\, Language\, and Social Emotional Learning through hands on and interactive activities.
URL:https://www.portdiscovery.org/event/discovery-tales-23/2024-04-21/
LOCATION:Port Discovery Children’s Museum\, 35 Market Place\, Baltimore\, MD\, 21202\, United States
CATEGORIES:3-5,6-10
END:VEVENT
BEGIN:VEVENT
DTSTART;TZID=America/New_York:20240421T140000
DTEND;TZID=America/New_York:20240421T143000
DTSTAMP:20260420T041316
CREATED:20240208T170948Z
LAST-MODIFIED:20240220T213625Z
UID:10005420-1713708000-1713709800@www.portdiscovery.org
SUMMARY:Make It Grow
DESCRIPTION:Become a botanist and explore the life cycle of the seed. Plant a seed to take it home and observe your seed’s growth like a scientist. \nPort Discovery is partnering with Arts for Learning Maryland to celebrate the Month of the Young Child! Educational programming made with our youngest learners in mind will be presented by our Learning Specialists\, emphasizing on STEM\, Language\, and Social Emotional Learning through hands on and interactive activities.
URL:https://www.portdiscovery.org/event/make-it-grow-4/2024-04-21/
LOCATION:Port Discovery Children’s Museum\, 35 Market Place\, Baltimore\, MD\, 21202\, United States
CATEGORIES:Educational Activity,3-5,6-10
END:VEVENT
END:VCALENDAR