BEGIN:VCALENDAR
VERSION:2.0
PRODID:-//Port Discovery Children&#039;s Museum - ECPv6.15.20//NONSGML v1.0//EN
CALSCALE:GREGORIAN
METHOD:PUBLISH
X-WR-CALNAME:Port Discovery Children&#039;s Museum
X-ORIGINAL-URL:https://www.portdiscovery.org
X-WR-CALDESC:Events for Port Discovery Children&#039;s Museum
REFRESH-INTERVAL;VALUE=DURATION:PT1H
X-Robots-Tag:noindex
X-PUBLISHED-TTL:PT1H
BEGIN:VTIMEZONE
TZID:America/New_York
BEGIN:DAYLIGHT
TZOFFSETFROM:-0500
TZOFFSETTO:-0400
TZNAME:EDT
DTSTART:20230312T070000
END:DAYLIGHT
BEGIN:STANDARD
TZOFFSETFROM:-0400
TZOFFSETTO:-0500
TZNAME:EST
DTSTART:20231105T060000
END:STANDARD
BEGIN:DAYLIGHT
TZOFFSETFROM:-0500
TZOFFSETTO:-0400
TZNAME:EDT
DTSTART:20240310T070000
END:DAYLIGHT
BEGIN:STANDARD
TZOFFSETFROM:-0400
TZOFFSETTO:-0500
TZNAME:EST
DTSTART:20241103T060000
END:STANDARD
BEGIN:DAYLIGHT
TZOFFSETFROM:-0500
TZOFFSETTO:-0400
TZNAME:EDT
DTSTART:20250309T070000
END:DAYLIGHT
BEGIN:STANDARD
TZOFFSETFROM:-0400
TZOFFSETTO:-0500
TZNAME:EST
DTSTART:20251102T060000
END:STANDARD
END:VTIMEZONE
BEGIN:VEVENT
DTSTART;VALUE=DATE:20241122
DTEND;VALUE=DATE:20241123
DTSTAMP:20260425T171557
CREATED:20241112T164615Z
LAST-MODIFIED:20241129T150854Z
UID:10007247-1732233600-1732319999@www.portdiscovery.org
SUMMARY:Giving Plate
DESCRIPTION:Let your creativity shine as you design a giving plate inspired by the colorful world of nutrition! Using our poem handout as a guide\, participants will design their own plate by selecting foods that represent the different nutrients our bodies need. This is an engaging way to spark imagination\, learn about healthy food choices\, and create a beautiful\, personalized plate design all in one for you and your family. \nDue to scheduling\, programs are subject to change. Thank you for your understanding.
URL:https://www.portdiscovery.org/event/giving-plate/2024-11-22/
LOCATION:Port Discovery Children’s Museum\, 35 Market Place\, Baltimore\, MD\, 21202\, United States
CATEGORIES:Educational Activity,3-5,3-6
END:VEVENT
BEGIN:VEVENT
DTSTART;TZID=America/New_York:20241122T110000
DTEND;TZID=America/New_York:20241122T113000
DTSTAMP:20260425T171557
CREATED:20241112T165206Z
LAST-MODIFIED:20241112T165259Z
UID:10007262-1732273200-1732275000@www.portdiscovery.org
SUMMARY:Discovery Time
DESCRIPTION:Look\, listen and sing! Gather ’round\, friends. Join us as we sing songs and read stories and the whole family can enjoy. \nDue to scheduling\, programs are subject to change. Thank you for your understanding.
URL:https://www.portdiscovery.org/event/discovery-time-2-2/2024-11-22/
LOCATION:Port Discovery Children’s Museum\, 35 Market Place\, Baltimore\, MD\, 21202\, United States
CATEGORIES:3-5,6-10
END:VEVENT
BEGIN:VEVENT
DTSTART;TZID=America/New_York:20241122T143000
DTEND;TZID=America/New_York:20241122T150000
DTSTAMP:20260425T171557
CREATED:20240913T164506Z
LAST-MODIFIED:20240913T164506Z
UID:10006986-1732285800-1732287600@www.portdiscovery.org
SUMMARY:Teddy Talks
DESCRIPTION:Join resident puppet Ted “Theodore” Bearson and his friend Wally Walnuts as they talk about empathy and how it impacts the world around you. \nDue to scheduling\, programs are subject to change. Thank you for your understanding.
URL:https://www.portdiscovery.org/event/teddy-talks-15/2024-11-22/
LOCATION:Port Discovery Children’s Museum\, 35 Market Place\, Baltimore\, MD\, 21202\, United States
CATEGORIES:Educational Activity,0-2,0-3,3-5
END:VEVENT
END:VCALENDAR