BEGIN:VCALENDAR
VERSION:2.0
PRODID:-//Port Discovery Children&#039;s Museum - ECPv6.15.20//NONSGML v1.0//EN
CALSCALE:GREGORIAN
METHOD:PUBLISH
X-WR-CALNAME:Port Discovery Children&#039;s Museum
X-ORIGINAL-URL:https://www.portdiscovery.org
X-WR-CALDESC:Events for Port Discovery Children&#039;s Museum
REFRESH-INTERVAL;VALUE=DURATION:PT1H
X-Robots-Tag:noindex
X-PUBLISHED-TTL:PT1H
BEGIN:VTIMEZONE
TZID:America/New_York
BEGIN:DAYLIGHT
TZOFFSETFROM:-0500
TZOFFSETTO:-0400
TZNAME:EDT
DTSTART:20240310T070000
END:DAYLIGHT
BEGIN:STANDARD
TZOFFSETFROM:-0400
TZOFFSETTO:-0500
TZNAME:EST
DTSTART:20241103T060000
END:STANDARD
BEGIN:DAYLIGHT
TZOFFSETFROM:-0500
TZOFFSETTO:-0400
TZNAME:EDT
DTSTART:20250309T070000
END:DAYLIGHT
BEGIN:STANDARD
TZOFFSETFROM:-0400
TZOFFSETTO:-0500
TZNAME:EST
DTSTART:20251102T060000
END:STANDARD
BEGIN:DAYLIGHT
TZOFFSETFROM:-0500
TZOFFSETTO:-0400
TZNAME:EDT
DTSTART:20260308T070000
END:DAYLIGHT
BEGIN:STANDARD
TZOFFSETFROM:-0400
TZOFFSETTO:-0500
TZNAME:EST
DTSTART:20261101T060000
END:STANDARD
END:VTIMEZONE
BEGIN:VEVENT
DTSTART;VALUE=DATE:20250719
DTEND;VALUE=DATE:20250720
DTSTAMP:20260423T001236
CREATED:20250417T191644Z
LAST-MODIFIED:20250417T191809Z
UID:10008681-1752883200-1752969599@www.portdiscovery.org
SUMMARY:OPEN | 10AM-5PM
DESCRIPTION:The museum is open this Summer on Mondays through Saturdays from 10AM-5PM. These hours may change as we enter the Summer season. Thank you for your understanding! \nHours are subject to change. Please refer to our hours page for additional hours.
URL:https://www.portdiscovery.org/event/open-10am-5pm-4/2025-07-19/
LOCATION:Port Discovery Children’s Museum\, 35 Market Place\, Baltimore\, MD\, 21202\, United States
END:VEVENT
BEGIN:VEVENT
DTSTART;TZID=America/New_York:20250719T100000
DTEND;TZID=America/New_York:20250719T170000
DTSTAMP:20260423T001236
CREATED:20250423T194255Z
LAST-MODIFIED:20250626T195919Z
UID:10008960-1752919200-1752944400@www.portdiscovery.org
SUMMARY:National Ice Cream Day Celebration
DESCRIPTION:Get ready to chill out and scoop up some fun on July 19th for a delightful\, ice cream extravaganza to celebrate National Ice Cream Day. We’ve churned up a day full of sweet\, ice cream-themed activities\, games\, and art projects that will delight kids and parents alike! But that’s not all! As a special topping\, enjoy the celebration with a delicious frozen sweet treat. Treats will be available while supplies last\, so come early to enjoy this tasty preview. \nProgramming for Saturday\, July 19th Includes…\nIce Cream Themed Sensory Bin\nDive your hands into this sensory bin\, themed around your favorite dessert—ice cream! Join us for a fun and tactile experience where children can explore a sensory bin filled with colorful and textured items that mimic the look and feel of ice cream and its toppings. \nDiscovery Tales – Ice Cream Themed Edition\nLook\, listen\, and sing! Gather ’round\, friends\, for a delightful ice cream themed storytime. Join us as we sing songs and read stories all about everyone’s favorite sweet treat—ice cream. \nThe Play Fair Game Show – Ice Cream Themed Edition\nGet ready for an exciting and deliciously fun family game show! The Play Fair Game Show – Ice Cream Edition features multiple-choice questions and carnival-inspired challenges\, all themed around ice cream. \nIce Cream Ball Demonstration\nTake part in a fun and educational demonstration all about how to make homemade ice cream! Watch as we use an ice cream ball to create this delicious treat\, and learn the steps to make your own at home. \nIce Cream Sundae Bar Painting\nCreate your very own ice cream painting at our Ice Cream Sundae Bar Painting activity! Using your handprint as the base\, you’ll design a delightful ice cream sundae complete with pretend sprinkles and other fun toppings. \n2025 Special Guests & Partners\nLuckys Coffee\, Ice Cream & Candy : The sweetest spot in the Baltimore Inner Harbor! Luckys Coffee\, Ice Cream & Candy is an old-fashioned parlor offering ice cream\, milkshakes & bulk candy\, including vintage varieties. Lucky’s Baltimore opened in 2011 as “The Best of Luck Candy & Gifts\,” a pop-up in Harbor East before moving to Baltimore’s Inner Harbor and rebranding as Luckys Coffee\, Ice Cream & Candy to represent owner Alexis “Lucky” Thompson. \nTaharka Brothers Ice Cream : Well known for serving up classic flavors along with constantly evolving roster of delightful\, small-batch flavors beloved in Baltimore\, Taharka Brothers’ award winning ice cream lineup includes favorites like Honey Graham\, Mintflix & Chillz\, Key Lime Pie\, and Caramel Crunch. Taharka Brothers is widely known for their unique social mission\, focused on creating an impactful\, profitable business managed and operated by young adults from some of Baltimore’s most troubled neighborhoods. Our menu features rotating seasonal and one-time flavors inspired by local happenings and a handful of “collaborations” with other local small businesses throughout the year! \n…and more! Stay tuned for programming and partner updates. \n 
URL:https://www.portdiscovery.org/event/national-ice-cream-day-celebration-2/
LOCATION:Port Discovery Children’s Museum\, 35 Market Place\, Baltimore\, MD\, 21202\, United States
ATTACH;FMTTYPE=image/jpeg:https://www.portdiscovery.org/wp-content/uploads/2025/04/DSC_0414-X3.jpg
END:VEVENT
BEGIN:VEVENT
DTSTART;TZID=America/New_York:20250719T170000
DTEND;TZID=America/New_York:20250719T200000
DTSTAMP:20260423T001236
CREATED:20250513T181714Z
LAST-MODIFIED:20250513T181714Z
UID:10009291-1752944400-1752955200@www.portdiscovery.org
SUMMARY:$15 Saturday Fun Nights
DESCRIPTION:Saturday nights from July through August the museum will extend its hours to 8pm. From 5pm-8pm admission will be $15!
URL:https://www.portdiscovery.org/event/15-saturday-fun-nights/2025-07-19/
LOCATION:Port Discovery Children’s Museum\, 35 Market Place\, Baltimore\, MD\, 21202\, United States
CATEGORIES:Discounts,0-2,3-5,6-10
END:VEVENT
END:VCALENDAR