BEGIN:VCALENDAR
VERSION:2.0
PRODID:-//Port Discovery Children&#039;s Museum - ECPv6.15.20//NONSGML v1.0//EN
CALSCALE:GREGORIAN
METHOD:PUBLISH
X-WR-CALNAME:Port Discovery Children&#039;s Museum
X-ORIGINAL-URL:https://www.portdiscovery.org
X-WR-CALDESC:Events for Port Discovery Children&#039;s Museum
REFRESH-INTERVAL;VALUE=DURATION:PT1H
X-Robots-Tag:noindex
X-PUBLISHED-TTL:PT1H
BEGIN:VTIMEZONE
TZID:America/New_York
BEGIN:DAYLIGHT
TZOFFSETFROM:-0500
TZOFFSETTO:-0400
TZNAME:EDT
DTSTART:20240310T070000
END:DAYLIGHT
BEGIN:STANDARD
TZOFFSETFROM:-0400
TZOFFSETTO:-0500
TZNAME:EST
DTSTART:20241103T060000
END:STANDARD
BEGIN:DAYLIGHT
TZOFFSETFROM:-0500
TZOFFSETTO:-0400
TZNAME:EDT
DTSTART:20250309T070000
END:DAYLIGHT
BEGIN:STANDARD
TZOFFSETFROM:-0400
TZOFFSETTO:-0500
TZNAME:EST
DTSTART:20251102T060000
END:STANDARD
BEGIN:DAYLIGHT
TZOFFSETFROM:-0500
TZOFFSETTO:-0400
TZNAME:EDT
DTSTART:20260308T070000
END:DAYLIGHT
BEGIN:STANDARD
TZOFFSETFROM:-0400
TZOFFSETTO:-0500
TZNAME:EST
DTSTART:20261101T060000
END:STANDARD
END:VTIMEZONE
BEGIN:VEVENT
DTSTART;VALUE=DATE:20250801
DTEND;VALUE=DATE:20250802
DTSTAMP:20260424T161536
CREATED:20250127T222242Z
LAST-MODIFIED:20250127T222242Z
UID:10007811-1754006400-1754092799@www.portdiscovery.org
SUMMARY:Dream Big\, Play More! Summer Camp at Port Discovery
DESCRIPTION:Looking for a an epic adventure this summer? Join us for up to four weeks with Summer Camp at Port Discovery. Each day campers will dive into STEAM with art creations\, engineering experiences and scientific discovery through play. Ample time to navigate the museum’s three floors of interactive fun will give way to engaging workshops in the creative arts\, including theater\, music\, and dance. \nAll summer camp activities and workshops are available by registration only\, coming soon!
URL:https://www.portdiscovery.org/event/dream-big-play-more-summer-camp-at-port-discovery-2/2025-08-01/
LOCATION:Port Discovery Children’s Museum\, 35 Market Place\, Baltimore\, MD\, 21202\, United States
CATEGORIES:Educational Activity,3-5,6-10,3-6
END:VEVENT
BEGIN:VEVENT
DTSTART;VALUE=DATE:20250801
DTEND;VALUE=DATE:20250802
DTSTAMP:20260424T161536
CREATED:20250417T191644Z
LAST-MODIFIED:20250417T191809Z
UID:10008692-1754006400-1754092799@www.portdiscovery.org
SUMMARY:OPEN | 10AM-5PM
DESCRIPTION:The museum is open this Summer on Mondays through Saturdays from 10AM-5PM. These hours may change as we enter the Summer season. Thank you for your understanding! \nHours are subject to change. Please refer to our hours page for additional hours.
URL:https://www.portdiscovery.org/event/open-10am-5pm-4/2025-08-01/
LOCATION:Port Discovery Children’s Museum\, 35 Market Place\, Baltimore\, MD\, 21202\, United States
END:VEVENT
BEGIN:VEVENT
DTSTART;TZID=America/New_York:20250801T110000
DTEND;TZID=America/New_York:20250801T113000
DTSTAMP:20260424T161536
CREATED:20250701T205012Z
LAST-MODIFIED:20250829T214630Z
UID:10009366-1754046000-1754047800@www.portdiscovery.org
SUMMARY:Discovery Tales
DESCRIPTION:Look\, listen and sing! Gather ’round\, friends. Join us as we sing songs and read stories and the whole family can enjoy. \nDue to scheduling\, all programs are subject to change or cancellations. Thank you for your understanding.
URL:https://www.portdiscovery.org/event/discovery-tales-43/2025-08-01/
LOCATION:Port Discovery Children’s Museum\, 35 Market Place\, Baltimore\, MD\, 21202\, United States
CATEGORIES:3-5,6-10
END:VEVENT
BEGIN:VEVENT
DTSTART;TZID=America/New_York:20250801T120000
DTEND;TZID=America/New_York:20250801T123000
DTSTAMP:20260424T161536
CREATED:20250701T205933Z
LAST-MODIFIED:20250808T222612Z
UID:10009397-1754049600-1754051400@www.portdiscovery.org
SUMMARY:Puppet FUNdamentals
DESCRIPTION:Stop inside our Playhouse exhibit for a hands-on imaginative activity where choose your own puppet to create a story\, starring you and your puppet! \nDue to scheduling\, all programs are subject to change or cancellations. Thank you for your understanding.
URL:https://www.portdiscovery.org/event/puppet-fundamentals-8/2025-08-01/
LOCATION:Port Discovery Children’s Museum\, 35 Market Place\, Baltimore\, MD\, 21202\, United States
CATEGORIES:Educational Activity,3-5,6-10,3-6
END:VEVENT
BEGIN:VEVENT
DTSTART;TZID=America/New_York:20250801T130000
DTEND;TZID=America/New_York:20250801T133000
DTSTAMP:20260424T161536
CREATED:20250701T210733Z
LAST-MODIFIED:20250808T230642Z
UID:10009416-1754053200-1754055000@www.portdiscovery.org
SUMMARY:Stonehaven Station
DESCRIPTION:Visit Stonehaven Station\, a table set for a variety of STEAM and sensory related activities focused on the differences between minerals\, rocks\, and gemstones. Learn all about various minerals in terms of texture\, appearance\, and more! \nDue to scheduling\, all programs are subject to change or cancellations. Thank you for your understanding.
URL:https://www.portdiscovery.org/event/stonehaven-station-2/2025-08-01/
LOCATION:Port Discovery Children’s Museum\, 35 Market Place\, Baltimore\, MD\, 21202\, United States
CATEGORIES:6-10,3-6
END:VEVENT
BEGIN:VEVENT
DTSTART;TZID=America/New_York:20250801T140000
DTEND;TZID=America/New_York:20250801T143000
DTSTAMP:20260424T161536
CREATED:20250701T211213Z
LAST-MODIFIED:20250808T224341Z
UID:10009431-1754056800-1754058600@www.portdiscovery.org
SUMMARY:Drumming Them Drums
DESCRIPTION:Join Port Discovery’s our Education team in a drum circle experience! Use one of our loaner drums and learn how African drumming has been used for communication. \nDue to scheduling\, all programs are subject to change or cancellations. Thank you for your understanding.
URL:https://www.portdiscovery.org/event/drumming-them-drums-11/2025-08-01/
LOCATION:Port Discovery Children’s Museum\, 35 Market Place\, Baltimore\, MD\, 21202\, United States
CATEGORIES:6-10,3-6
END:VEVENT
END:VCALENDAR