BEGIN:VCALENDAR
VERSION:2.0
PRODID:-//Port Discovery Children&#039;s Museum - ECPv6.15.20//NONSGML v1.0//EN
CALSCALE:GREGORIAN
METHOD:PUBLISH
X-WR-CALNAME:Port Discovery Children&#039;s Museum
X-ORIGINAL-URL:https://www.portdiscovery.org
X-WR-CALDESC:Events for Port Discovery Children&#039;s Museum
REFRESH-INTERVAL;VALUE=DURATION:PT1H
X-Robots-Tag:noindex
X-PUBLISHED-TTL:PT1H
BEGIN:VTIMEZONE
TZID:America/New_York
BEGIN:DAYLIGHT
TZOFFSETFROM:-0500
TZOFFSETTO:-0400
TZNAME:EDT
DTSTART:20240310T070000
END:DAYLIGHT
BEGIN:STANDARD
TZOFFSETFROM:-0400
TZOFFSETTO:-0500
TZNAME:EST
DTSTART:20241103T060000
END:STANDARD
BEGIN:DAYLIGHT
TZOFFSETFROM:-0500
TZOFFSETTO:-0400
TZNAME:EDT
DTSTART:20250309T070000
END:DAYLIGHT
BEGIN:STANDARD
TZOFFSETFROM:-0400
TZOFFSETTO:-0500
TZNAME:EST
DTSTART:20251102T060000
END:STANDARD
BEGIN:DAYLIGHT
TZOFFSETFROM:-0500
TZOFFSETTO:-0400
TZNAME:EDT
DTSTART:20260308T070000
END:DAYLIGHT
BEGIN:STANDARD
TZOFFSETFROM:-0400
TZOFFSETTO:-0500
TZNAME:EST
DTSTART:20261101T060000
END:STANDARD
END:VTIMEZONE
BEGIN:VEVENT
DTSTART;VALUE=DATE:20250818
DTEND;VALUE=DATE:20251023
DTSTAMP:20260421T124150
CREATED:20250815T191330Z
LAST-MODIFIED:20250820T210218Z
UID:10009862-1755475200-1761177599@www.portdiscovery.org
SUMMARY:Oasis | Closure
DESCRIPTION:The Oasis will be temporarily closed through September\, and will reopen this Fall with Blocktopia in the space. This is subject to change\, thank you for your understanding.
URL:https://www.portdiscovery.org/event/oasis-closure/
LOCATION:Port Discovery Children’s Museum\, 35 Market Place\, Baltimore\, MD\, 21202\, United States
END:VEVENT
BEGIN:VEVENT
DTSTART;VALUE=DATE:20250824
DTEND;VALUE=DATE:20251023
DTSTAMP:20260421T124150
CREATED:20250815T191431Z
LAST-MODIFIED:20250820T210224Z
UID:10009863-1755993600-1761177599@www.portdiscovery.org
SUMMARY:Blocktopia | Temporary Closure
DESCRIPTION:Blocktopia will be temporarily closed through September\, and will reopen this Fall in the old Oasis space to make way for Galactic Builders & SKIES construction. This is subject to change\, thank you for your understanding.
URL:https://www.portdiscovery.org/event/blocktopia-temporary-closure/
LOCATION:Port Discovery Children’s Museum\, 35 Market Place\, Baltimore\, MD\, 21202\, United States
END:VEVENT
BEGIN:VEVENT
DTSTART;VALUE=DATE:20251011
DTEND;VALUE=DATE:20251012
DTSTAMP:20260421T124150
CREATED:20250809T002953Z
LAST-MODIFIED:20250828T150517Z
UID:10009830-1760140800-1760227199@www.portdiscovery.org
SUMMARY:OPEN | 10AM-5PM
DESCRIPTION:The museum is open Fridays & Saturdays from 10AM-5PM during Fall 2025. These hours may change as we enter the Fall season. Thank you for your understanding! \nHours are subject to change. Please refer to our hours page for additional hours.
URL:https://www.portdiscovery.org/event/open-10am-5pm-6/2025-10-11/
LOCATION:Port Discovery Children’s Museum\, 35 Market Place\, Baltimore\, MD\, 21202\, United States
END:VEVENT
BEGIN:VEVENT
DTSTART;TZID=America/New_York:20251011T110000
DTEND;TZID=America/New_York:20251011T113000
DTSTAMP:20260421T124150
CREATED:20250827T173422Z
LAST-MODIFIED:20250827T173802Z
UID:10009889-1760180400-1760182200@www.portdiscovery.org
SUMMARY:Storytime & Puppet Show with Danny Joe: Halloween is Coming!
DESCRIPTION:Did you know that Baltimore has its very own local kids’ tv show? Join Danny Joe and his puppet pals from the preschool streaming series\, Danny Joe’s Tree House for a dress up playdate about telling the differences between real and pretend. Together\, we’ll sing songs\, dance\, and play with big thoughts\, ideas and feelings. \nThis program is geared towards young children and their grownups. It promotes and fosters Social Emotional Learning\, S.T.E.A.M. Education and Early Media Literacy. \nDanny Joe’s Tree House has a 4-star rating from Common Sense Media and streams on Cricket Media’s Sensical.tv\, Epic For Kids and YouTube Kids! Learn more about Danny Joe’s Tree House at dannyjoestreehouse.com  \nThis story time and puppet show is FREE to attend with museum admission. 
URL:https://www.portdiscovery.org/event/storytime-puppet-show-with-danny-joe-halloween-is-coming/
LOCATION:Port Discovery Children’s Museum\, 35 Market Place\, Baltimore\, MD\, 21202\, United States
CATEGORIES:Special Events,Educational Activity,0-3,3-5
ATTACH;FMTTYPE=image/jpeg:https://www.portdiscovery.org/wp-content/uploads/2024/10/yOwKR7_swUWVQxhUnJV_Mw.large_.jpg
END:VEVENT
BEGIN:VEVENT
DTSTART;TZID=America/New_York:20251011T110000
DTEND;TZID=America/New_York:20251011T113000
DTSTAMP:20260421T124150
CREATED:20250827T182005Z
LAST-MODIFIED:20250827T182211Z
UID:10009927-1760180400-1760182200@www.portdiscovery.org
SUMMARY:Discovery Tales
DESCRIPTION:Look\, listen and sing! Gather ’round\, friends. Join us as we sing songs and read stories and the whole family can enjoy. \nDue to scheduling\, all programs are subject to change or cancellations. Thank you for your understanding.
URL:https://www.portdiscovery.org/event/discovery-tales-46/2025-10-11/
LOCATION:Port Discovery Children’s Museum\, 35 Market Place\, Baltimore\, MD\, 21202\, United States
CATEGORIES:3-5,6-10
END:VEVENT
BEGIN:VEVENT
DTSTART;TZID=America/New_York:20251011T130000
DTEND;TZID=America/New_York:20251011T133000
DTSTAMP:20260421T124150
CREATED:20250827T181751Z
LAST-MODIFIED:20250827T181751Z
UID:10009919-1760187600-1760189400@www.portdiscovery.org
SUMMARY:Aerodynamic Assembly
DESCRIPTION:Take to the skies with paper crafts and your imagination by creating airplanes or other flying crafts\, and test how far your flight lasts! Decorate your air craft with a signature design with this hands-on assembly activity. \nDue to scheduling\, all programs are subject to change or cancellations. Thank you for your understanding.
URL:https://www.portdiscovery.org/event/aerodynamic-assembly-2/2025-10-11/
LOCATION:Port Discovery Children’s Museum\, 35 Market Place\, Baltimore\, MD\, 21202\, United States
CATEGORIES:Educational Activity,3-5,6-10,3-6
END:VEVENT
BEGIN:VEVENT
DTSTART;TZID=America/New_York:20251011T140000
DTEND;TZID=America/New_York:20251011T143000
DTSTAMP:20260421T124150
CREATED:20250827T182914Z
LAST-MODIFIED:20250827T182914Z
UID:10009947-1760191200-1760193000@www.portdiscovery.org
SUMMARY:Tech & Tinker
DESCRIPTION:Tinker in this hands-on activity focused on problem solving and curiosity through STEM Learning\, where you can participate in a screen-free exploration of coding\, robotics\, and creative design. \nDue to scheduling\, all programs are subject to change or cancellations. Thank you for your understanding.
URL:https://www.portdiscovery.org/event/tech-tinker-15/2025-10-11/
LOCATION:Port Discovery Children’s Museum\, 35 Market Place\, Baltimore\, MD\, 21202\, United States
CATEGORIES:Educational Activity,3-5,6-10,3-6
END:VEVENT
BEGIN:VEVENT
DTSTART;TZID=America/New_York:20251011T150000
DTEND;TZID=America/New_York:20251011T153000
DTSTAMP:20260421T124150
CREATED:20250827T185035Z
LAST-MODIFIED:20250827T185035Z
UID:10009996-1760194800-1760196600@www.portdiscovery.org
SUMMARY:Out of the Cove
DESCRIPTION:Get creative and crafty outside of the Art Cove with one of our learning specialists in a hands-on art project out on the museum floor. Become inspired with an immersive art piece! \nDue to scheduling\, all programs are subject to change or cancellations. Thank you for your understanding.
URL:https://www.portdiscovery.org/event/out-of-the-cove-5/2025-10-11/
LOCATION:Port Discovery Children’s Museum\, 35 Market Place\, Baltimore\, MD\, 21202\, United States
CATEGORIES:Educational Activity,0-3,3-5,6-10
END:VEVENT
END:VCALENDAR