BEGIN:VCALENDAR
VERSION:2.0
PRODID:-//Port Discovery Children&#039;s Museum - ECPv6.15.20//NONSGML v1.0//EN
CALSCALE:GREGORIAN
METHOD:PUBLISH
X-ORIGINAL-URL:https://www.portdiscovery.org
X-WR-CALDESC:Events for Port Discovery Children&#039;s Museum
REFRESH-INTERVAL;VALUE=DURATION:PT1H
X-Robots-Tag:noindex
X-PUBLISHED-TTL:PT1H
BEGIN:VTIMEZONE
TZID:America/New_York
BEGIN:DAYLIGHT
TZOFFSETFROM:-0500
TZOFFSETTO:-0400
TZNAME:EDT
DTSTART:20240310T070000
END:DAYLIGHT
BEGIN:STANDARD
TZOFFSETFROM:-0400
TZOFFSETTO:-0500
TZNAME:EST
DTSTART:20241103T060000
END:STANDARD
BEGIN:DAYLIGHT
TZOFFSETFROM:-0500
TZOFFSETTO:-0400
TZNAME:EDT
DTSTART:20250309T070000
END:DAYLIGHT
BEGIN:STANDARD
TZOFFSETFROM:-0400
TZOFFSETTO:-0500
TZNAME:EST
DTSTART:20251102T060000
END:STANDARD
BEGIN:DAYLIGHT
TZOFFSETFROM:-0500
TZOFFSETTO:-0400
TZNAME:EDT
DTSTART:20260308T070000
END:DAYLIGHT
BEGIN:STANDARD
TZOFFSETFROM:-0400
TZOFFSETTO:-0500
TZNAME:EST
DTSTART:20261101T060000
END:STANDARD
END:VTIMEZONE
BEGIN:VEVENT
DTSTART;VALUE=DATE:20251124
DTEND;VALUE=DATE:20251125
DTSTAMP:20260422T171751
CREATED:20251123T200852Z
LAST-MODIFIED:20251123T200852Z
UID:10010957-1763942400-1764028799@www.portdiscovery.org
SUMMARY:OPEN | 9AM-5PM
DESCRIPTION:The museum is open Monday from 9AM-5PM during Thanksgiving Break. \nHours are subject to change. Please refer to our hours page for additional hours.
URL:https://www.portdiscovery.org/event/open-9am-5pm/
LOCATION:MD
END:VEVENT
BEGIN:VEVENT
DTSTART;VALUE=DATE:20251124
DTEND;VALUE=DATE:20251126
DTSTAMP:20260422T171751
CREATED:20251123T201459Z
LAST-MODIFIED:20251124T160307Z
UID:10010958-1763942400-1764115199@www.portdiscovery.org
SUMMARY:Wonders of Water Exhibit : Closed for Cleaning
DESCRIPTION:On Monday\, November 24th\, Wonders of Water will be closing for sanitary cleaning at 3pm and will reopen on Tuesday\, November 25th at 12pm. Thank you for understanding and we apologize for any inconvenience.
URL:https://www.portdiscovery.org/event/wonders-of-water-exhibit-closes-at-3pm/
LOCATION:Port Discovery Children’s Museum\, 35 Market Place\, Baltimore\, MD\, 21202\, United States
END:VEVENT
BEGIN:VEVENT
DTSTART;VALUE=DATE:20251124
DTEND;VALUE=DATE:20251201
DTSTAMP:20260422T171751
CREATED:20250828T153812Z
LAST-MODIFIED:20251124T133538Z
UID:10010340-1763942400-1764547199@www.portdiscovery.org
SUMMARY:Thanksgiving Break at Port Discovery
DESCRIPTION:Fall into Fun for Thanksgiving Break from November 24th-30th!\n\nWhile schools out around Thanksgiving\, visit Port Discovery with fun educational activities from our Learning & Visitor Experience team\, three-floors of exhibits\, and check out our brand new exhibits Galactic Builders & SKIES! Port Discovery will be open for extended hours this Thanksgiving break\, giving children and their caregivers more time for hands-on\, interactive fun — from museum-wide building challenges to themed programs. Spice up your holiday with a playful visit to Port Discovery! \n\nThanksgiving Break 2025 Hours (November 24th-30th)\n\nMonday\, November 24th: 9AM – 5PM\nTuesday\, November 25th:10AM – 5PM\nWednesday\, November 26th: 10AM – 5PM\nThursday\, November 27th (Thanksgiving Day): Closed\nFriday\, November 28th: 10AM – 5PM\nSaturday\, November 29th: 10AM – 5PM\nSunday\, November 30th: 11AM – 5PM\n\nAll hours are subject to change\, and more information coming soon.
URL:https://www.portdiscovery.org/event/thanksgiving-break-at-port-discovery/
LOCATION:Port Discovery Children’s Museum\, 35 Market Place\, Baltimore\, MD\, 21202\, United States
END:VEVENT
BEGIN:VEVENT
DTSTART;TZID=America/New_York:20251124T110000
DTEND;TZID=America/New_York:20251124T113000
DTSTAMP:20260422T171751
CREATED:20251027T193710Z
LAST-MODIFIED:20251027T193710Z
UID:10010460-1763982000-1763983800@www.portdiscovery.org
SUMMARY:Discovery Tales
DESCRIPTION:Look\, listen and sing! Gather ’round\, friends. Join us as we sing songs and read stories and the whole family can enjoy. \nDue to scheduling\, all programs are subject to change or cancellations. Thank you for your understanding.
URL:https://www.portdiscovery.org/event/discovery-tales-45/2025-11-24/
LOCATION:Port Discovery Children’s Museum\, 35 Market Place\, Baltimore\, MD\, 21202\, United States
CATEGORIES:3-5,6-10
END:VEVENT
BEGIN:VEVENT
DTSTART;TZID=America/New_York:20251124T120000
DTEND;TZID=America/New_York:20251124T123000
DTSTAMP:20260422T171751
CREATED:20251028T010432Z
LAST-MODIFIED:20251028T010432Z
UID:10010531-1763985600-1763987400@www.portdiscovery.org
SUMMARY:Puppet FUNdamentals
DESCRIPTION:Stop inside our Playhouse exhibit for a hands-on imaginative activity where choose your own puppet to create a story\, starring you and your puppet! \nDue to scheduling\, all programs are subject to change or cancellations. Thank you for your understanding.
URL:https://www.portdiscovery.org/event/puppet-fundamentals-11/2025-11-24/
LOCATION:Port Discovery Children’s Museum\, 35 Market Place\, Baltimore\, MD\, 21202\, United States
CATEGORIES:Educational Activity,3-5,6-10,3-6
END:VEVENT
BEGIN:VEVENT
DTSTART;TZID=America/New_York:20251124T140000
DTEND;TZID=America/New_York:20251124T143000
DTSTAMP:20260422T171751
CREATED:20251028T005622Z
LAST-MODIFIED:20251029T135025Z
UID:10010497-1763992800-1763994600@www.portdiscovery.org
SUMMARY:What's on the Wall?
DESCRIPTION:On the 1st floor\, come up to our magnet wall and play with special items brought out by our Port Discovery staff members. From foam balls propelled by air tubes to tangram shapes\, find out what’s on the wall! \nDue to scheduling\, all programs are subject to change or cancellations. Thank you for your understanding.
URL:https://www.portdiscovery.org/event/whats-on-the-wall-10/2025-11-24/
LOCATION:Port Discovery Children’s Museum\, 35 Market Place\, Baltimore\, MD\, 21202\, United States
CATEGORIES:3-5,6-10,3-6
END:VEVENT
END:VCALENDAR