BEGIN:VCALENDAR
VERSION:2.0
PRODID:-//Port Discovery Children&#039;s Museum - ECPv6.15.20//NONSGML v1.0//EN
CALSCALE:GREGORIAN
METHOD:PUBLISH
X-WR-CALNAME:Port Discovery Children&#039;s Museum
X-ORIGINAL-URL:https://www.portdiscovery.org
X-WR-CALDESC:Events for Port Discovery Children&#039;s Museum
REFRESH-INTERVAL;VALUE=DURATION:PT1H
X-Robots-Tag:noindex
X-PUBLISHED-TTL:PT1H
BEGIN:VTIMEZONE
TZID:America/New_York
BEGIN:DAYLIGHT
TZOFFSETFROM:-0500
TZOFFSETTO:-0400
TZNAME:EDT
DTSTART:20250309T070000
END:DAYLIGHT
BEGIN:STANDARD
TZOFFSETFROM:-0400
TZOFFSETTO:-0500
TZNAME:EST
DTSTART:20251102T060000
END:STANDARD
BEGIN:DAYLIGHT
TZOFFSETFROM:-0500
TZOFFSETTO:-0400
TZNAME:EDT
DTSTART:20260308T070000
END:DAYLIGHT
BEGIN:STANDARD
TZOFFSETFROM:-0400
TZOFFSETTO:-0500
TZNAME:EST
DTSTART:20261101T060000
END:STANDARD
BEGIN:DAYLIGHT
TZOFFSETFROM:-0500
TZOFFSETTO:-0400
TZNAME:EDT
DTSTART:20270314T070000
END:DAYLIGHT
BEGIN:STANDARD
TZOFFSETFROM:-0400
TZOFFSETTO:-0500
TZNAME:EST
DTSTART:20271107T060000
END:STANDARD
END:VTIMEZONE
BEGIN:VEVENT
DTSTART;VALUE=DATE:20260420
DTEND;VALUE=DATE:20260523
DTSTAMP:20260422T020419
CREATED:20260416T201446Z
LAST-MODIFIED:20260416T201943Z
UID:10011669-1776643200-1779494399@www.portdiscovery.org
SUMMARY:Tiny's Diner Exhibit | (Temporarily Offline)
DESCRIPTION:Tiny’s Diner will not be available beginning April 20th into late May in order to complete a refresh of the exhibit. Tiny’s Diner is expecting to return Summer 2026. This is subject to change with potential extension\, thank you for your understanding.
URL:https://www.portdiscovery.org/event/tinys-diner-exhibit-temporarily-offline/
LOCATION:Port Discovery Children’s Museum\, 35 Market Place\, Baltimore\, MD\, 21202\, United States
END:VEVENT
BEGIN:VEVENT
DTSTART;VALUE=DATE:20260422
DTEND;VALUE=DATE:20260423
DTSTAMP:20260422T020419
CREATED:20250828T152012Z
LAST-MODIFIED:20260331T170141Z
UID:10011274-1776816000-1776902399@www.portdiscovery.org
SUMMARY:CLOSED
DESCRIPTION:Port Discovery is closed from Tuesday through Wednesday this Winter/Spring 2026. These hours may change as we enter the Winter/Spring season. Thank you for your understanding! \nHours are subject to change. Please refer to our hours page for additional hours.
URL:https://www.portdiscovery.org/event/closed-28/2026-04-22/
LOCATION:Port Discovery Children’s Museum\, 35 Market Place\, Baltimore\, MD\, 21202\, United States
END:VEVENT
END:VCALENDAR