BEGIN:VCALENDAR
VERSION:2.0
PRODID:-//Port Discovery Children&#039;s Museum - ECPv6.15.20//NONSGML v1.0//EN
CALSCALE:GREGORIAN
METHOD:PUBLISH
X-ORIGINAL-URL:https://www.portdiscovery.org
X-WR-CALDESC:Events for Port Discovery Children&#039;s Museum
REFRESH-INTERVAL;VALUE=DURATION:PT1H
X-Robots-Tag:noindex
X-PUBLISHED-TTL:PT1H
BEGIN:VTIMEZONE
TZID:America/New_York
BEGIN:DAYLIGHT
TZOFFSETFROM:-0500
TZOFFSETTO:-0400
TZNAME:EDT
DTSTART:20230312T070000
END:DAYLIGHT
BEGIN:STANDARD
TZOFFSETFROM:-0400
TZOFFSETTO:-0500
TZNAME:EST
DTSTART:20231105T060000
END:STANDARD
BEGIN:DAYLIGHT
TZOFFSETFROM:-0500
TZOFFSETTO:-0400
TZNAME:EDT
DTSTART:20240310T070000
END:DAYLIGHT
BEGIN:STANDARD
TZOFFSETFROM:-0400
TZOFFSETTO:-0500
TZNAME:EST
DTSTART:20241103T060000
END:STANDARD
BEGIN:DAYLIGHT
TZOFFSETFROM:-0500
TZOFFSETTO:-0400
TZNAME:EDT
DTSTART:20250309T070000
END:DAYLIGHT
BEGIN:STANDARD
TZOFFSETFROM:-0400
TZOFFSETTO:-0500
TZNAME:EST
DTSTART:20251102T060000
END:STANDARD
END:VTIMEZONE
BEGIN:VEVENT
DTSTART;VALUE=DATE:20241226
DTEND;VALUE=DATE:20241227
DTSTAMP:20260420T201846
CREATED:20240802T195852Z
LAST-MODIFIED:20241206T184027Z
UID:10006794-1735171200-1735257599@www.portdiscovery.org
SUMMARY:Winter Break at Port Discovery
DESCRIPTION:Join us for 12 Days of Play!\n\n‘Tis the season for a winter break filled with fun and special educational activities from our Learning & Visitor Experience team! Port Discovery will be open for extended hours\, offering children and their caregivers the chance to enjoy a variety of interactive\, hands-on activities each day during our “12 Days of Play” celebration. Every day will feature a unique theme\, making each visit extra special as we count down to our signature event: Noontime New Year! \n\nWinter Break Hours (December 23rd – January 3rd)\n\nDecember 23rd\, Monday : 10 AM – 5 PM\nDecember 24th\, Christmas Eve : Closed\nDecember 25th\, Christmas Day : Closed\nMonday – Sunday : 10 AM – 5 PM\nJanuary 1st\, New Years Day : Open from 12 PM – 5 PM\n\nAll hours are subject to change. Learn more about the 12 Days of Play for Winter Break.
URL:https://www.portdiscovery.org/event/winter-break-at-port-discovery-2/2024-12-26/
LOCATION:Port Discovery Children’s Museum\, 35 Market Place\, Baltimore\, MD\, 21202\, United States
CATEGORIES:Educational Activity,0-2,0-3,3-5,6-10,3-6
ATTACH;FMTTYPE=image/jpeg:https://www.portdiscovery.org/wp-content/uploads/2023/11/DSC_0263-scaled.jpg
END:VEVENT
END:VCALENDAR