BEGIN:VCALENDAR
VERSION:2.0
PRODID:-//Port Discovery Children&#039;s Museum - ECPv6.15.20//NONSGML v1.0//EN
CALSCALE:GREGORIAN
METHOD:PUBLISH
X-WR-CALNAME:Port Discovery Children&#039;s Museum
X-ORIGINAL-URL:https://www.portdiscovery.org
X-WR-CALDESC:Events for Port Discovery Children&#039;s Museum
REFRESH-INTERVAL;VALUE=DURATION:PT1H
X-Robots-Tag:noindex
X-PUBLISHED-TTL:PT1H
BEGIN:VTIMEZONE
TZID:America/New_York
BEGIN:DAYLIGHT
TZOFFSETFROM:-0500
TZOFFSETTO:-0400
TZNAME:EDT
DTSTART:20230312T070000
END:DAYLIGHT
BEGIN:STANDARD
TZOFFSETFROM:-0400
TZOFFSETTO:-0500
TZNAME:EST
DTSTART:20231105T060000
END:STANDARD
BEGIN:DAYLIGHT
TZOFFSETFROM:-0500
TZOFFSETTO:-0400
TZNAME:EDT
DTSTART:20240310T070000
END:DAYLIGHT
BEGIN:STANDARD
TZOFFSETFROM:-0400
TZOFFSETTO:-0500
TZNAME:EST
DTSTART:20241103T060000
END:STANDARD
BEGIN:DAYLIGHT
TZOFFSETFROM:-0500
TZOFFSETTO:-0400
TZNAME:EDT
DTSTART:20250309T070000
END:DAYLIGHT
BEGIN:STANDARD
TZOFFSETFROM:-0400
TZOFFSETTO:-0500
TZNAME:EST
DTSTART:20251102T060000
END:STANDARD
BEGIN:DAYLIGHT
TZOFFSETFROM:-0500
TZOFFSETTO:-0400
TZNAME:EDT
DTSTART:20260308T070000
END:DAYLIGHT
BEGIN:STANDARD
TZOFFSETFROM:-0400
TZOFFSETTO:-0500
TZNAME:EST
DTSTART:20261101T060000
END:STANDARD
END:VTIMEZONE
BEGIN:VEVENT
DTSTART;VALUE=DATE:20241229
DTEND;VALUE=DATE:20241230
DTSTAMP:20260421T063907
CREATED:20240802T195852Z
LAST-MODIFIED:20241206T184027Z
UID:10006797-1735430400-1735516799@www.portdiscovery.org
SUMMARY:Winter Break at Port Discovery
DESCRIPTION:Join us for 12 Days of Play!\n\n‘Tis the season for a winter break filled with fun and special educational activities from our Learning & Visitor Experience team! Port Discovery will be open for extended hours\, offering children and their caregivers the chance to enjoy a variety of interactive\, hands-on activities each day during our “12 Days of Play” celebration. Every day will feature a unique theme\, making each visit extra special as we count down to our signature event: Noontime New Year! \n\nWinter Break Hours (December 23rd – January 3rd)\n\nDecember 23rd\, Monday : 10 AM – 5 PM\nDecember 24th\, Christmas Eve : Closed\nDecember 25th\, Christmas Day : Closed\nMonday – Sunday : 10 AM – 5 PM\nJanuary 1st\, New Years Day : Open from 12 PM – 5 PM\n\nAll hours are subject to change. Learn more about the 12 Days of Play for Winter Break.
URL:https://www.portdiscovery.org/event/winter-break-at-port-discovery-2/2024-12-29/
LOCATION:Port Discovery Children’s Museum\, 35 Market Place\, Baltimore\, MD\, 21202\, United States
CATEGORIES:Educational Activity,0-2,0-3,3-5,6-10,3-6
ATTACH;FMTTYPE=image/jpeg:https://www.portdiscovery.org/wp-content/uploads/2023/11/DSC_0263-scaled.jpg
END:VEVENT
BEGIN:VEVENT
DTSTART;VALUE=DATE:20241230
DTEND;VALUE=DATE:20241231
DTSTAMP:20260421T063907
CREATED:20240802T195852Z
LAST-MODIFIED:20241206T184027Z
UID:10006798-1735516800-1735603199@www.portdiscovery.org
SUMMARY:Winter Break at Port Discovery
DESCRIPTION:Join us for 12 Days of Play!\n\n‘Tis the season for a winter break filled with fun and special educational activities from our Learning & Visitor Experience team! Port Discovery will be open for extended hours\, offering children and their caregivers the chance to enjoy a variety of interactive\, hands-on activities each day during our “12 Days of Play” celebration. Every day will feature a unique theme\, making each visit extra special as we count down to our signature event: Noontime New Year! \n\nWinter Break Hours (December 23rd – January 3rd)\n\nDecember 23rd\, Monday : 10 AM – 5 PM\nDecember 24th\, Christmas Eve : Closed\nDecember 25th\, Christmas Day : Closed\nMonday – Sunday : 10 AM – 5 PM\nJanuary 1st\, New Years Day : Open from 12 PM – 5 PM\n\nAll hours are subject to change. Learn more about the 12 Days of Play for Winter Break.
URL:https://www.portdiscovery.org/event/winter-break-at-port-discovery-2/2024-12-30/
LOCATION:Port Discovery Children’s Museum\, 35 Market Place\, Baltimore\, MD\, 21202\, United States
CATEGORIES:Educational Activity,0-2,0-3,3-5,6-10,3-6
ATTACH;FMTTYPE=image/jpeg:https://www.portdiscovery.org/wp-content/uploads/2023/11/DSC_0263-scaled.jpg
END:VEVENT
BEGIN:VEVENT
DTSTART;VALUE=DATE:20241231
DTEND;VALUE=DATE:20250101
DTSTAMP:20260421T063907
CREATED:20240802T195852Z
LAST-MODIFIED:20241206T184027Z
UID:10006799-1735603200-1735689599@www.portdiscovery.org
SUMMARY:Winter Break at Port Discovery
DESCRIPTION:Join us for 12 Days of Play!\n\n‘Tis the season for a winter break filled with fun and special educational activities from our Learning & Visitor Experience team! Port Discovery will be open for extended hours\, offering children and their caregivers the chance to enjoy a variety of interactive\, hands-on activities each day during our “12 Days of Play” celebration. Every day will feature a unique theme\, making each visit extra special as we count down to our signature event: Noontime New Year! \n\nWinter Break Hours (December 23rd – January 3rd)\n\nDecember 23rd\, Monday : 10 AM – 5 PM\nDecember 24th\, Christmas Eve : Closed\nDecember 25th\, Christmas Day : Closed\nMonday – Sunday : 10 AM – 5 PM\nJanuary 1st\, New Years Day : Open from 12 PM – 5 PM\n\nAll hours are subject to change. Learn more about the 12 Days of Play for Winter Break.
URL:https://www.portdiscovery.org/event/winter-break-at-port-discovery-2/2024-12-31/
LOCATION:Port Discovery Children’s Museum\, 35 Market Place\, Baltimore\, MD\, 21202\, United States
CATEGORIES:Educational Activity,0-2,0-3,3-5,6-10,3-6
ATTACH;FMTTYPE=image/jpeg:https://www.portdiscovery.org/wp-content/uploads/2023/11/DSC_0263-scaled.jpg
END:VEVENT
BEGIN:VEVENT
DTSTART;TZID=America/New_York:20241231T100000
DTEND;TZID=America/New_York:20241231T170000
DTSTAMP:20260421T063907
CREATED:20241008T165839Z
LAST-MODIFIED:20241107T225249Z
UID:10007089-1735639200-1735664400@www.portdiscovery.org
SUMMARY:Noontime New Year
DESCRIPTION:Help Port Discovery ring in 2025 with our annual Noontime New Year celebration!\nCelebrate the arrival of the New Year with a day full of engaging programming and activities designed with themed learning. Enjoy hands-on themed art projects\, activities led by our Learning Specialists\, and interactive experiences that promote purposeful play\, innovation\, and fun. Don’t miss the festive countdown to noon\, where we’ll ring in the New Year with a lively celebration. Create lasting memories together as we welcome new beginnings into 2025! \nStay tuned for updates on programming and activities! Due to scheduling\, programs are subject to change. Thank you for your understanding. \n 
URL:https://www.portdiscovery.org/event/noon-time-new-year-2/
LOCATION:Port Discovery Children’s Museum\, 35 Market Place\, Baltimore\, MD\, 21202\, United States
CATEGORIES:Special Events,0-2,0-3,3-5,6-10,3-6
ATTACH;FMTTYPE=image/jpeg:https://www.portdiscovery.org/wp-content/uploads/2024/10/DSC_0433-X3.jpg
END:VEVENT
BEGIN:VEVENT
DTSTART;VALUE=DATE:20250101
DTEND;VALUE=DATE:20250102
DTSTAMP:20260421T063907
CREATED:20240802T195852Z
LAST-MODIFIED:20241206T184027Z
UID:10006800-1735689600-1735775999@www.portdiscovery.org
SUMMARY:Winter Break at Port Discovery
DESCRIPTION:Join us for 12 Days of Play!\n\n‘Tis the season for a winter break filled with fun and special educational activities from our Learning & Visitor Experience team! Port Discovery will be open for extended hours\, offering children and their caregivers the chance to enjoy a variety of interactive\, hands-on activities each day during our “12 Days of Play” celebration. Every day will feature a unique theme\, making each visit extra special as we count down to our signature event: Noontime New Year! \n\nWinter Break Hours (December 23rd – January 3rd)\n\nDecember 23rd\, Monday : 10 AM – 5 PM\nDecember 24th\, Christmas Eve : Closed\nDecember 25th\, Christmas Day : Closed\nMonday – Sunday : 10 AM – 5 PM\nJanuary 1st\, New Years Day : Open from 12 PM – 5 PM\n\nAll hours are subject to change. Learn more about the 12 Days of Play for Winter Break.
URL:https://www.portdiscovery.org/event/winter-break-at-port-discovery-2/2025-01-01/
LOCATION:Port Discovery Children’s Museum\, 35 Market Place\, Baltimore\, MD\, 21202\, United States
CATEGORIES:Educational Activity,0-2,0-3,3-5,6-10,3-6
ATTACH;FMTTYPE=image/jpeg:https://www.portdiscovery.org/wp-content/uploads/2023/11/DSC_0263-scaled.jpg
END:VEVENT
BEGIN:VEVENT
DTSTART;VALUE=DATE:20250102
DTEND;VALUE=DATE:20250103
DTSTAMP:20260421T063907
CREATED:20240802T195852Z
LAST-MODIFIED:20241206T184027Z
UID:10006801-1735776000-1735862399@www.portdiscovery.org
SUMMARY:Winter Break at Port Discovery
DESCRIPTION:Join us for 12 Days of Play!\n\n‘Tis the season for a winter break filled with fun and special educational activities from our Learning & Visitor Experience team! Port Discovery will be open for extended hours\, offering children and their caregivers the chance to enjoy a variety of interactive\, hands-on activities each day during our “12 Days of Play” celebration. Every day will feature a unique theme\, making each visit extra special as we count down to our signature event: Noontime New Year! \n\nWinter Break Hours (December 23rd – January 3rd)\n\nDecember 23rd\, Monday : 10 AM – 5 PM\nDecember 24th\, Christmas Eve : Closed\nDecember 25th\, Christmas Day : Closed\nMonday – Sunday : 10 AM – 5 PM\nJanuary 1st\, New Years Day : Open from 12 PM – 5 PM\n\nAll hours are subject to change. Learn more about the 12 Days of Play for Winter Break.
URL:https://www.portdiscovery.org/event/winter-break-at-port-discovery-2/2025-01-02/
LOCATION:Port Discovery Children’s Museum\, 35 Market Place\, Baltimore\, MD\, 21202\, United States
CATEGORIES:Educational Activity,0-2,0-3,3-5,6-10,3-6
ATTACH;FMTTYPE=image/jpeg:https://www.portdiscovery.org/wp-content/uploads/2023/11/DSC_0263-scaled.jpg
END:VEVENT
BEGIN:VEVENT
DTSTART;TZID=America/New_York:20250102T110000
DTEND;TZID=America/New_York:20250102T113000
DTSTAMP:20260421T063907
CREATED:20241206T185509Z
LAST-MODIFIED:20250110T184541Z
UID:10007733-1735815600-1735817400@www.portdiscovery.org
SUMMARY:The Music in Me
DESCRIPTION:Sing it loud\, sing it proud! Join us in a special music time that will bring the love of music into your hearts. \nDue to scheduling\, programs are subject to change. Thank you for your understanding.
URL:https://www.portdiscovery.org/event/the-music-in-me-29/2025-01-02/
LOCATION:Port Discovery Children’s Museum\, 35 Market Place\, Baltimore\, MD\, 21202\, United States
CATEGORIES:Educational Activity,0-2,0-3,3-5,6-10
END:VEVENT
BEGIN:VEVENT
DTSTART;VALUE=DATE:20250103
DTEND;VALUE=DATE:20250104
DTSTAMP:20260421T063907
CREATED:20240802T195852Z
LAST-MODIFIED:20241206T184027Z
UID:10006802-1735862400-1735948799@www.portdiscovery.org
SUMMARY:Winter Break at Port Discovery
DESCRIPTION:Join us for 12 Days of Play!\n\n‘Tis the season for a winter break filled with fun and special educational activities from our Learning & Visitor Experience team! Port Discovery will be open for extended hours\, offering children and their caregivers the chance to enjoy a variety of interactive\, hands-on activities each day during our “12 Days of Play” celebration. Every day will feature a unique theme\, making each visit extra special as we count down to our signature event: Noontime New Year! \n\nWinter Break Hours (December 23rd – January 3rd)\n\nDecember 23rd\, Monday : 10 AM – 5 PM\nDecember 24th\, Christmas Eve : Closed\nDecember 25th\, Christmas Day : Closed\nMonday – Sunday : 10 AM – 5 PM\nJanuary 1st\, New Years Day : Open from 12 PM – 5 PM\n\nAll hours are subject to change. Learn more about the 12 Days of Play for Winter Break.
URL:https://www.portdiscovery.org/event/winter-break-at-port-discovery-2/2025-01-03/
LOCATION:Port Discovery Children’s Museum\, 35 Market Place\, Baltimore\, MD\, 21202\, United States
CATEGORIES:Educational Activity,0-2,0-3,3-5,6-10,3-6
ATTACH;FMTTYPE=image/jpeg:https://www.portdiscovery.org/wp-content/uploads/2023/11/DSC_0263-scaled.jpg
END:VEVENT
BEGIN:VEVENT
DTSTART;TZID=America/New_York:20250104T110000
DTEND;TZID=America/New_York:20250104T113000
DTSTAMP:20260421T063907
CREATED:20241206T185509Z
LAST-MODIFIED:20250110T184541Z
UID:10007746-1735988400-1735990200@www.portdiscovery.org
SUMMARY:The Music in Me
DESCRIPTION:Sing it loud\, sing it proud! Join us in a special music time that will bring the love of music into your hearts. \nDue to scheduling\, programs are subject to change. Thank you for your understanding.
URL:https://www.portdiscovery.org/event/the-music-in-me-29/2025-01-04/
LOCATION:Port Discovery Children’s Museum\, 35 Market Place\, Baltimore\, MD\, 21202\, United States
CATEGORIES:Educational Activity,0-2,0-3,3-5,6-10
END:VEVENT
BEGIN:VEVENT
DTSTART;TZID=America/New_York:20250109T110000
DTEND;TZID=America/New_York:20250109T113000
DTSTAMP:20260421T063907
CREATED:20241206T185509Z
LAST-MODIFIED:20250110T184541Z
UID:10007734-1736420400-1736422200@www.portdiscovery.org
SUMMARY:The Music in Me
DESCRIPTION:Sing it loud\, sing it proud! Join us in a special music time that will bring the love of music into your hearts. \nDue to scheduling\, programs are subject to change. Thank you for your understanding.
URL:https://www.portdiscovery.org/event/the-music-in-me-29/2025-01-09/
LOCATION:Port Discovery Children’s Museum\, 35 Market Place\, Baltimore\, MD\, 21202\, United States
CATEGORIES:Educational Activity,0-2,0-3,3-5,6-10
END:VEVENT
BEGIN:VEVENT
DTSTART;TZID=America/New_York:20250110T140000
DTEND;TZID=America/New_York:20250110T143000
DTSTAMP:20260421T063907
CREATED:20250213T125742Z
LAST-MODIFIED:20250303T145934Z
UID:10008195-1736517600-1736519400@www.portdiscovery.org
SUMMARY:Teddy Talks
DESCRIPTION:Join resident puppet Ted “Theodore” Bearson and his friend Wally Walnuts as they talk about empathy and how it impacts the world around you. \nDue to scheduling\, programs are subject to change. Thank you for your understanding.
URL:https://www.portdiscovery.org/event/teddy-talks-16/2025-01-10/
LOCATION:Port Discovery Children’s Museum\, 35 Market Place\, Baltimore\, MD\, 21202\, United States
CATEGORIES:Educational Activity,0-2,0-3,3-5
END:VEVENT
BEGIN:VEVENT
DTSTART;TZID=America/New_York:20250111T110000
DTEND;TZID=America/New_York:20250111T113000
DTSTAMP:20260421T063907
CREATED:20241206T185509Z
LAST-MODIFIED:20250110T184541Z
UID:10007747-1736593200-1736595000@www.portdiscovery.org
SUMMARY:The Music in Me
DESCRIPTION:Sing it loud\, sing it proud! Join us in a special music time that will bring the love of music into your hearts. \nDue to scheduling\, programs are subject to change. Thank you for your understanding.
URL:https://www.portdiscovery.org/event/the-music-in-me-29/2025-01-11/
LOCATION:Port Discovery Children’s Museum\, 35 Market Place\, Baltimore\, MD\, 21202\, United States
CATEGORIES:Educational Activity,0-2,0-3,3-5,6-10
END:VEVENT
BEGIN:VEVENT
DTSTART;TZID=America/New_York:20250116T110000
DTEND;TZID=America/New_York:20250116T113000
DTSTAMP:20260421T063907
CREATED:20241206T185509Z
LAST-MODIFIED:20250110T184541Z
UID:10007735-1737025200-1737027000@www.portdiscovery.org
SUMMARY:The Music in Me
DESCRIPTION:Sing it loud\, sing it proud! Join us in a special music time that will bring the love of music into your hearts. \nDue to scheduling\, programs are subject to change. Thank you for your understanding.
URL:https://www.portdiscovery.org/event/the-music-in-me-29/2025-01-16/
LOCATION:Port Discovery Children’s Museum\, 35 Market Place\, Baltimore\, MD\, 21202\, United States
CATEGORIES:Educational Activity,0-2,0-3,3-5,6-10
END:VEVENT
BEGIN:VEVENT
DTSTART;TZID=America/New_York:20250117T140000
DTEND;TZID=America/New_York:20250117T143000
DTSTAMP:20260421T063907
CREATED:20250213T125742Z
LAST-MODIFIED:20250303T145934Z
UID:10008196-1737122400-1737124200@www.portdiscovery.org
SUMMARY:Teddy Talks
DESCRIPTION:Join resident puppet Ted “Theodore” Bearson and his friend Wally Walnuts as they talk about empathy and how it impacts the world around you. \nDue to scheduling\, programs are subject to change. Thank you for your understanding.
URL:https://www.portdiscovery.org/event/teddy-talks-16/2025-01-17/
LOCATION:Port Discovery Children’s Museum\, 35 Market Place\, Baltimore\, MD\, 21202\, United States
CATEGORIES:Educational Activity,0-2,0-3,3-5
END:VEVENT
BEGIN:VEVENT
DTSTART;TZID=America/New_York:20250118T110000
DTEND;TZID=America/New_York:20250118T113000
DTSTAMP:20260421T063907
CREATED:20241206T185509Z
LAST-MODIFIED:20250110T184541Z
UID:10007748-1737198000-1737199800@www.portdiscovery.org
SUMMARY:The Music in Me
DESCRIPTION:Sing it loud\, sing it proud! Join us in a special music time that will bring the love of music into your hearts. \nDue to scheduling\, programs are subject to change. Thank you for your understanding.
URL:https://www.portdiscovery.org/event/the-music-in-me-29/2025-01-18/
LOCATION:Port Discovery Children’s Museum\, 35 Market Place\, Baltimore\, MD\, 21202\, United States
CATEGORIES:Educational Activity,0-2,0-3,3-5,6-10
END:VEVENT
BEGIN:VEVENT
DTSTART;VALUE=DATE:20250120
DTEND;VALUE=DATE:20250121
DTSTAMP:20260421T063907
CREATED:20240731T151901Z
LAST-MODIFIED:20250102T153122Z
UID:10006493-1737331200-1737417599@www.portdiscovery.org
SUMMARY:OPEN : MLK Day
DESCRIPTION:Port Discovery is open on Martin Luther King Jr. Day! Join us at the museum and participate in a variety of MLK Day activities presented by our learning specialists.
URL:https://www.portdiscovery.org/event/open-mlk-day-2/
LOCATION:Port Discovery Children’s Museum\, 35 Market Place\, Baltimore\, MD\, 21202\, United States
CATEGORIES:Educational Activity,0-2,0-3,3-5,6-10,3-6
END:VEVENT
BEGIN:VEVENT
DTSTART;TZID=America/New_York:20250123T110000
DTEND;TZID=America/New_York:20250123T113000
DTSTAMP:20260421T063907
CREATED:20241206T185509Z
LAST-MODIFIED:20250110T184541Z
UID:10007736-1737630000-1737631800@www.portdiscovery.org
SUMMARY:The Music in Me
DESCRIPTION:Sing it loud\, sing it proud! Join us in a special music time that will bring the love of music into your hearts. \nDue to scheduling\, programs are subject to change. Thank you for your understanding.
URL:https://www.portdiscovery.org/event/the-music-in-me-29/2025-01-23/
LOCATION:Port Discovery Children’s Museum\, 35 Market Place\, Baltimore\, MD\, 21202\, United States
CATEGORIES:Educational Activity,0-2,0-3,3-5,6-10
END:VEVENT
BEGIN:VEVENT
DTSTART;TZID=America/New_York:20250124T140000
DTEND;TZID=America/New_York:20250124T143000
DTSTAMP:20260421T063907
CREATED:20250213T125742Z
LAST-MODIFIED:20250303T145934Z
UID:10008197-1737727200-1737729000@www.portdiscovery.org
SUMMARY:Teddy Talks
DESCRIPTION:Join resident puppet Ted “Theodore” Bearson and his friend Wally Walnuts as they talk about empathy and how it impacts the world around you. \nDue to scheduling\, programs are subject to change. Thank you for your understanding.
URL:https://www.portdiscovery.org/event/teddy-talks-16/2025-01-24/
LOCATION:Port Discovery Children’s Museum\, 35 Market Place\, Baltimore\, MD\, 21202\, United States
CATEGORIES:Educational Activity,0-2,0-3,3-5
END:VEVENT
BEGIN:VEVENT
DTSTART;TZID=America/New_York:20250130T110000
DTEND;TZID=America/New_York:20250130T113000
DTSTAMP:20260421T063907
CREATED:20241206T185509Z
LAST-MODIFIED:20250110T184541Z
UID:10007737-1738234800-1738236600@www.portdiscovery.org
SUMMARY:The Music in Me
DESCRIPTION:Sing it loud\, sing it proud! Join us in a special music time that will bring the love of music into your hearts. \nDue to scheduling\, programs are subject to change. Thank you for your understanding.
URL:https://www.portdiscovery.org/event/the-music-in-me-29/2025-01-30/
LOCATION:Port Discovery Children’s Museum\, 35 Market Place\, Baltimore\, MD\, 21202\, United States
CATEGORIES:Educational Activity,0-2,0-3,3-5,6-10
END:VEVENT
BEGIN:VEVENT
DTSTART;TZID=America/New_York:20250131T140000
DTEND;TZID=America/New_York:20250131T143000
DTSTAMP:20260421T063907
CREATED:20250213T125742Z
LAST-MODIFIED:20250303T145934Z
UID:10008198-1738332000-1738333800@www.portdiscovery.org
SUMMARY:Teddy Talks
DESCRIPTION:Join resident puppet Ted “Theodore” Bearson and his friend Wally Walnuts as they talk about empathy and how it impacts the world around you. \nDue to scheduling\, programs are subject to change. Thank you for your understanding.
URL:https://www.portdiscovery.org/event/teddy-talks-16/2025-01-31/
LOCATION:Port Discovery Children’s Museum\, 35 Market Place\, Baltimore\, MD\, 21202\, United States
CATEGORIES:Educational Activity,0-2,0-3,3-5
END:VEVENT
BEGIN:VEVENT
DTSTART;TZID=America/New_York:20250201T110000
DTEND;TZID=America/New_York:20250201T113000
DTSTAMP:20260421T063907
CREATED:20241206T185509Z
LAST-MODIFIED:20250110T184541Z
UID:10007750-1738407600-1738409400@www.portdiscovery.org
SUMMARY:The Music in Me
DESCRIPTION:Sing it loud\, sing it proud! Join us in a special music time that will bring the love of music into your hearts. \nDue to scheduling\, programs are subject to change. Thank you for your understanding.
URL:https://www.portdiscovery.org/event/the-music-in-me-29/2025-02-01/
LOCATION:Port Discovery Children’s Museum\, 35 Market Place\, Baltimore\, MD\, 21202\, United States
CATEGORIES:Educational Activity,0-2,0-3,3-5,6-10
END:VEVENT
BEGIN:VEVENT
DTSTART;TZID=America/New_York:20250206T110000
DTEND;TZID=America/New_York:20250206T113000
DTSTAMP:20260421T063907
CREATED:20241206T185509Z
LAST-MODIFIED:20250110T184541Z
UID:10007738-1738839600-1738841400@www.portdiscovery.org
SUMMARY:The Music in Me
DESCRIPTION:Sing it loud\, sing it proud! Join us in a special music time that will bring the love of music into your hearts. \nDue to scheduling\, programs are subject to change. Thank you for your understanding.
URL:https://www.portdiscovery.org/event/the-music-in-me-29/2025-02-06/
LOCATION:Port Discovery Children’s Museum\, 35 Market Place\, Baltimore\, MD\, 21202\, United States
CATEGORIES:Educational Activity,0-2,0-3,3-5,6-10
END:VEVENT
BEGIN:VEVENT
DTSTART;TZID=America/New_York:20250207T140000
DTEND;TZID=America/New_York:20250207T143000
DTSTAMP:20260421T063907
CREATED:20250213T125742Z
LAST-MODIFIED:20250303T145934Z
UID:10008199-1738936800-1738938600@www.portdiscovery.org
SUMMARY:Teddy Talks
DESCRIPTION:Join resident puppet Ted “Theodore” Bearson and his friend Wally Walnuts as they talk about empathy and how it impacts the world around you. \nDue to scheduling\, programs are subject to change. Thank you for your understanding.
URL:https://www.portdiscovery.org/event/teddy-talks-16/2025-02-07/
LOCATION:Port Discovery Children’s Museum\, 35 Market Place\, Baltimore\, MD\, 21202\, United States
CATEGORIES:Educational Activity,0-2,0-3,3-5
END:VEVENT
BEGIN:VEVENT
DTSTART;TZID=America/New_York:20250208T110000
DTEND;TZID=America/New_York:20250208T113000
DTSTAMP:20260421T063907
CREATED:20241206T185509Z
LAST-MODIFIED:20250110T184541Z
UID:10007751-1739012400-1739014200@www.portdiscovery.org
SUMMARY:The Music in Me
DESCRIPTION:Sing it loud\, sing it proud! Join us in a special music time that will bring the love of music into your hearts. \nDue to scheduling\, programs are subject to change. Thank you for your understanding.
URL:https://www.portdiscovery.org/event/the-music-in-me-29/2025-02-08/
LOCATION:Port Discovery Children’s Museum\, 35 Market Place\, Baltimore\, MD\, 21202\, United States
CATEGORIES:Educational Activity,0-2,0-3,3-5,6-10
END:VEVENT
BEGIN:VEVENT
DTSTART;TZID=America/New_York:20250213T110000
DTEND;TZID=America/New_York:20250213T113000
DTSTAMP:20260421T063907
CREATED:20241206T185509Z
LAST-MODIFIED:20250110T184541Z
UID:10007739-1739444400-1739446200@www.portdiscovery.org
SUMMARY:The Music in Me
DESCRIPTION:Sing it loud\, sing it proud! Join us in a special music time that will bring the love of music into your hearts. \nDue to scheduling\, programs are subject to change. Thank you for your understanding.
URL:https://www.portdiscovery.org/event/the-music-in-me-29/2025-02-13/
LOCATION:Port Discovery Children’s Museum\, 35 Market Place\, Baltimore\, MD\, 21202\, United States
CATEGORIES:Educational Activity,0-2,0-3,3-5,6-10
END:VEVENT
BEGIN:VEVENT
DTSTART;TZID=America/New_York:20250214T140000
DTEND;TZID=America/New_York:20250214T143000
DTSTAMP:20260421T063907
CREATED:20250213T125742Z
LAST-MODIFIED:20250303T145934Z
UID:10008200-1739541600-1739543400@www.portdiscovery.org
SUMMARY:Teddy Talks
DESCRIPTION:Join resident puppet Ted “Theodore” Bearson and his friend Wally Walnuts as they talk about empathy and how it impacts the world around you. \nDue to scheduling\, programs are subject to change. Thank you for your understanding.
URL:https://www.portdiscovery.org/event/teddy-talks-16/2025-02-14/
LOCATION:Port Discovery Children’s Museum\, 35 Market Place\, Baltimore\, MD\, 21202\, United States
CATEGORIES:Educational Activity,0-2,0-3,3-5
END:VEVENT
BEGIN:VEVENT
DTSTART;TZID=America/New_York:20250215T110000
DTEND;TZID=America/New_York:20250215T113000
DTSTAMP:20260421T063907
CREATED:20241206T185509Z
LAST-MODIFIED:20250110T184541Z
UID:10007752-1739617200-1739619000@www.portdiscovery.org
SUMMARY:The Music in Me
DESCRIPTION:Sing it loud\, sing it proud! Join us in a special music time that will bring the love of music into your hearts. \nDue to scheduling\, programs are subject to change. Thank you for your understanding.
URL:https://www.portdiscovery.org/event/the-music-in-me-29/2025-02-15/
LOCATION:Port Discovery Children’s Museum\, 35 Market Place\, Baltimore\, MD\, 21202\, United States
CATEGORIES:Educational Activity,0-2,0-3,3-5,6-10
END:VEVENT
BEGIN:VEVENT
DTSTART;VALUE=DATE:20250217
DTEND;VALUE=DATE:20250218
DTSTAMP:20260421T063907
CREATED:20240731T151920Z
LAST-MODIFIED:20240731T151920Z
UID:10006494-1739750400-1739836799@www.portdiscovery.org
SUMMARY:OPEN : Presidents Day
DESCRIPTION:Port Discovery is open on Presidents Day! Join us at the museum and participate in president themed activities presented by our Public Programming team.
URL:https://www.portdiscovery.org/event/open-presidents-day-2/
LOCATION:Port Discovery Children’s Museum\, 35 Market Place\, Baltimore\, MD\, 21202\, United States
CATEGORIES:Educational Activity,0-2,0-3,3-5,6-10,3-6
END:VEVENT
BEGIN:VEVENT
DTSTART;TZID=America/New_York:20250220T110000
DTEND;TZID=America/New_York:20250220T113000
DTSTAMP:20260421T063907
CREATED:20241206T185509Z
LAST-MODIFIED:20250110T184541Z
UID:10007740-1740049200-1740051000@www.portdiscovery.org
SUMMARY:The Music in Me
DESCRIPTION:Sing it loud\, sing it proud! Join us in a special music time that will bring the love of music into your hearts. \nDue to scheduling\, programs are subject to change. Thank you for your understanding.
URL:https://www.portdiscovery.org/event/the-music-in-me-29/2025-02-20/
LOCATION:Port Discovery Children’s Museum\, 35 Market Place\, Baltimore\, MD\, 21202\, United States
CATEGORIES:Educational Activity,0-2,0-3,3-5,6-10
END:VEVENT
BEGIN:VEVENT
DTSTART;TZID=America/New_York:20250221T140000
DTEND;TZID=America/New_York:20250221T143000
DTSTAMP:20260421T063907
CREATED:20250213T125742Z
LAST-MODIFIED:20250303T145934Z
UID:10008201-1740146400-1740148200@www.portdiscovery.org
SUMMARY:Teddy Talks
DESCRIPTION:Join resident puppet Ted “Theodore” Bearson and his friend Wally Walnuts as they talk about empathy and how it impacts the world around you. \nDue to scheduling\, programs are subject to change. Thank you for your understanding.
URL:https://www.portdiscovery.org/event/teddy-talks-16/2025-02-21/
LOCATION:Port Discovery Children’s Museum\, 35 Market Place\, Baltimore\, MD\, 21202\, United States
CATEGORIES:Educational Activity,0-2,0-3,3-5
END:VEVENT
END:VCALENDAR