BEGIN:VCALENDAR
VERSION:2.0
PRODID:-//Port Discovery Children&#039;s Museum - ECPv6.15.20//NONSGML v1.0//EN
CALSCALE:GREGORIAN
METHOD:PUBLISH
X-WR-CALNAME:Port Discovery Children&#039;s Museum
X-ORIGINAL-URL:https://www.portdiscovery.org
X-WR-CALDESC:Events for Port Discovery Children&#039;s Museum
REFRESH-INTERVAL;VALUE=DURATION:PT1H
X-Robots-Tag:noindex
X-PUBLISHED-TTL:PT1H
BEGIN:VTIMEZONE
TZID:America/New_York
BEGIN:DAYLIGHT
TZOFFSETFROM:-0500
TZOFFSETTO:-0400
TZNAME:EDT
DTSTART:20230312T070000
END:DAYLIGHT
BEGIN:STANDARD
TZOFFSETFROM:-0400
TZOFFSETTO:-0500
TZNAME:EST
DTSTART:20231105T060000
END:STANDARD
BEGIN:DAYLIGHT
TZOFFSETFROM:-0500
TZOFFSETTO:-0400
TZNAME:EDT
DTSTART:20240310T070000
END:DAYLIGHT
BEGIN:STANDARD
TZOFFSETFROM:-0400
TZOFFSETTO:-0500
TZNAME:EST
DTSTART:20241103T060000
END:STANDARD
BEGIN:DAYLIGHT
TZOFFSETFROM:-0500
TZOFFSETTO:-0400
TZNAME:EDT
DTSTART:20250309T070000
END:DAYLIGHT
BEGIN:STANDARD
TZOFFSETFROM:-0400
TZOFFSETTO:-0500
TZNAME:EST
DTSTART:20251102T060000
END:STANDARD
END:VTIMEZONE
BEGIN:VEVENT
DTSTART;TZID=America/New_York:20241109T110000
DTEND;TZID=America/New_York:20241109T113000
DTSTAMP:20260422T140021
CREATED:20241112T165206Z
LAST-MODIFIED:20241112T165259Z
UID:10007257-1731150000-1731151800@www.portdiscovery.org
SUMMARY:Discovery Time
DESCRIPTION:Look\, listen and sing! Gather ’round\, friends. Join us as we sing songs and read stories and the whole family can enjoy. \nDue to scheduling\, programs are subject to change. Thank you for your understanding.
URL:https://www.portdiscovery.org/event/discovery-time-2-2/2024-11-09/
LOCATION:Port Discovery Children’s Museum\, 35 Market Place\, Baltimore\, MD\, 21202\, United States
CATEGORIES:3-5,6-10
END:VEVENT
BEGIN:VEVENT
DTSTART;VALUE=DATE:20241110
DTEND;VALUE=DATE:20241111
DTSTAMP:20260422T140021
CREATED:20241112T164615Z
LAST-MODIFIED:20241129T150854Z
UID:10007239-1731196800-1731283199@www.portdiscovery.org
SUMMARY:Giving Plate
DESCRIPTION:Let your creativity shine as you design a giving plate inspired by the colorful world of nutrition! Using our poem handout as a guide\, participants will design their own plate by selecting foods that represent the different nutrients our bodies need. This is an engaging way to spark imagination\, learn about healthy food choices\, and create a beautiful\, personalized plate design all in one for you and your family. \nDue to scheduling\, programs are subject to change. Thank you for your understanding.
URL:https://www.portdiscovery.org/event/giving-plate/2024-11-10/
LOCATION:Port Discovery Children’s Museum\, 35 Market Place\, Baltimore\, MD\, 21202\, United States
CATEGORIES:Educational Activity,3-5,3-6
END:VEVENT
BEGIN:VEVENT
DTSTART;VALUE=DATE:20241113
DTEND;VALUE=DATE:20241114
DTSTAMP:20260422T140021
CREATED:20241112T164615Z
LAST-MODIFIED:20241129T150854Z
UID:10007240-1731456000-1731542399@www.portdiscovery.org
SUMMARY:Giving Plate
DESCRIPTION:Let your creativity shine as you design a giving plate inspired by the colorful world of nutrition! Using our poem handout as a guide\, participants will design their own plate by selecting foods that represent the different nutrients our bodies need. This is an engaging way to spark imagination\, learn about healthy food choices\, and create a beautiful\, personalized plate design all in one for you and your family. \nDue to scheduling\, programs are subject to change. Thank you for your understanding.
URL:https://www.portdiscovery.org/event/giving-plate/2024-11-13/
LOCATION:Port Discovery Children’s Museum\, 35 Market Place\, Baltimore\, MD\, 21202\, United States
CATEGORIES:Educational Activity,3-5,3-6
END:VEVENT
BEGIN:VEVENT
DTSTART;TZID=America/New_York:20241113T110000
DTEND;TZID=America/New_York:20241113T113000
DTSTAMP:20260422T140021
CREATED:20241112T165206Z
LAST-MODIFIED:20241112T165259Z
UID:10007258-1731495600-1731497400@www.portdiscovery.org
SUMMARY:Discovery Time
DESCRIPTION:Look\, listen and sing! Gather ’round\, friends. Join us as we sing songs and read stories and the whole family can enjoy. \nDue to scheduling\, programs are subject to change. Thank you for your understanding.
URL:https://www.portdiscovery.org/event/discovery-time-2-2/2024-11-13/
LOCATION:Port Discovery Children’s Museum\, 35 Market Place\, Baltimore\, MD\, 21202\, United States
CATEGORIES:3-5,6-10
END:VEVENT
BEGIN:VEVENT
DTSTART;TZID=America/New_York:20241113T113000
DTEND;TZID=America/New_York:20241113T120000
DTSTAMP:20260422T140021
CREATED:20240913T164328Z
LAST-MODIFIED:20241112T165118Z
UID:10006972-1731497400-1731499200@www.portdiscovery.org
SUMMARY:Pop-Up Puppets
DESCRIPTION:Stop inside our Playhouse exhibit for a hands-on imaginative activity where choose your own puppet to create a story\, starring you and your puppet!
URL:https://www.portdiscovery.org/event/pop-up-puppets-2/2024-11-13/
LOCATION:Port Discovery Children’s Museum\, 35 Market Place\, Baltimore\, MD\, 21202\, United States
CATEGORIES:Educational Activity,3-5,6-10,3-6
END:VEVENT
BEGIN:VEVENT
DTSTART;VALUE=DATE:20241114
DTEND;VALUE=DATE:20241115
DTSTAMP:20260422T140021
CREATED:20241112T164615Z
LAST-MODIFIED:20241129T150854Z
UID:10007241-1731542400-1731628799@www.portdiscovery.org
SUMMARY:Giving Plate
DESCRIPTION:Let your creativity shine as you design a giving plate inspired by the colorful world of nutrition! Using our poem handout as a guide\, participants will design their own plate by selecting foods that represent the different nutrients our bodies need. This is an engaging way to spark imagination\, learn about healthy food choices\, and create a beautiful\, personalized plate design all in one for you and your family. \nDue to scheduling\, programs are subject to change. Thank you for your understanding.
URL:https://www.portdiscovery.org/event/giving-plate/2024-11-14/
LOCATION:Port Discovery Children’s Museum\, 35 Market Place\, Baltimore\, MD\, 21202\, United States
CATEGORIES:Educational Activity,3-5,3-6
END:VEVENT
BEGIN:VEVENT
DTSTART;TZID=America/New_York:20241114T110000
DTEND;TZID=America/New_York:20241114T113000
DTSTAMP:20260422T140021
CREATED:20241112T165206Z
LAST-MODIFIED:20241112T165259Z
UID:10007267-1731582000-1731583800@www.portdiscovery.org
SUMMARY:Discovery Time
DESCRIPTION:Look\, listen and sing! Gather ’round\, friends. Join us as we sing songs and read stories and the whole family can enjoy. \nDue to scheduling\, programs are subject to change. Thank you for your understanding.
URL:https://www.portdiscovery.org/event/discovery-time-2-2/2024-11-14/
LOCATION:Port Discovery Children’s Museum\, 35 Market Place\, Baltimore\, MD\, 21202\, United States
CATEGORIES:3-5,6-10
END:VEVENT
BEGIN:VEVENT
DTSTART;TZID=America/New_York:20241114T113000
DTEND;TZID=America/New_York:20241114T120000
DTSTAMP:20260422T140021
CREATED:20240913T164328Z
LAST-MODIFIED:20241112T165118Z
UID:10006973-1731583800-1731585600@www.portdiscovery.org
SUMMARY:Pop-Up Puppets
DESCRIPTION:Stop inside our Playhouse exhibit for a hands-on imaginative activity where choose your own puppet to create a story\, starring you and your puppet!
URL:https://www.portdiscovery.org/event/pop-up-puppets-2/2024-11-14/
LOCATION:Port Discovery Children’s Museum\, 35 Market Place\, Baltimore\, MD\, 21202\, United States
CATEGORIES:Educational Activity,3-5,6-10,3-6
END:VEVENT
BEGIN:VEVENT
DTSTART;VALUE=DATE:20241115
DTEND;VALUE=DATE:20241116
DTSTAMP:20260422T140021
CREATED:20241112T164615Z
LAST-MODIFIED:20241129T150854Z
UID:10007242-1731628800-1731715199@www.portdiscovery.org
SUMMARY:Giving Plate
DESCRIPTION:Let your creativity shine as you design a giving plate inspired by the colorful world of nutrition! Using our poem handout as a guide\, participants will design their own plate by selecting foods that represent the different nutrients our bodies need. This is an engaging way to spark imagination\, learn about healthy food choices\, and create a beautiful\, personalized plate design all in one for you and your family. \nDue to scheduling\, programs are subject to change. Thank you for your understanding.
URL:https://www.portdiscovery.org/event/giving-plate/2024-11-15/
LOCATION:Port Discovery Children’s Museum\, 35 Market Place\, Baltimore\, MD\, 21202\, United States
CATEGORIES:Educational Activity,3-5,3-6
END:VEVENT
BEGIN:VEVENT
DTSTART;TZID=America/New_York:20241115T110000
DTEND;TZID=America/New_York:20241115T113000
DTSTAMP:20260422T140021
CREATED:20241112T165206Z
LAST-MODIFIED:20241112T165259Z
UID:10007259-1731668400-1731670200@www.portdiscovery.org
SUMMARY:Discovery Time
DESCRIPTION:Look\, listen and sing! Gather ’round\, friends. Join us as we sing songs and read stories and the whole family can enjoy. \nDue to scheduling\, programs are subject to change. Thank you for your understanding.
URL:https://www.portdiscovery.org/event/discovery-time-2-2/2024-11-15/
LOCATION:Port Discovery Children’s Museum\, 35 Market Place\, Baltimore\, MD\, 21202\, United States
CATEGORIES:3-5,6-10
END:VEVENT
BEGIN:VEVENT
DTSTART;TZID=America/New_York:20241115T143000
DTEND;TZID=America/New_York:20241115T150000
DTSTAMP:20260422T140021
CREATED:20240913T164506Z
LAST-MODIFIED:20240913T164506Z
UID:10006985-1731681000-1731682800@www.portdiscovery.org
SUMMARY:Teddy Talks
DESCRIPTION:Join resident puppet Ted “Theodore” Bearson and his friend Wally Walnuts as they talk about empathy and how it impacts the world around you. \nDue to scheduling\, programs are subject to change. Thank you for your understanding.
URL:https://www.portdiscovery.org/event/teddy-talks-15/2024-11-15/
LOCATION:Port Discovery Children’s Museum\, 35 Market Place\, Baltimore\, MD\, 21202\, United States
CATEGORIES:Educational Activity,0-2,0-3,3-5
END:VEVENT
BEGIN:VEVENT
DTSTART;VALUE=DATE:20241116
DTEND;VALUE=DATE:20241117
DTSTAMP:20260422T140021
CREATED:20241112T164615Z
LAST-MODIFIED:20241129T150854Z
UID:10007243-1731715200-1731801599@www.portdiscovery.org
SUMMARY:Giving Plate
DESCRIPTION:Let your creativity shine as you design a giving plate inspired by the colorful world of nutrition! Using our poem handout as a guide\, participants will design their own plate by selecting foods that represent the different nutrients our bodies need. This is an engaging way to spark imagination\, learn about healthy food choices\, and create a beautiful\, personalized plate design all in one for you and your family. \nDue to scheduling\, programs are subject to change. Thank you for your understanding.
URL:https://www.portdiscovery.org/event/giving-plate/2024-11-16/
LOCATION:Port Discovery Children’s Museum\, 35 Market Place\, Baltimore\, MD\, 21202\, United States
CATEGORIES:Educational Activity,3-5,3-6
END:VEVENT
BEGIN:VEVENT
DTSTART;VALUE=DATE:20241117
DTEND;VALUE=DATE:20241118
DTSTAMP:20260422T140021
CREATED:20241112T164615Z
LAST-MODIFIED:20241129T150854Z
UID:10007244-1731801600-1731887999@www.portdiscovery.org
SUMMARY:Giving Plate
DESCRIPTION:Let your creativity shine as you design a giving plate inspired by the colorful world of nutrition! Using our poem handout as a guide\, participants will design their own plate by selecting foods that represent the different nutrients our bodies need. This is an engaging way to spark imagination\, learn about healthy food choices\, and create a beautiful\, personalized plate design all in one for you and your family. \nDue to scheduling\, programs are subject to change. Thank you for your understanding.
URL:https://www.portdiscovery.org/event/giving-plate/2024-11-17/
LOCATION:Port Discovery Children’s Museum\, 35 Market Place\, Baltimore\, MD\, 21202\, United States
CATEGORIES:Educational Activity,3-5,3-6
END:VEVENT
BEGIN:VEVENT
DTSTART;VALUE=DATE:20241120
DTEND;VALUE=DATE:20241121
DTSTAMP:20260422T140021
CREATED:20241112T164615Z
LAST-MODIFIED:20241129T150854Z
UID:10007245-1732060800-1732147199@www.portdiscovery.org
SUMMARY:Giving Plate
DESCRIPTION:Let your creativity shine as you design a giving plate inspired by the colorful world of nutrition! Using our poem handout as a guide\, participants will design their own plate by selecting foods that represent the different nutrients our bodies need. This is an engaging way to spark imagination\, learn about healthy food choices\, and create a beautiful\, personalized plate design all in one for you and your family. \nDue to scheduling\, programs are subject to change. Thank you for your understanding.
URL:https://www.portdiscovery.org/event/giving-plate/2024-11-20/
LOCATION:Port Discovery Children’s Museum\, 35 Market Place\, Baltimore\, MD\, 21202\, United States
CATEGORIES:Educational Activity,3-5,3-6
END:VEVENT
BEGIN:VEVENT
DTSTART;TZID=America/New_York:20241120T110000
DTEND;TZID=America/New_York:20241120T113000
DTSTAMP:20260422T140021
CREATED:20241112T165206Z
LAST-MODIFIED:20241112T165259Z
UID:10007261-1732100400-1732102200@www.portdiscovery.org
SUMMARY:Discovery Time
DESCRIPTION:Look\, listen and sing! Gather ’round\, friends. Join us as we sing songs and read stories and the whole family can enjoy. \nDue to scheduling\, programs are subject to change. Thank you for your understanding.
URL:https://www.portdiscovery.org/event/discovery-time-2-2/2024-11-20/
LOCATION:Port Discovery Children’s Museum\, 35 Market Place\, Baltimore\, MD\, 21202\, United States
CATEGORIES:3-5,6-10
END:VEVENT
BEGIN:VEVENT
DTSTART;TZID=America/New_York:20241120T113000
DTEND;TZID=America/New_York:20241120T120000
DTSTAMP:20260422T140021
CREATED:20240913T164328Z
LAST-MODIFIED:20241112T165118Z
UID:10006974-1732102200-1732104000@www.portdiscovery.org
SUMMARY:Pop-Up Puppets
DESCRIPTION:Stop inside our Playhouse exhibit for a hands-on imaginative activity where choose your own puppet to create a story\, starring you and your puppet!
URL:https://www.portdiscovery.org/event/pop-up-puppets-2/2024-11-20/
LOCATION:Port Discovery Children’s Museum\, 35 Market Place\, Baltimore\, MD\, 21202\, United States
CATEGORIES:Educational Activity,3-5,6-10,3-6
END:VEVENT
BEGIN:VEVENT
DTSTART;VALUE=DATE:20241121
DTEND;VALUE=DATE:20241122
DTSTAMP:20260422T140021
CREATED:20241112T164615Z
LAST-MODIFIED:20241129T150854Z
UID:10007246-1732147200-1732233599@www.portdiscovery.org
SUMMARY:Giving Plate
DESCRIPTION:Let your creativity shine as you design a giving plate inspired by the colorful world of nutrition! Using our poem handout as a guide\, participants will design their own plate by selecting foods that represent the different nutrients our bodies need. This is an engaging way to spark imagination\, learn about healthy food choices\, and create a beautiful\, personalized plate design all in one for you and your family. \nDue to scheduling\, programs are subject to change. Thank you for your understanding.
URL:https://www.portdiscovery.org/event/giving-plate/2024-11-21/
LOCATION:Port Discovery Children’s Museum\, 35 Market Place\, Baltimore\, MD\, 21202\, United States
CATEGORIES:Educational Activity,3-5,3-6
END:VEVENT
BEGIN:VEVENT
DTSTART;TZID=America/New_York:20241121T110000
DTEND;TZID=America/New_York:20241121T113000
DTSTAMP:20260422T140021
CREATED:20241112T165206Z
LAST-MODIFIED:20241112T165259Z
UID:10007268-1732186800-1732188600@www.portdiscovery.org
SUMMARY:Discovery Time
DESCRIPTION:Look\, listen and sing! Gather ’round\, friends. Join us as we sing songs and read stories and the whole family can enjoy. \nDue to scheduling\, programs are subject to change. Thank you for your understanding.
URL:https://www.portdiscovery.org/event/discovery-time-2-2/2024-11-21/
LOCATION:Port Discovery Children’s Museum\, 35 Market Place\, Baltimore\, MD\, 21202\, United States
CATEGORIES:3-5,6-10
END:VEVENT
BEGIN:VEVENT
DTSTART;TZID=America/New_York:20241121T113000
DTEND;TZID=America/New_York:20241121T120000
DTSTAMP:20260422T140021
CREATED:20240913T164328Z
LAST-MODIFIED:20241112T165118Z
UID:10006975-1732188600-1732190400@www.portdiscovery.org
SUMMARY:Pop-Up Puppets
DESCRIPTION:Stop inside our Playhouse exhibit for a hands-on imaginative activity where choose your own puppet to create a story\, starring you and your puppet!
URL:https://www.portdiscovery.org/event/pop-up-puppets-2/2024-11-21/
LOCATION:Port Discovery Children’s Museum\, 35 Market Place\, Baltimore\, MD\, 21202\, United States
CATEGORIES:Educational Activity,3-5,6-10,3-6
END:VEVENT
BEGIN:VEVENT
DTSTART;VALUE=DATE:20241122
DTEND;VALUE=DATE:20241123
DTSTAMP:20260422T140021
CREATED:20241112T164615Z
LAST-MODIFIED:20241129T150854Z
UID:10007247-1732233600-1732319999@www.portdiscovery.org
SUMMARY:Giving Plate
DESCRIPTION:Let your creativity shine as you design a giving plate inspired by the colorful world of nutrition! Using our poem handout as a guide\, participants will design their own plate by selecting foods that represent the different nutrients our bodies need. This is an engaging way to spark imagination\, learn about healthy food choices\, and create a beautiful\, personalized plate design all in one for you and your family. \nDue to scheduling\, programs are subject to change. Thank you for your understanding.
URL:https://www.portdiscovery.org/event/giving-plate/2024-11-22/
LOCATION:Port Discovery Children’s Museum\, 35 Market Place\, Baltimore\, MD\, 21202\, United States
CATEGORIES:Educational Activity,3-5,3-6
END:VEVENT
BEGIN:VEVENT
DTSTART;TZID=America/New_York:20241122T110000
DTEND;TZID=America/New_York:20241122T113000
DTSTAMP:20260422T140021
CREATED:20241112T165206Z
LAST-MODIFIED:20241112T165259Z
UID:10007262-1732273200-1732275000@www.portdiscovery.org
SUMMARY:Discovery Time
DESCRIPTION:Look\, listen and sing! Gather ’round\, friends. Join us as we sing songs and read stories and the whole family can enjoy. \nDue to scheduling\, programs are subject to change. Thank you for your understanding.
URL:https://www.portdiscovery.org/event/discovery-time-2-2/2024-11-22/
LOCATION:Port Discovery Children’s Museum\, 35 Market Place\, Baltimore\, MD\, 21202\, United States
CATEGORIES:3-5,6-10
END:VEVENT
BEGIN:VEVENT
DTSTART;TZID=America/New_York:20241122T143000
DTEND;TZID=America/New_York:20241122T150000
DTSTAMP:20260422T140021
CREATED:20240913T164506Z
LAST-MODIFIED:20240913T164506Z
UID:10006986-1732285800-1732287600@www.portdiscovery.org
SUMMARY:Teddy Talks
DESCRIPTION:Join resident puppet Ted “Theodore” Bearson and his friend Wally Walnuts as they talk about empathy and how it impacts the world around you. \nDue to scheduling\, programs are subject to change. Thank you for your understanding.
URL:https://www.portdiscovery.org/event/teddy-talks-15/2024-11-22/
LOCATION:Port Discovery Children’s Museum\, 35 Market Place\, Baltimore\, MD\, 21202\, United States
CATEGORIES:Educational Activity,0-2,0-3,3-5
END:VEVENT
BEGIN:VEVENT
DTSTART;VALUE=DATE:20241123
DTEND;VALUE=DATE:20241124
DTSTAMP:20260422T140021
CREATED:20241112T164615Z
LAST-MODIFIED:20241129T150854Z
UID:10007248-1732320000-1732406399@www.portdiscovery.org
SUMMARY:Giving Plate
DESCRIPTION:Let your creativity shine as you design a giving plate inspired by the colorful world of nutrition! Using our poem handout as a guide\, participants will design their own plate by selecting foods that represent the different nutrients our bodies need. This is an engaging way to spark imagination\, learn about healthy food choices\, and create a beautiful\, personalized plate design all in one for you and your family. \nDue to scheduling\, programs are subject to change. Thank you for your understanding.
URL:https://www.portdiscovery.org/event/giving-plate/2024-11-23/
LOCATION:Port Discovery Children’s Museum\, 35 Market Place\, Baltimore\, MD\, 21202\, United States
CATEGORIES:Educational Activity,3-5,3-6
END:VEVENT
BEGIN:VEVENT
DTSTART;TZID=America/New_York:20241123T110000
DTEND;TZID=America/New_York:20241123T113000
DTSTAMP:20260422T140021
CREATED:20241112T165206Z
LAST-MODIFIED:20241112T165259Z
UID:10007263-1732359600-1732361400@www.portdiscovery.org
SUMMARY:Discovery Time
DESCRIPTION:Look\, listen and sing! Gather ’round\, friends. Join us as we sing songs and read stories and the whole family can enjoy. \nDue to scheduling\, programs are subject to change. Thank you for your understanding.
URL:https://www.portdiscovery.org/event/discovery-time-2-2/2024-11-23/
LOCATION:Port Discovery Children’s Museum\, 35 Market Place\, Baltimore\, MD\, 21202\, United States
CATEGORIES:3-5,6-10
END:VEVENT
BEGIN:VEVENT
DTSTART;VALUE=DATE:20241124
DTEND;VALUE=DATE:20241125
DTSTAMP:20260422T140021
CREATED:20241112T164615Z
LAST-MODIFIED:20241129T150854Z
UID:10007249-1732406400-1732492799@www.portdiscovery.org
SUMMARY:Giving Plate
DESCRIPTION:Let your creativity shine as you design a giving plate inspired by the colorful world of nutrition! Using our poem handout as a guide\, participants will design their own plate by selecting foods that represent the different nutrients our bodies need. This is an engaging way to spark imagination\, learn about healthy food choices\, and create a beautiful\, personalized plate design all in one for you and your family. \nDue to scheduling\, programs are subject to change. Thank you for your understanding.
URL:https://www.portdiscovery.org/event/giving-plate/2024-11-24/
LOCATION:Port Discovery Children’s Museum\, 35 Market Place\, Baltimore\, MD\, 21202\, United States
CATEGORIES:Educational Activity,3-5,3-6
END:VEVENT
BEGIN:VEVENT
DTSTART;VALUE=DATE:20241127
DTEND;VALUE=DATE:20241128
DTSTAMP:20260422T140021
CREATED:20241112T164615Z
LAST-MODIFIED:20241129T150854Z
UID:10007250-1732665600-1732751999@www.portdiscovery.org
SUMMARY:Giving Plate
DESCRIPTION:Let your creativity shine as you design a giving plate inspired by the colorful world of nutrition! Using our poem handout as a guide\, participants will design their own plate by selecting foods that represent the different nutrients our bodies need. This is an engaging way to spark imagination\, learn about healthy food choices\, and create a beautiful\, personalized plate design all in one for you and your family. \nDue to scheduling\, programs are subject to change. Thank you for your understanding.
URL:https://www.portdiscovery.org/event/giving-plate/2024-11-27/
LOCATION:Port Discovery Children’s Museum\, 35 Market Place\, Baltimore\, MD\, 21202\, United States
CATEGORIES:Educational Activity,3-5,3-6
END:VEVENT
BEGIN:VEVENT
DTSTART;TZID=America/New_York:20241127T110000
DTEND;TZID=America/New_York:20241127T113000
DTSTAMP:20260422T140021
CREATED:20241112T165206Z
LAST-MODIFIED:20241112T165259Z
UID:10007264-1732705200-1732707000@www.portdiscovery.org
SUMMARY:Discovery Time
DESCRIPTION:Look\, listen and sing! Gather ’round\, friends. Join us as we sing songs and read stories and the whole family can enjoy. \nDue to scheduling\, programs are subject to change. Thank you for your understanding.
URL:https://www.portdiscovery.org/event/discovery-time-2-2/2024-11-27/
LOCATION:Port Discovery Children’s Museum\, 35 Market Place\, Baltimore\, MD\, 21202\, United States
CATEGORIES:3-5,6-10
END:VEVENT
BEGIN:VEVENT
DTSTART;TZID=America/New_York:20241127T113000
DTEND;TZID=America/New_York:20241127T120000
DTSTAMP:20260422T140021
CREATED:20240913T164328Z
LAST-MODIFIED:20241112T165118Z
UID:10006976-1732707000-1732708800@www.portdiscovery.org
SUMMARY:Pop-Up Puppets
DESCRIPTION:Stop inside our Playhouse exhibit for a hands-on imaginative activity where choose your own puppet to create a story\, starring you and your puppet!
URL:https://www.portdiscovery.org/event/pop-up-puppets-2/2024-11-27/
LOCATION:Port Discovery Children’s Museum\, 35 Market Place\, Baltimore\, MD\, 21202\, United States
CATEGORIES:Educational Activity,3-5,6-10,3-6
END:VEVENT
BEGIN:VEVENT
DTSTART;VALUE=DATE:20241129
DTEND;VALUE=DATE:20241130
DTSTAMP:20260422T140021
CREATED:20241129T151101Z
LAST-MODIFIED:20241129T165705Z
UID:10007298-1732838400-1732924799@www.portdiscovery.org
SUMMARY:Pinch Pots
DESCRIPTION:Visit the Art Cove to participate in a hands-on pottery activity! Kids will learn about the cultural significance of pottery and create their own pinch pots using learned techniques through a guided activity. This fun\, interactive program encourages creativity while connecting kids to traditional crafts and storytelling. \nDue to scheduling\, programs are subject to change. Thank you for your understanding.
URL:https://www.portdiscovery.org/event/pinch-pots/
LOCATION:Port Discovery Children’s Museum\, 35 Market Place\, Baltimore\, MD\, 21202\, United States
CATEGORIES:3-5,3-6
END:VEVENT
BEGIN:VEVENT
DTSTART;TZID=America/New_York:20241129T110000
DTEND;TZID=America/New_York:20241129T113000
DTSTAMP:20260422T140021
CREATED:20241112T165206Z
LAST-MODIFIED:20241112T165259Z
UID:10006958-1732878000-1732879800@www.portdiscovery.org
SUMMARY:Discovery Time
DESCRIPTION:Look\, listen and sing! Gather ’round\, friends. Join us as we sing songs and read stories and the whole family can enjoy. \nDue to scheduling\, programs are subject to change. Thank you for your understanding.
URL:https://www.portdiscovery.org/event/discovery-time-2-2/2024-11-29/
LOCATION:Port Discovery Children’s Museum\, 35 Market Place\, Baltimore\, MD\, 21202\, United States
CATEGORIES:3-5,6-10
END:VEVENT
END:VCALENDAR