BEGIN:VCALENDAR
VERSION:2.0
PRODID:-//Port Discovery Children&#039;s Museum - ECPv6.15.20//NONSGML v1.0//EN
CALSCALE:GREGORIAN
METHOD:PUBLISH
X-WR-CALNAME:Port Discovery Children&#039;s Museum
X-ORIGINAL-URL:https://www.portdiscovery.org
X-WR-CALDESC:Events for Port Discovery Children&#039;s Museum
REFRESH-INTERVAL;VALUE=DURATION:PT1H
X-Robots-Tag:noindex
X-PUBLISHED-TTL:PT1H
BEGIN:VTIMEZONE
TZID:America/New_York
BEGIN:DAYLIGHT
TZOFFSETFROM:-0500
TZOFFSETTO:-0400
TZNAME:EDT
DTSTART:20250309T070000
END:DAYLIGHT
BEGIN:STANDARD
TZOFFSETFROM:-0400
TZOFFSETTO:-0500
TZNAME:EST
DTSTART:20251102T060000
END:STANDARD
BEGIN:DAYLIGHT
TZOFFSETFROM:-0500
TZOFFSETTO:-0400
TZNAME:EDT
DTSTART:20260308T070000
END:DAYLIGHT
BEGIN:STANDARD
TZOFFSETFROM:-0400
TZOFFSETTO:-0500
TZNAME:EST
DTSTART:20261101T060000
END:STANDARD
BEGIN:DAYLIGHT
TZOFFSETFROM:-0500
TZOFFSETTO:-0400
TZNAME:EDT
DTSTART:20270314T070000
END:DAYLIGHT
BEGIN:STANDARD
TZOFFSETFROM:-0400
TZOFFSETTO:-0500
TZNAME:EST
DTSTART:20271107T060000
END:STANDARD
END:VTIMEZONE
BEGIN:VEVENT
DTSTART;VALUE=DATE:20260411
DTEND;VALUE=DATE:20260413
DTSTAMP:20260420T200925
CREATED:20260121T183412Z
LAST-MODIFIED:20260219T171607Z
UID:10011246-1775865600-1776038399@www.portdiscovery.org
SUMMARY:LiteraSea Weekend
DESCRIPTION:Embark on a weekend of literacy and fun at LiterSea Weekend at Port Discovery on April 11 & 12! Enjoy themed storytimes\, hands-on activities\, and play experiences designed to inspire a love for reading. It’s the perfect adventure for kids and families to explore the world of books!  \nPlease stay tuned for updates to programming for this event! Thank you for your understanding. \n\nBringing fun\, opportunities\, education\, and information to families with young children in Baltimore.
URL:https://www.portdiscovery.org/event/literasea-weekend-2/
LOCATION:Port Discovery Children’s Museum\, 35 Market Place\, Baltimore\, MD\, 21202\, United States
CATEGORIES:Special Events,Educational Activity,6-10,3-6
ATTACH;FMTTYPE=image/jpeg:https://www.portdiscovery.org/wp-content/uploads/2025/02/Port-Discovery-Pajama-Show-Dec-22nd-2019DSC_2489-Coyle-Studios.jpg
END:VEVENT
BEGIN:VEVENT
DTSTART;TZID=America/New_York:20260411T110000
DTEND;TZID=America/New_York:20260411T113000
DTSTAMP:20260420T200925
CREATED:20260210T185733Z
LAST-MODIFIED:20260303T214700Z
UID:10011455-1775905200-1775907000@www.portdiscovery.org
SUMMARY:Peake’s Space Adventure
DESCRIPTION:Join Peake as he rockets into outer space in this interactive puppet program. \nDue to scheduling\, programs are subject to change. Thank you for your understanding.
URL:https://www.portdiscovery.org/event/peake-the-pup-pets-garden-2/2026-04-11/1/
LOCATION:Port Discovery Children’s Museum\, 35 Market Place\, Baltimore\, MD\, 21202\, United States
CATEGORIES:Educational Activity,3-5,6-10
END:VEVENT
BEGIN:VEVENT
DTSTART;TZID=America/New_York:20260411T130000
DTEND;TZID=America/New_York:20260411T133000
DTSTAMP:20260420T200925
CREATED:20260210T185733Z
LAST-MODIFIED:20260303T214700Z
UID:10011462-1775912400-1775914200@www.portdiscovery.org
SUMMARY:Peake’s Space Adventure
DESCRIPTION:Join Peake as he rockets into outer space in this interactive puppet program. \nDue to scheduling\, programs are subject to change. Thank you for your understanding.
URL:https://www.portdiscovery.org/event/peake-the-pup-pets-garden-2/2026-04-11/2/
LOCATION:Port Discovery Children’s Museum\, 35 Market Place\, Baltimore\, MD\, 21202\, United States
CATEGORIES:Educational Activity,3-5,6-10
END:VEVENT
BEGIN:VEVENT
DTSTART;TZID=America/New_York:20260411T150000
DTEND;TZID=America/New_York:20260411T153000
DTSTAMP:20260420T200925
CREATED:20260213T180444Z
LAST-MODIFIED:20260213T180444Z
UID:10011618-1775919600-1775921400@www.portdiscovery.org
SUMMARY:Out of the Cove
DESCRIPTION:Get creative and crafty outside of the Art Cove with one of our learning specialists in a hands-on art project out on the museum floor. Become inspired with an immersive art piece! \nDue to scheduling\, all programs are subject to change or cancellations. Thank you for your understanding.
URL:https://www.portdiscovery.org/event/out-of-the-cove-8/2026-04-11/
LOCATION:Port Discovery Children’s Museum\, 35 Market Place\, Baltimore\, MD\, 21202\, United States
CATEGORIES:Educational Activity,0-3,3-5,6-10
END:VEVENT
END:VCALENDAR