BEGIN:VCALENDAR
VERSION:2.0
PRODID:-//Port Discovery Children&#039;s Museum - ECPv6.15.20//NONSGML v1.0//EN
CALSCALE:GREGORIAN
METHOD:PUBLISH
X-WR-CALNAME:Port Discovery Children&#039;s Museum
X-ORIGINAL-URL:https://www.portdiscovery.org
X-WR-CALDESC:Events for Port Discovery Children&#039;s Museum
REFRESH-INTERVAL;VALUE=DURATION:PT1H
X-Robots-Tag:noindex
X-PUBLISHED-TTL:PT1H
BEGIN:VTIMEZONE
TZID:America/New_York
BEGIN:DAYLIGHT
TZOFFSETFROM:-0500
TZOFFSETTO:-0400
TZNAME:EDT
DTSTART:20240310T070000
END:DAYLIGHT
BEGIN:STANDARD
TZOFFSETFROM:-0400
TZOFFSETTO:-0500
TZNAME:EST
DTSTART:20241103T060000
END:STANDARD
BEGIN:DAYLIGHT
TZOFFSETFROM:-0500
TZOFFSETTO:-0400
TZNAME:EDT
DTSTART:20250309T070000
END:DAYLIGHT
BEGIN:STANDARD
TZOFFSETFROM:-0400
TZOFFSETTO:-0500
TZNAME:EST
DTSTART:20251102T060000
END:STANDARD
BEGIN:DAYLIGHT
TZOFFSETFROM:-0500
TZOFFSETTO:-0400
TZNAME:EDT
DTSTART:20260308T070000
END:DAYLIGHT
BEGIN:STANDARD
TZOFFSETFROM:-0400
TZOFFSETTO:-0500
TZNAME:EST
DTSTART:20261101T060000
END:STANDARD
END:VTIMEZONE
BEGIN:VEVENT
DTSTART;TZID=America/New_York:20250825T120000
DTEND;TZID=America/New_York:20250825T123000
DTSTAMP:20260422T005306
CREATED:20250701T205933Z
LAST-MODIFIED:20250808T222612Z
UID:10009409-1756123200-1756125000@www.portdiscovery.org
SUMMARY:Puppet FUNdamentals
DESCRIPTION:Stop inside our Playhouse exhibit for a hands-on imaginative activity where choose your own puppet to create a story\, starring you and your puppet! \nDue to scheduling\, all programs are subject to change or cancellations. Thank you for your understanding.
URL:https://www.portdiscovery.org/event/puppet-fundamentals-8/2025-08-25/
LOCATION:Port Discovery Children’s Museum\, 35 Market Place\, Baltimore\, MD\, 21202\, United States
CATEGORIES:Educational Activity,3-5,6-10,3-6
END:VEVENT
BEGIN:VEVENT
DTSTART;TZID=America/New_York:20250825T130000
DTEND;TZID=America/New_York:20250825T133000
DTSTAMP:20260422T005306
CREATED:20250701T221144Z
LAST-MODIFIED:20250808T223128Z
UID:10009538-1756126800-1756128600@www.portdiscovery.org
SUMMARY:Tech & Tinker
DESCRIPTION:Tinker in this hands-on activity focused on problem solving and curiosity through STEM Learning\, where you can participate in a screen-free exploration of coding\, robotics\, and creative design. \nDue to scheduling\, all programs are subject to change or cancellations. Thank you for your understanding.
URL:https://www.portdiscovery.org/event/tech-tinker-13/2025-08-25/
LOCATION:Port Discovery Children’s Museum\, 35 Market Place\, Baltimore\, MD\, 21202\, United States
CATEGORIES:Educational Activity,3-5,6-10,3-6
END:VEVENT
BEGIN:VEVENT
DTSTART;TZID=America/New_York:20250826T140000
DTEND;TZID=America/New_York:20250826T143000
DTSTAMP:20260422T005306
CREATED:20250701T221144Z
LAST-MODIFIED:20250808T223128Z
UID:10009539-1756216800-1756218600@www.portdiscovery.org
SUMMARY:Tech & Tinker
DESCRIPTION:Tinker in this hands-on activity focused on problem solving and curiosity through STEM Learning\, where you can participate in a screen-free exploration of coding\, robotics\, and creative design. \nDue to scheduling\, all programs are subject to change or cancellations. Thank you for your understanding.
URL:https://www.portdiscovery.org/event/tech-tinker-13/2025-08-26/
LOCATION:Port Discovery Children’s Museum\, 35 Market Place\, Baltimore\, MD\, 21202\, United States
CATEGORIES:Educational Activity,3-5,6-10,3-6
END:VEVENT
BEGIN:VEVENT
DTSTART;TZID=America/New_York:20250826T150000
DTEND;TZID=America/New_York:20250826T153000
DTSTAMP:20260422T005306
CREATED:20250701T222318Z
LAST-MODIFIED:20250808T230224Z
UID:10009588-1756220400-1756222200@www.portdiscovery.org
SUMMARY:Teddy Talks
DESCRIPTION:Join resident puppet Ted “Theodore” Bearson and his friend Wally Walnuts as they talk about empathy and how it impacts the world around you. \nDue to scheduling\, all programs are subject to change or cancellations. Thank you for your understanding.
URL:https://www.portdiscovery.org/event/teddy-talks-19/2025-08-26/
LOCATION:Port Discovery Children’s Museum\, 35 Market Place\, Baltimore\, MD\, 21202\, United States
CATEGORIES:Educational Activity,0-2,0-3,3-5
END:VEVENT
BEGIN:VEVENT
DTSTART;TZID=America/New_York:20250827T120000
DTEND;TZID=America/New_York:20250827T123000
DTSTAMP:20260422T005306
CREATED:20250701T205933Z
LAST-MODIFIED:20250808T222612Z
UID:10009410-1756296000-1756297800@www.portdiscovery.org
SUMMARY:Puppet FUNdamentals
DESCRIPTION:Stop inside our Playhouse exhibit for a hands-on imaginative activity where choose your own puppet to create a story\, starring you and your puppet! \nDue to scheduling\, all programs are subject to change or cancellations. Thank you for your understanding.
URL:https://www.portdiscovery.org/event/puppet-fundamentals-8/2025-08-27/
LOCATION:Port Discovery Children’s Museum\, 35 Market Place\, Baltimore\, MD\, 21202\, United States
CATEGORIES:Educational Activity,3-5,6-10,3-6
END:VEVENT
BEGIN:VEVENT
DTSTART;TZID=America/New_York:20250827T140000
DTEND;TZID=America/New_York:20250827T143000
DTSTAMP:20260422T005306
CREATED:20250701T222047Z
LAST-MODIFIED:20250808T225932Z
UID:10009571-1756303200-1756305000@www.portdiscovery.org
SUMMARY:We-Mix: An Electronic Music Jam Session
DESCRIPTION:Color\, sound\, and technology combine as you play with devices that can make different instrument sounds. Jam with DJ Wavey Jones and add your own instrumental song to our kid playlist. \nDue to scheduling\, all programs are subject to change or cancellations. Thank you for your understanding.
URL:https://www.portdiscovery.org/event/we-mix-an-electronic-music-jam-session-3/2025-08-27/
LOCATION:Port Discovery Children’s Museum\, 35 Market Place\, Baltimore\, MD\, 21202\, United States
CATEGORIES:Educational Activity,3-5,6-10
END:VEVENT
BEGIN:VEVENT
DTSTART;TZID=America/New_York:20250828T120000
DTEND;TZID=America/New_York:20250828T123000
DTSTAMP:20260422T005306
CREATED:20250701T221144Z
LAST-MODIFIED:20250808T223128Z
UID:10009540-1756382400-1756384200@www.portdiscovery.org
SUMMARY:Tech & Tinker
DESCRIPTION:Tinker in this hands-on activity focused on problem solving and curiosity through STEM Learning\, where you can participate in a screen-free exploration of coding\, robotics\, and creative design. \nDue to scheduling\, all programs are subject to change or cancellations. Thank you for your understanding.
URL:https://www.portdiscovery.org/event/tech-tinker-13/2025-08-28/
LOCATION:Port Discovery Children’s Museum\, 35 Market Place\, Baltimore\, MD\, 21202\, United States
CATEGORIES:Educational Activity,3-5,6-10,3-6
END:VEVENT
BEGIN:VEVENT
DTSTART;TZID=America/New_York:20250828T140000
DTEND;TZID=America/New_York:20250828T143000
DTSTAMP:20260422T005306
CREATED:20250701T212616Z
LAST-MODIFIED:20250808T223548Z
UID:10009467-1756389600-1756391400@www.portdiscovery.org
SUMMARY:Peake the Pup-Pet & The Dog Days of Summer
DESCRIPTION:Join Peake\, Port Discovery’s puppet pet dog\, in a summertime adventure where he gets to meet some friends who help him learn what it the phrase “dog days of summer” really means. \nDue to scheduling\, all programs are subject to change or cancellations. Thank you for your understanding.
URL:https://www.portdiscovery.org/event/peake-the-pup-pet-the-dog-days-of-summer-2/2025-08-28/
LOCATION:Port Discovery Children’s Museum\, 35 Market Place\, Baltimore\, MD\, 21202\, United States
CATEGORIES:Educational Activity,3-5,6-10
END:VEVENT
BEGIN:VEVENT
DTSTART;TZID=America/New_York:20250828T140000
DTEND;TZID=America/New_York:20250828T143000
DTSTAMP:20260422T005306
CREATED:20250701T213255Z
LAST-MODIFIED:20250808T225241Z
UID:10009485-1756389600-1756391400@www.portdiscovery.org
SUMMARY:Imagine That!
DESCRIPTION:Stop inside our Playhouse exhibit for a hands-on activity focused on imaginative play through an interactive improvisation game where you create your own character in the exhibit\, led by one of our learning specialists. \nDue to scheduling\, all programs are subject to change or cancellations. Thank you for your understanding.
URL:https://www.portdiscovery.org/event/imagine-that-5/2025-08-28/
LOCATION:Port Discovery Children’s Museum\, 35 Market Place\, Baltimore\, MD\, 21202\, United States
CATEGORIES:Educational Activity,3-5,6-10,3-6
END:VEVENT
BEGIN:VEVENT
DTSTART;TZID=America/New_York:20250829T120000
DTEND;TZID=America/New_York:20250829T123000
DTSTAMP:20260422T005306
CREATED:20250701T205933Z
LAST-MODIFIED:20250808T222612Z
UID:10009411-1756468800-1756470600@www.portdiscovery.org
SUMMARY:Puppet FUNdamentals
DESCRIPTION:Stop inside our Playhouse exhibit for a hands-on imaginative activity where choose your own puppet to create a story\, starring you and your puppet! \nDue to scheduling\, all programs are subject to change or cancellations. Thank you for your understanding.
URL:https://www.portdiscovery.org/event/puppet-fundamentals-8/2025-08-29/
LOCATION:Port Discovery Children’s Museum\, 35 Market Place\, Baltimore\, MD\, 21202\, United States
CATEGORIES:Educational Activity,3-5,6-10,3-6
END:VEVENT
BEGIN:VEVENT
DTSTART;TZID=America/New_York:20250829T130000
DTEND;TZID=America/New_York:20250829T133000
DTSTAMP:20260422T005306
CREATED:20250701T213255Z
LAST-MODIFIED:20250808T225241Z
UID:10009486-1756472400-1756474200@www.portdiscovery.org
SUMMARY:Imagine That!
DESCRIPTION:Stop inside our Playhouse exhibit for a hands-on activity focused on imaginative play through an interactive improvisation game where you create your own character in the exhibit\, led by one of our learning specialists. \nDue to scheduling\, all programs are subject to change or cancellations. Thank you for your understanding.
URL:https://www.portdiscovery.org/event/imagine-that-5/2025-08-29/
LOCATION:Port Discovery Children’s Museum\, 35 Market Place\, Baltimore\, MD\, 21202\, United States
CATEGORIES:Educational Activity,3-5,6-10,3-6
END:VEVENT
BEGIN:VEVENT
DTSTART;TZID=America/New_York:20250830T140000
DTEND;TZID=America/New_York:20250830T143000
DTSTAMP:20260422T005306
CREATED:20250701T221144Z
LAST-MODIFIED:20250808T223128Z
UID:10009542-1756562400-1756564200@www.portdiscovery.org
SUMMARY:Tech & Tinker
DESCRIPTION:Tinker in this hands-on activity focused on problem solving and curiosity through STEM Learning\, where you can participate in a screen-free exploration of coding\, robotics\, and creative design. \nDue to scheduling\, all programs are subject to change or cancellations. Thank you for your understanding.
URL:https://www.portdiscovery.org/event/tech-tinker-13/2025-08-30/
LOCATION:Port Discovery Children’s Museum\, 35 Market Place\, Baltimore\, MD\, 21202\, United States
CATEGORIES:Educational Activity,3-5,6-10,3-6
END:VEVENT
BEGIN:VEVENT
DTSTART;TZID=America/New_York:20250830T150000
DTEND;TZID=America/New_York:20250830T153000
DTSTAMP:20260422T005306
CREATED:20250701T213629Z
LAST-MODIFIED:20250808T231200Z
UID:10009504-1756566000-1756567800@www.portdiscovery.org
SUMMARY:Out of the Cove
DESCRIPTION:Get creative and crafty outside of the Art Cove with one of our learning specialists in a hands-on art project out on the museum floor. Become inspired with an immersive art piece! \nDue to scheduling\, all programs are subject to change or cancellations. Thank you for your understanding.
URL:https://www.portdiscovery.org/event/out-of-the-cove-3/2025-08-30/
LOCATION:Port Discovery Children’s Museum\, 35 Market Place\, Baltimore\, MD\, 21202\, United States
CATEGORIES:Educational Activity,0-3,3-5,6-10
END:VEVENT
BEGIN:VEVENT
DTSTART;TZID=America/New_York:20250830T150000
DTEND;TZID=America/New_York:20250830T153000
DTSTAMP:20260422T005306
CREATED:20250701T222522Z
LAST-MODIFIED:20250808T230434Z
UID:10009597-1756566000-1756567800@www.portdiscovery.org
SUMMARY:Dance Party
DESCRIPTION:Enter the Playhouse and join a dance party with seasonal music provided by either our resident musician or in-house DJ. Featuring musical instruments and props to get kids and adults moving! \nDue to scheduling\, all programs are subject to change or cancellations. Thank you for your understanding.
URL:https://www.portdiscovery.org/event/dance-party-4/
LOCATION:Port Discovery Children’s Museum\, 35 Market Place\, Baltimore\, MD\, 21202\, United States
CATEGORIES:Educational Activity,0-2,0-3,3-5,6-10,3-6
END:VEVENT
BEGIN:VEVENT
DTSTART;TZID=America/New_York:20250831T120000
DTEND;TZID=America/New_York:20250831T123000
DTSTAMP:20260422T005306
CREATED:20250701T205933Z
LAST-MODIFIED:20250808T222612Z
UID:10009412-1756641600-1756643400@www.portdiscovery.org
SUMMARY:Puppet FUNdamentals
DESCRIPTION:Stop inside our Playhouse exhibit for a hands-on imaginative activity where choose your own puppet to create a story\, starring you and your puppet! \nDue to scheduling\, all programs are subject to change or cancellations. Thank you for your understanding.
URL:https://www.portdiscovery.org/event/puppet-fundamentals-8/2025-08-31/
LOCATION:Port Discovery Children’s Museum\, 35 Market Place\, Baltimore\, MD\, 21202\, United States
CATEGORIES:Educational Activity,3-5,6-10,3-6
END:VEVENT
BEGIN:VEVENT
DTSTART;TZID=America/New_York:20250831T150000
DTEND;TZID=America/New_York:20250831T153000
DTSTAMP:20260422T005306
CREATED:20250701T213629Z
LAST-MODIFIED:20250808T231200Z
UID:10009505-1756652400-1756654200@www.portdiscovery.org
SUMMARY:Out of the Cove
DESCRIPTION:Get creative and crafty outside of the Art Cove with one of our learning specialists in a hands-on art project out on the museum floor. Become inspired with an immersive art piece! \nDue to scheduling\, all programs are subject to change or cancellations. Thank you for your understanding.
URL:https://www.portdiscovery.org/event/out-of-the-cove-3/2025-08-31/
LOCATION:Port Discovery Children’s Museum\, 35 Market Place\, Baltimore\, MD\, 21202\, United States
CATEGORIES:Educational Activity,0-3,3-5,6-10
END:VEVENT
BEGIN:VEVENT
DTSTART;TZID=America/New_York:20250901T140000
DTEND;TZID=America/New_York:20250901T143000
DTSTAMP:20260422T005306
CREATED:20250808T232921Z
LAST-MODIFIED:20250808T232921Z
UID:10009715-1756735200-1756737000@www.portdiscovery.org
SUMMARY:Tech & Tinker
DESCRIPTION:Tinker in this hands-on activity focused on problem solving and curiosity through STEM Learning\, where you can participate in a screen-free exploration of coding\, robotics\, and creative design. \nDue to scheduling\, all programs are subject to change or cancellations. Thank you for your understanding.
URL:https://www.portdiscovery.org/event/tech-tinker-14/2025-09-01/
LOCATION:Port Discovery Children’s Museum\, 35 Market Place\, Baltimore\, MD\, 21202\, United States
CATEGORIES:Educational Activity,3-5,6-10,3-6
END:VEVENT
BEGIN:VEVENT
DTSTART;TZID=America/New_York:20250901T150000
DTEND;TZID=America/New_York:20250901T153000
DTSTAMP:20260422T005306
CREATED:20250808T234413Z
LAST-MODIFIED:20250808T234413Z
UID:10009733-1756738800-1756740600@www.portdiscovery.org
SUMMARY:Puppet FUNdamentals
DESCRIPTION:Stop inside our Playhouse exhibit for a hands-on imaginative activity where choose your own puppet to create a story\, starring you and your puppet! \nDue to scheduling\, all programs are subject to change or cancellations. Thank you for your understanding.
URL:https://www.portdiscovery.org/event/puppet-fundamentals-9/2025-09-01/
LOCATION:Port Discovery Children’s Museum\, 35 Market Place\, Baltimore\, MD\, 21202\, United States
CATEGORIES:Educational Activity,3-5,6-10,3-6
END:VEVENT
BEGIN:VEVENT
DTSTART;TZID=America/New_York:20250905T120000
DTEND;TZID=America/New_York:20250905T123000
DTSTAMP:20260422T005306
CREATED:20250809T000615Z
LAST-MODIFIED:20250809T000615Z
UID:10009779-1757073600-1757075400@www.portdiscovery.org
SUMMARY:Boomwhacker Orchestra
DESCRIPTION:Explore the power of music through the Boomwhacker Orchestra! Join in a fun\, hands-on performance that will get your creative juices flowing as you work together to make beautiful sounds. \nDue to scheduling\, programs are subject to change or cancellations. Thank you for your understanding.
URL:https://www.portdiscovery.org/event/boomwhacker-orchestra/2025-09-05/
LOCATION:Port Discovery Children’s Museum\, 35 Market Place\, Baltimore\, MD\, 21202\, United States
CATEGORIES:Educational Activity,0-2,0-3,3-5,6-10
END:VEVENT
BEGIN:VEVENT
DTSTART;TZID=America/New_York:20250905T140000
DTEND;TZID=America/New_York:20250905T143000
DTSTAMP:20260422T005306
CREATED:20250827T134934Z
LAST-MODIFIED:20250827T134934Z
UID:10009886-1757080800-1757082600@www.portdiscovery.org
SUMMARY:Aerodynamic Assembly
DESCRIPTION:Take to the skies with paper crafts and your imagination by creating airplanes or other flying crafts\, and test how far your flight lasts! Decorate your air craft with a signature design with this hands-on assembly activity. \nDue to scheduling\, all programs are subject to change or cancellations. Thank you for your understanding.
URL:https://www.portdiscovery.org/event/aerodynamic-assembly/2025-09-05/
LOCATION:Port Discovery Children’s Museum\, 35 Market Place\, Baltimore\, MD\, 21202\, United States
CATEGORIES:Educational Activity,3-5,6-10,3-6
END:VEVENT
BEGIN:VEVENT
DTSTART;TZID=America/New_York:20250905T150000
DTEND;TZID=America/New_York:20250905T153000
DTSTAMP:20260422T005306
CREATED:20250808T234731Z
LAST-MODIFIED:20250808T234731Z
UID:10009751-1757084400-1757086200@www.portdiscovery.org
SUMMARY:Out of the Cove
DESCRIPTION:Get creative and crafty outside of the Art Cove with one of our learning specialists in a hands-on art project out on the museum floor. Become inspired with an immersive art piece! \nDue to scheduling\, all programs are subject to change or cancellations. Thank you for your understanding.
URL:https://www.portdiscovery.org/event/out-of-the-cove-4/2025-09-05/
LOCATION:Port Discovery Children’s Museum\, 35 Market Place\, Baltimore\, MD\, 21202\, United States
CATEGORIES:Educational Activity,0-3,3-5,6-10
END:VEVENT
BEGIN:VEVENT
DTSTART;TZID=America/New_York:20250906T100000
DTEND;TZID=America/New_York:20250906T160000
DTSTAMP:20260422T005306
CREATED:20250809T002133Z
LAST-MODIFIED:20250809T002346Z
UID:10009787-1757152800-1757174400@www.portdiscovery.org
SUMMARY:MEOWseum Discovery Days with Gabby's Doll House
DESCRIPTION:Join us at Port Discovery Children’s Museum for MEOWseum Discovery Days featuring Gabby’s Dollhouse! Kids will explore fun\, hands-on activities inspired by Gabby and her kitty friends that encourage creativity\, imagination\, and a growth mindset. \nDon’t miss limited character Meet & Greets with costumed friends\, designed to spark curiosity and kindness. Timed sessions ensure everyone gets a safe\, magical experience. \nAdvance registration is required\, tickets are available online.  \nStay tuned for upcoming special programming! Due to scheduling\, programs are subject to change. Thank you for your understanding. \n  \n\nBringing fun\, opportunities\, education\, and information to families with young children in Baltimore.
URL:https://www.portdiscovery.org/event/meowseum-discovery-days-with-gabbys-doll-house/
LOCATION:Port Discovery Children’s Museum\, 35 Market Place\, Baltimore\, MD\, 21202\, United States
CATEGORIES:Special Events,Educational Activity,6-10,3-6
ATTACH;FMTTYPE=image/jpeg:https://www.portdiscovery.org/wp-content/uploads/2025/06/Gabbys_dollhouse03-1.jpg
END:VEVENT
BEGIN:VEVENT
DTSTART;TZID=America/New_York:20250907T140000
DTEND;TZID=America/New_York:20250907T143000
DTSTAMP:20260422T005306
CREATED:20250808T234413Z
LAST-MODIFIED:20250808T234413Z
UID:10009734-1757253600-1757255400@www.portdiscovery.org
SUMMARY:Puppet FUNdamentals
DESCRIPTION:Stop inside our Playhouse exhibit for a hands-on imaginative activity where choose your own puppet to create a story\, starring you and your puppet! \nDue to scheduling\, all programs are subject to change or cancellations. Thank you for your understanding.
URL:https://www.portdiscovery.org/event/puppet-fundamentals-9/2025-09-07/
LOCATION:Port Discovery Children’s Museum\, 35 Market Place\, Baltimore\, MD\, 21202\, United States
CATEGORIES:Educational Activity,3-5,6-10,3-6
END:VEVENT
BEGIN:VEVENT
DTSTART;TZID=America/New_York:20250912T103000
DTEND;TZID=America/New_York:20250912T113000
DTSTAMP:20260422T005306
CREATED:20250828T172632Z
LAST-MODIFIED:20250828T172632Z
UID:10010351-1757673000-1757676600@www.portdiscovery.org
SUMMARY:Birds of a Feather - Homeschool Days
DESCRIPTION:Join us for a day of excitement\, exploration\, and learning\, all by the way of play! Embark on a self-guided journey throughout the three floors of fun Port Discovery has to offer and tap into special workshops offered just for our homeschoolers on these special days. \nBirds of a Feather\nWorkshop sessions at 10:30am and 1:30pm\nTake flight into the world of birds! Explore the incredible ways birds live\, travel\, and take to the skies\, with a special look at the species that call the Chesapeake Bay home. Through creative activities and hands-on exploration\, learn how feathers\, wings\, and habitats help birds thrive in our region and around the world. \n*Homeschool Days and workshops are not drop-off programs. Children must be accompanied by an adult throughout the museum and within special workshops.  \n\n*Tickets are $15 per person and include all day admission to explore the museum as well as one workshop.\nMembers’ tickets are $7.50 per person\, which includes access to one homeschool day workshop at a discounted price as part of Port Discovery’s exclusive membership benefits. \n\nAdditional discounts cannot be applied to our Homeschool special program tickets for either adults or children. Additional tickets may not be purchased with memberships or other discounts. \n 
URL:https://www.portdiscovery.org/event/birds-of-a-feather-homeschool-days/2025-09-12/1/
LOCATION:Port Discovery Children’s Museum\, 35 Market Place\, Baltimore\, MD\, 21202\, United States
CATEGORIES:Educational Activity,3-5,6-10,3-6
END:VEVENT
BEGIN:VEVENT
DTSTART;TZID=America/New_York:20250912T120000
DTEND;TZID=America/New_York:20250912T123000
DTSTAMP:20260422T005306
CREATED:20250808T234413Z
LAST-MODIFIED:20250808T234413Z
UID:10009735-1757678400-1757680200@www.portdiscovery.org
SUMMARY:Puppet FUNdamentals
DESCRIPTION:Stop inside our Playhouse exhibit for a hands-on imaginative activity where choose your own puppet to create a story\, starring you and your puppet! \nDue to scheduling\, all programs are subject to change or cancellations. Thank you for your understanding.
URL:https://www.portdiscovery.org/event/puppet-fundamentals-9/2025-09-12/
LOCATION:Port Discovery Children’s Museum\, 35 Market Place\, Baltimore\, MD\, 21202\, United States
CATEGORIES:Educational Activity,3-5,6-10,3-6
END:VEVENT
BEGIN:VEVENT
DTSTART;TZID=America/New_York:20250912T133000
DTEND;TZID=America/New_York:20250912T143000
DTSTAMP:20260422T005306
CREATED:20250828T172632Z
LAST-MODIFIED:20250828T172632Z
UID:10010352-1757683800-1757687400@www.portdiscovery.org
SUMMARY:Birds of a Feather - Homeschool Days
DESCRIPTION:Join us for a day of excitement\, exploration\, and learning\, all by the way of play! Embark on a self-guided journey throughout the three floors of fun Port Discovery has to offer and tap into special workshops offered just for our homeschoolers on these special days. \nBirds of a Feather\nWorkshop sessions at 10:30am and 1:30pm\nTake flight into the world of birds! Explore the incredible ways birds live\, travel\, and take to the skies\, with a special look at the species that call the Chesapeake Bay home. Through creative activities and hands-on exploration\, learn how feathers\, wings\, and habitats help birds thrive in our region and around the world. \n*Homeschool Days and workshops are not drop-off programs. Children must be accompanied by an adult throughout the museum and within special workshops.  \n\n*Tickets are $15 per person and include all day admission to explore the museum as well as one workshop.\nMembers’ tickets are $7.50 per person\, which includes access to one homeschool day workshop at a discounted price as part of Port Discovery’s exclusive membership benefits. \n\nAdditional discounts cannot be applied to our Homeschool special program tickets for either adults or children. Additional tickets may not be purchased with memberships or other discounts. \n 
URL:https://www.portdiscovery.org/event/birds-of-a-feather-homeschool-days/2025-09-12/2/
LOCATION:Port Discovery Children’s Museum\, 35 Market Place\, Baltimore\, MD\, 21202\, United States
CATEGORIES:Educational Activity,3-5,6-10,3-6
END:VEVENT
BEGIN:VEVENT
DTSTART;TZID=America/New_York:20250913T100000
DTEND;TZID=America/New_York:20250913T170000
DTSTAMP:20260422T005306
CREATED:20250625T144930Z
LAST-MODIFIED:20250625T144930Z
UID:10009357-1757757600-1757782800@www.portdiscovery.org
SUMMARY:Queens & Kings & Knights & Things
DESCRIPTION:Enjoy medieval themed programming presented by our education experts at Port Discovery! As part of this special program\, our education experts will be offering a variety of activities that promote social and hands-on learning. \nProgramming coming soon – stay tuned! \nDue to scheduling\, programs are subject to change. Thank you for your understanding.
URL:https://www.portdiscovery.org/event/queens-kings-knights-things/
LOCATION:Port Discovery Children’s Museum\, 35 Market Place\, Baltimore\, MD\, 21202\, United States
CATEGORIES:Educational Activity,0-2,0-3,3-5,6-10
ATTACH;FMTTYPE=image/jpeg:https://www.portdiscovery.org/wp-content/uploads/2024/07/Kings-and-Queens-e1723482724861.jpg
END:VEVENT
BEGIN:VEVENT
DTSTART;TZID=America/New_York:20250914T110000
DTEND;TZID=America/New_York:20250914T170000
DTSTAMP:20260422T005306
CREATED:20250625T145000Z
LAST-MODIFIED:20250625T145000Z
UID:10009358-1757847600-1757869200@www.portdiscovery.org
SUMMARY:Queens & Kings & Knights & Things
DESCRIPTION:Enjoy medieval themed programming presented by our education experts at Port Discovery! As part of this special program\, our education experts will be offering a variety of activities that promote social and hands-on learning. \nProgramming coming soon – stay tuned! \nDue to scheduling\, programs are subject to change. Thank you for your understanding.
URL:https://www.portdiscovery.org/event/queens-kings-knights-things-2/
LOCATION:Port Discovery Children’s Museum\, 35 Market Place\, Baltimore\, MD\, 21202\, United States
CATEGORIES:Educational Activity,0-2,0-3,3-5,6-10
ATTACH;FMTTYPE=image/jpeg:https://www.portdiscovery.org/wp-content/uploads/2024/07/Kings-and-Queens-e1723482724861.jpg
END:VEVENT
BEGIN:VEVENT
DTSTART;TZID=America/New_York:20250919T103000
DTEND;TZID=America/New_York:20250919T113000
DTSTAMP:20260422T005306
CREATED:20250828T173204Z
LAST-MODIFIED:20250828T173204Z
UID:10010355-1758277800-1758281400@www.portdiscovery.org
SUMMARY:Back to School Science - Homeschool Days
DESCRIPTION:Join us for a day of excitement\, exploration\, and learning\, all by the way of play! Embark on a self-guided journey throughout the three floors of fun Port Discovery has to offer and tap into special workshops offered just for our homeschoolers on these special days. \nBack to School Science\nWorkshop sessions at 10:30am and 1:30pm\nTurn everyday objects into extraordinary school supplies! Use recycled materials and STEM know-hows to create colorful\, functional tools for learning. From exploring the science of materials to experimenting with form and function\, you will discover how to bring new life to the items we use every day. \n*Homeschool Days and workshops are not drop-off programs. Children must be accompanied by an adult throughout the museum and within special workshops.  \n\n*Tickets are $15 per person and include all day admission to explore the museum as well as one workshop.\nMembers’ tickets are $7.50 per person\, which includes access to one homeschool day workshop at a discounted price as part of Port Discovery’s exclusive membership benefits. \n\nAdditional discounts cannot be applied to our Homeschool special program tickets for either adults or children. Additional tickets may not be purchased with memberships or other discounts. \n 
URL:https://www.portdiscovery.org/event/back-to-school-science-homeschool-days/2025-09-19/1/
LOCATION:Port Discovery Children’s Museum\, 35 Market Place\, Baltimore\, MD\, 21202\, United States
CATEGORIES:Educational Activity,3-5,6-10,3-6
END:VEVENT
BEGIN:VEVENT
DTSTART;TZID=America/New_York:20250919T120000
DTEND;TZID=America/New_York:20250919T123000
DTSTAMP:20260422T005306
CREATED:20250809T000615Z
LAST-MODIFIED:20250809T000615Z
UID:10009780-1758283200-1758285000@www.portdiscovery.org
SUMMARY:Boomwhacker Orchestra
DESCRIPTION:Explore the power of music through the Boomwhacker Orchestra! Join in a fun\, hands-on performance that will get your creative juices flowing as you work together to make beautiful sounds. \nDue to scheduling\, programs are subject to change or cancellations. Thank you for your understanding.
URL:https://www.portdiscovery.org/event/boomwhacker-orchestra/2025-09-19/
LOCATION:Port Discovery Children’s Museum\, 35 Market Place\, Baltimore\, MD\, 21202\, United States
CATEGORIES:Educational Activity,0-2,0-3,3-5,6-10
END:VEVENT
END:VCALENDAR