BEGIN:VCALENDAR
VERSION:2.0
PRODID:-//Port Discovery Children&#039;s Museum - ECPv6.15.20//NONSGML v1.0//EN
CALSCALE:GREGORIAN
METHOD:PUBLISH
X-ORIGINAL-URL:https://www.portdiscovery.org
X-WR-CALDESC:Events for Port Discovery Children&#039;s Museum
REFRESH-INTERVAL;VALUE=DURATION:PT1H
X-Robots-Tag:noindex
X-PUBLISHED-TTL:PT1H
BEGIN:VTIMEZONE
TZID:America/New_York
BEGIN:DAYLIGHT
TZOFFSETFROM:-0500
TZOFFSETTO:-0400
TZNAME:EDT
DTSTART:20240310T070000
END:DAYLIGHT
BEGIN:STANDARD
TZOFFSETFROM:-0400
TZOFFSETTO:-0500
TZNAME:EST
DTSTART:20241103T060000
END:STANDARD
BEGIN:DAYLIGHT
TZOFFSETFROM:-0500
TZOFFSETTO:-0400
TZNAME:EDT
DTSTART:20250309T070000
END:DAYLIGHT
BEGIN:STANDARD
TZOFFSETFROM:-0400
TZOFFSETTO:-0500
TZNAME:EST
DTSTART:20251102T060000
END:STANDARD
BEGIN:DAYLIGHT
TZOFFSETFROM:-0500
TZOFFSETTO:-0400
TZNAME:EDT
DTSTART:20260308T070000
END:DAYLIGHT
BEGIN:STANDARD
TZOFFSETFROM:-0400
TZOFFSETTO:-0500
TZNAME:EST
DTSTART:20261101T060000
END:STANDARD
END:VTIMEZONE
BEGIN:VEVENT
DTSTART;VALUE=DATE:20250818
DTEND;VALUE=DATE:20251023
DTSTAMP:20260425T153336
CREATED:20250815T191330Z
LAST-MODIFIED:20250820T210218Z
UID:10009862-1755475200-1761177599@www.portdiscovery.org
SUMMARY:Oasis | Closure
DESCRIPTION:The Oasis will be temporarily closed through September\, and will reopen this Fall with Blocktopia in the space. This is subject to change\, thank you for your understanding.
URL:https://www.portdiscovery.org/event/oasis-closure/
LOCATION:Port Discovery Children’s Museum\, 35 Market Place\, Baltimore\, MD\, 21202\, United States
END:VEVENT
BEGIN:VEVENT
DTSTART;VALUE=DATE:20250824
DTEND;VALUE=DATE:20251023
DTSTAMP:20260425T153336
CREATED:20250815T191431Z
LAST-MODIFIED:20250820T210224Z
UID:10009863-1755993600-1761177599@www.portdiscovery.org
SUMMARY:Blocktopia | Temporary Closure
DESCRIPTION:Blocktopia will be temporarily closed through September\, and will reopen this Fall in the old Oasis space to make way for Galactic Builders & SKIES construction. This is subject to change\, thank you for your understanding.
URL:https://www.portdiscovery.org/event/blocktopia-temporary-closure/
LOCATION:Port Discovery Children’s Museum\, 35 Market Place\, Baltimore\, MD\, 21202\, United States
END:VEVENT
BEGIN:VEVENT
DTSTART;VALUE=DATE:20251016
DTEND;VALUE=DATE:20251017
DTSTAMP:20260425T153336
CREATED:20250827T190505Z
LAST-MODIFIED:20250827T190539Z
UID:10009851-1760572800-1760659199@www.portdiscovery.org
SUMMARY:OPEN | 10AM-3PM
DESCRIPTION:The museum is open Thursday from 10AM-3PM during Fall 2025. These hours may change as we enter the Fall season. Thank you for your understanding! \nHours are subject to change. Please refer to our hours page for additional hours.
URL:https://www.portdiscovery.org/event/open-10am-3pm-2-2/2025-10-16/
LOCATION:Port Discovery Children’s Museum\, 35 Market Place\, Baltimore\, MD\, 21202\, United States
END:VEVENT
BEGIN:VEVENT
DTSTART;TZID=America/New_York:20251016T110000
DTEND;TZID=America/New_York:20251016T113000
DTSTAMP:20260425T153336
CREATED:20250827T183734Z
LAST-MODIFIED:20250827T183734Z
UID:10009960-1760612400-1760614200@www.portdiscovery.org
SUMMARY:Budding Musicians
DESCRIPTION:Look\, listen and sing! Gather ’round\, friends. Join us as we sing songs and read stories that the whole family can enjoy with this introduction to music time. \nDue to scheduling\, all programs are subject to change or cancellations. Thank you for your understanding.
URL:https://www.portdiscovery.org/event/budding-musicians-5/2025-10-16/
LOCATION:Port Discovery Children’s Museum\, 35 Market Place\, Baltimore\, MD\, 21202\, United States
CATEGORIES:3-5,6-10
END:VEVENT
BEGIN:VEVENT
DTSTART;TZID=America/New_York:20251016T120000
DTEND;TZID=America/New_York:20251016T123000
DTSTAMP:20260425T153336
CREATED:20250827T181751Z
LAST-MODIFIED:20250827T181751Z
UID:10009920-1760616000-1760617800@www.portdiscovery.org
SUMMARY:Aerodynamic Assembly
DESCRIPTION:Take to the skies with paper crafts and your imagination by creating airplanes or other flying crafts\, and test how far your flight lasts! Decorate your air craft with a signature design with this hands-on assembly activity. \nDue to scheduling\, all programs are subject to change or cancellations. Thank you for your understanding.
URL:https://www.portdiscovery.org/event/aerodynamic-assembly-2/2025-10-16/
LOCATION:Port Discovery Children’s Museum\, 35 Market Place\, Baltimore\, MD\, 21202\, United States
CATEGORIES:Educational Activity,3-5,6-10,3-6
END:VEVENT
BEGIN:VEVENT
DTSTART;TZID=America/New_York:20251016T130000
DTEND;TZID=America/New_York:20251016T133000
DTSTAMP:20260425T153336
CREATED:20250827T184508Z
LAST-MODIFIED:20250827T184508Z
UID:10009979-1760619600-1760621400@www.portdiscovery.org
SUMMARY:What's on the Wall?
DESCRIPTION:On the 1st floor\, come up to our magnet wall and play with special items brought out by our Port Discovery staff members. From foam balls propelled by air tubes to tangram shapes\, find out what’s on the wall! \nDue to scheduling\, all programs are subject to change or cancellations. Thank you for your understanding.
URL:https://www.portdiscovery.org/event/whats-on-the-wall-8/2025-10-16/
LOCATION:Port Discovery Children’s Museum\, 35 Market Place\, Baltimore\, MD\, 21202\, United States
CATEGORIES:3-5,6-10,3-6
END:VEVENT
BEGIN:VEVENT
DTSTART;VALUE=DATE:20251017
DTEND;VALUE=DATE:20251018
DTSTAMP:20260425T153336
CREATED:20250809T002953Z
LAST-MODIFIED:20250828T150517Z
UID:10009831-1760659200-1760745599@www.portdiscovery.org
SUMMARY:OPEN | 10AM-5PM
DESCRIPTION:The museum is open Fridays & Saturdays from 10AM-5PM during Fall 2025. These hours may change as we enter the Fall season. Thank you for your understanding! \nHours are subject to change. Please refer to our hours page for additional hours.
URL:https://www.portdiscovery.org/event/open-10am-5pm-6/2025-10-17/
LOCATION:Port Discovery Children’s Museum\, 35 Market Place\, Baltimore\, MD\, 21202\, United States
END:VEVENT
BEGIN:VEVENT
DTSTART;TZID=America/New_York:20251017T110000
DTEND;TZID=America/New_York:20251017T113000
DTSTAMP:20260425T153336
CREATED:20250827T182005Z
LAST-MODIFIED:20250827T182211Z
UID:10009929-1760698800-1760700600@www.portdiscovery.org
SUMMARY:Discovery Tales
DESCRIPTION:Look\, listen and sing! Gather ’round\, friends. Join us as we sing songs and read stories and the whole family can enjoy. \nDue to scheduling\, all programs are subject to change or cancellations. Thank you for your understanding.
URL:https://www.portdiscovery.org/event/discovery-tales-46/2025-10-17/
LOCATION:Port Discovery Children’s Museum\, 35 Market Place\, Baltimore\, MD\, 21202\, United States
CATEGORIES:3-5,6-10
END:VEVENT
BEGIN:VEVENT
DTSTART;TZID=America/New_York:20251017T110000
DTEND;TZID=America/New_York:20251017T113000
DTSTAMP:20260425T153336
CREATED:20251027T193710Z
LAST-MODIFIED:20251027T193710Z
UID:10010446-1760698800-1760700600@www.portdiscovery.org
SUMMARY:Discovery Tales
DESCRIPTION:Look\, listen and sing! Gather ’round\, friends. Join us as we sing songs and read stories and the whole family can enjoy. \nDue to scheduling\, all programs are subject to change or cancellations. Thank you for your understanding.
URL:https://www.portdiscovery.org/event/discovery-tales-45/2025-10-17/
LOCATION:Port Discovery Children’s Museum\, 35 Market Place\, Baltimore\, MD\, 21202\, United States
CATEGORIES:3-5,6-10
END:VEVENT
BEGIN:VEVENT
DTSTART;TZID=America/New_York:20251017T120000
DTEND;TZID=America/New_York:20251017T123000
DTSTAMP:20260425T153336
CREATED:20250827T180937Z
LAST-MODIFIED:20250827T180937Z
UID:10009911-1760702400-1760704200@www.portdiscovery.org
SUMMARY:Puppet FUNdamentals
DESCRIPTION:Stop inside our Playhouse exhibit for a hands-on imaginative activity where choose your own puppet to create a story\, starring you and your puppet! \nDue to scheduling\, all programs are subject to change or cancellations. Thank you for your understanding.
URL:https://www.portdiscovery.org/event/puppet-fundamentals-10/2025-10-17/
LOCATION:Port Discovery Children’s Museum\, 35 Market Place\, Baltimore\, MD\, 21202\, United States
CATEGORIES:Educational Activity,3-5,6-10,3-6
END:VEVENT
BEGIN:VEVENT
DTSTART;TZID=America/New_York:20251017T130000
DTEND;TZID=America/New_York:20251017T133000
DTSTAMP:20260425T153336
CREATED:20250827T181751Z
LAST-MODIFIED:20250827T181751Z
UID:10009921-1760706000-1760707800@www.portdiscovery.org
SUMMARY:Aerodynamic Assembly
DESCRIPTION:Take to the skies with paper crafts and your imagination by creating airplanes or other flying crafts\, and test how far your flight lasts! Decorate your air craft with a signature design with this hands-on assembly activity. \nDue to scheduling\, all programs are subject to change or cancellations. Thank you for your understanding.
URL:https://www.portdiscovery.org/event/aerodynamic-assembly-2/2025-10-17/
LOCATION:Port Discovery Children’s Museum\, 35 Market Place\, Baltimore\, MD\, 21202\, United States
CATEGORIES:Educational Activity,3-5,6-10,3-6
END:VEVENT
BEGIN:VEVENT
DTSTART;TZID=America/New_York:20251017T140000
DTEND;TZID=America/New_York:20251017T143000
DTSTAMP:20260425T153336
CREATED:20250827T182535Z
LAST-MODIFIED:20250827T182535Z
UID:10009939-1760709600-1760711400@www.portdiscovery.org
SUMMARY:Boomwhacker Orchestra
DESCRIPTION:Explore the power of music through the Boomwhacker Orchestra! Join in a fun\, hands-on performance that will get your creative juices flowing as you work together to make beautiful sounds. \nDue to scheduling\, programs are subject to change or cancellations. Thank you for your understanding.
URL:https://www.portdiscovery.org/event/boomwhacker-orchestra-2/2025-10-17/
LOCATION:Port Discovery Children’s Museum\, 35 Market Place\, Baltimore\, MD\, 21202\, United States
CATEGORIES:Educational Activity,0-2,0-3,3-5,6-10
END:VEVENT
BEGIN:VEVENT
DTSTART;TZID=America/New_York:20251017T150000
DTEND;TZID=America/New_York:20251017T153000
DTSTAMP:20260425T153336
CREATED:20250827T182914Z
LAST-MODIFIED:20250827T182914Z
UID:10009948-1760713200-1760715000@www.portdiscovery.org
SUMMARY:Tech & Tinker
DESCRIPTION:Tinker in this hands-on activity focused on problem solving and curiosity through STEM Learning\, where you can participate in a screen-free exploration of coding\, robotics\, and creative design. \nDue to scheduling\, all programs are subject to change or cancellations. Thank you for your understanding.
URL:https://www.portdiscovery.org/event/tech-tinker-15/2025-10-17/
LOCATION:Port Discovery Children’s Museum\, 35 Market Place\, Baltimore\, MD\, 21202\, United States
CATEGORIES:Educational Activity,3-5,6-10,3-6
END:VEVENT
BEGIN:VEVENT
DTSTART;VALUE=DATE:20251018
DTEND;VALUE=DATE:20251019
DTSTAMP:20260425T153336
CREATED:20250809T002953Z
LAST-MODIFIED:20250828T150517Z
UID:10009832-1760745600-1760831999@www.portdiscovery.org
SUMMARY:OPEN | 10AM-5PM
DESCRIPTION:The museum is open Fridays & Saturdays from 10AM-5PM during Fall 2025. These hours may change as we enter the Fall season. Thank you for your understanding! \nHours are subject to change. Please refer to our hours page for additional hours.
URL:https://www.portdiscovery.org/event/open-10am-5pm-6/2025-10-18/
LOCATION:Port Discovery Children’s Museum\, 35 Market Place\, Baltimore\, MD\, 21202\, United States
END:VEVENT
BEGIN:VEVENT
DTSTART;TZID=America/New_York:20251018T110000
DTEND;TZID=America/New_York:20251018T113000
DTSTAMP:20260425T153336
CREATED:20250827T183734Z
LAST-MODIFIED:20250827T183734Z
UID:10009961-1760785200-1760787000@www.portdiscovery.org
SUMMARY:Budding Musicians
DESCRIPTION:Look\, listen and sing! Gather ’round\, friends. Join us as we sing songs and read stories that the whole family can enjoy with this introduction to music time. \nDue to scheduling\, all programs are subject to change or cancellations. Thank you for your understanding.
URL:https://www.portdiscovery.org/event/budding-musicians-5/2025-10-18/
LOCATION:Port Discovery Children’s Museum\, 35 Market Place\, Baltimore\, MD\, 21202\, United States
CATEGORIES:3-5,6-10
END:VEVENT
BEGIN:VEVENT
DTSTART;TZID=America/New_York:20251018T120000
DTEND;TZID=America/New_York:20251018T123000
DTSTAMP:20260425T153336
CREATED:20250827T184058Z
LAST-MODIFIED:20250827T184058Z
UID:10009969-1760788800-1760790600@www.portdiscovery.org
SUMMARY:Hip Hop FUNdamentals
DESCRIPTION:Join DJ Wavy Jones in a program about the elements of Hip-Hop. Volunteers will help craft beats\, use templates to write their own lyrics\, and then recite your rap in front of an audience. \nDue to scheduling\, programs are subject to change or cancellations. Thank you for your understanding.
URL:https://www.portdiscovery.org/event/hip-hop-fundamentals-3/2025-10-18/
LOCATION:Port Discovery Children’s Museum\, 35 Market Place\, Baltimore\, MD\, 21202\, United States
CATEGORIES:3-5,3-6
END:VEVENT
BEGIN:VEVENT
DTSTART;TZID=America/New_York:20251018T130000
DTEND;TZID=America/New_York:20251018T133000
DTSTAMP:20260425T153336
CREATED:20250827T184508Z
LAST-MODIFIED:20250827T184508Z
UID:10009980-1760792400-1760794200@www.portdiscovery.org
SUMMARY:What's on the Wall?
DESCRIPTION:On the 1st floor\, come up to our magnet wall and play with special items brought out by our Port Discovery staff members. From foam balls propelled by air tubes to tangram shapes\, find out what’s on the wall! \nDue to scheduling\, all programs are subject to change or cancellations. Thank you for your understanding.
URL:https://www.portdiscovery.org/event/whats-on-the-wall-8/2025-10-18/
LOCATION:Port Discovery Children’s Museum\, 35 Market Place\, Baltimore\, MD\, 21202\, United States
CATEGORIES:3-5,6-10,3-6
END:VEVENT
BEGIN:VEVENT
DTSTART;TZID=America/New_York:20251018T150000
DTEND;TZID=America/New_York:20251018T153000
DTSTAMP:20260425T153336
CREATED:20250827T185035Z
LAST-MODIFIED:20250827T185035Z
UID:10009998-1760799600-1760801400@www.portdiscovery.org
SUMMARY:Out of the Cove
DESCRIPTION:Get creative and crafty outside of the Art Cove with one of our learning specialists in a hands-on art project out on the museum floor. Become inspired with an immersive art piece! \nDue to scheduling\, all programs are subject to change or cancellations. Thank you for your understanding.
URL:https://www.portdiscovery.org/event/out-of-the-cove-5/2025-10-18/
LOCATION:Port Discovery Children’s Museum\, 35 Market Place\, Baltimore\, MD\, 21202\, United States
CATEGORIES:Educational Activity,0-3,3-5,6-10
END:VEVENT
BEGIN:VEVENT
DTSTART;VALUE=DATE:20251019
DTEND;VALUE=DATE:20251020
DTSTAMP:20260425T153336
CREATED:20250809T003236Z
LAST-MODIFIED:20250828T151435Z
UID:10009838-1760832000-1760918399@www.portdiscovery.org
SUMMARY:OPEN | 11AM-5PM
DESCRIPTION:The museum is open Sundays from 11AM-5PM during Fall 2025. These hours may change as we enter the Fall season. Thank you for your understanding! \nHours are subject to change. Please refer to our hours page for additional hours.
URL:https://www.portdiscovery.org/event/open-11am-5pm-4/2025-10-19/
LOCATION:Port Discovery Children’s Museum\, 35 Market Place\, Baltimore\, MD\, 21202\, United States
END:VEVENT
BEGIN:VEVENT
DTSTART;TZID=America/New_York:20251019T090000
DTEND;TZID=America/New_York:20251019T110000
DTSTAMP:20260425T153336
CREATED:20250827T133500Z
LAST-MODIFIED:20250827T133500Z
UID:10009875-1760864400-1760871600@www.portdiscovery.org
SUMMARY:Sensory Friendly Sundays
DESCRIPTION:Port Discovery’s Sensory Friendly Sundays provide Museum access to families who would benefit from a sensory friendly experience and quieter setting at Port Discovery two hours before opening to the general public. \n 
URL:https://www.portdiscovery.org/event/sensory-friendly-sundays-3/2025-10-19/
LOCATION:Port Discovery Children’s Museum\, 35 Market Place\, Baltimore\, MD\, 21202\, United States
CATEGORIES:Special Events
ATTACH;FMTTYPE=image/jpeg:https://www.portdiscovery.org/wp-content/uploads/2024/08/Art_studio_baby_coloring-X3.jpg
END:VEVENT
BEGIN:VEVENT
DTSTART;TZID=America/New_York:20251019T100000
DTEND;TZID=America/New_York:20251019T103000
DTSTAMP:20260425T153336
CREATED:20250827T185441Z
LAST-MODIFIED:20250827T185441Z
UID:10010010-1760868000-1760869800@www.portdiscovery.org
SUMMARY:Exploration Bins
DESCRIPTION:Explore through a hands-on sensory-friendly experience with a variety of textures and hidden objects inside of one of our themed sensory bins. Kids will have the opportunity to create and play pretend with the surprises in store. \nDue to scheduling\, all programs are subject to change or cancellations. Thank you for your understanding.
URL:https://www.portdiscovery.org/event/exploration-bins-6/2025-10-19/
LOCATION:Port Discovery Children’s Museum\, 35 Market Place\, Baltimore\, MD\, 21202\, United States
END:VEVENT
BEGIN:VEVENT
DTSTART;TZID=America/New_York:20251019T120000
DTEND;TZID=America/New_York:20251019T123000
DTSTAMP:20260425T153336
CREATED:20250827T182005Z
LAST-MODIFIED:20250827T182211Z
UID:10009930-1760875200-1760877000@www.portdiscovery.org
SUMMARY:Discovery Tales
DESCRIPTION:Look\, listen and sing! Gather ’round\, friends. Join us as we sing songs and read stories and the whole family can enjoy. \nDue to scheduling\, all programs are subject to change or cancellations. Thank you for your understanding.
URL:https://www.portdiscovery.org/event/discovery-tales-46/2025-10-19/
LOCATION:Port Discovery Children’s Museum\, 35 Market Place\, Baltimore\, MD\, 21202\, United States
CATEGORIES:3-5,6-10
END:VEVENT
BEGIN:VEVENT
DTSTART;TZID=America/New_York:20251019T130000
DTEND;TZID=America/New_York:20251019T133000
DTSTAMP:20260425T153336
CREATED:20250827T180937Z
LAST-MODIFIED:20250827T180937Z
UID:10009912-1760878800-1760880600@www.portdiscovery.org
SUMMARY:Puppet FUNdamentals
DESCRIPTION:Stop inside our Playhouse exhibit for a hands-on imaginative activity where choose your own puppet to create a story\, starring you and your puppet! \nDue to scheduling\, all programs are subject to change or cancellations. Thank you for your understanding.
URL:https://www.portdiscovery.org/event/puppet-fundamentals-10/2025-10-19/
LOCATION:Port Discovery Children’s Museum\, 35 Market Place\, Baltimore\, MD\, 21202\, United States
CATEGORIES:Educational Activity,3-5,6-10,3-6
END:VEVENT
BEGIN:VEVENT
DTSTART;TZID=America/New_York:20251019T140000
DTEND;TZID=America/New_York:20251019T143000
DTSTAMP:20260425T153336
CREATED:20250827T182914Z
LAST-MODIFIED:20250827T182914Z
UID:10009949-1760882400-1760884200@www.portdiscovery.org
SUMMARY:Tech & Tinker
DESCRIPTION:Tinker in this hands-on activity focused on problem solving and curiosity through STEM Learning\, where you can participate in a screen-free exploration of coding\, robotics\, and creative design. \nDue to scheduling\, all programs are subject to change or cancellations. Thank you for your understanding.
URL:https://www.portdiscovery.org/event/tech-tinker-15/2025-10-19/
LOCATION:Port Discovery Children’s Museum\, 35 Market Place\, Baltimore\, MD\, 21202\, United States
CATEGORIES:Educational Activity,3-5,6-10,3-6
END:VEVENT
BEGIN:VEVENT
DTSTART;TZID=America/New_York:20251019T150000
DTEND;TZID=America/New_York:20251019T153000
DTSTAMP:20260425T153336
CREATED:20250827T185035Z
LAST-MODIFIED:20250827T185035Z
UID:10009999-1760886000-1760887800@www.portdiscovery.org
SUMMARY:Out of the Cove
DESCRIPTION:Get creative and crafty outside of the Art Cove with one of our learning specialists in a hands-on art project out on the museum floor. Become inspired with an immersive art piece! \nDue to scheduling\, all programs are subject to change or cancellations. Thank you for your understanding.
URL:https://www.portdiscovery.org/event/out-of-the-cove-5/2025-10-19/
LOCATION:Port Discovery Children’s Museum\, 35 Market Place\, Baltimore\, MD\, 21202\, United States
CATEGORIES:Educational Activity,0-3,3-5,6-10
END:VEVENT
BEGIN:VEVENT
DTSTART;TZID=America/New_York:20251019T160000
DTEND;TZID=America/New_York:20251019T170000
DTSTAMP:20260425T153336
CREATED:20251016T160706Z
LAST-MODIFIED:20251016T160706Z
UID:10010439-1760889600-1760893200@www.portdiscovery.org
SUMMARY:Tot Trails : Closed for Event
DESCRIPTION:On Sunday\, October 19th\, Tot Trails will be closed for an event. Thank you for understanding and we apologize for any inconvenience.
URL:https://www.portdiscovery.org/event/tot-trails-closed-for-event/
LOCATION:Port Discovery Children’s Museum\, 35 Market Place\, Baltimore\, MD\, 21202\, United States
END:VEVENT
BEGIN:VEVENT
DTSTART;VALUE=DATE:20251020
DTEND;VALUE=DATE:20251021
DTSTAMP:20260425T153336
CREATED:20250827T190553Z
LAST-MODIFIED:20250929T195044Z
UID:10010025-1760918400-1761004799@www.portdiscovery.org
SUMMARY:OPEN | 10AM-3PM
DESCRIPTION:The museum is open Monday from 10AM-3PM during Fall 2025. These hours may change as we enter the Fall season. Thank you for your understanding! \nHours are subject to change. Please refer to our hours page for additional hours.
URL:https://www.portdiscovery.org/event/open-10am-3pm-3/2025-10-20/
LOCATION:Port Discovery Children’s Museum\, 35 Market Place\, Baltimore\, MD\, 21202\, United States
END:VEVENT
BEGIN:VEVENT
DTSTART;TZID=America/New_York:20251020T110000
DTEND;TZID=America/New_York:20251020T113000
DTSTAMP:20260425T153336
CREATED:20250827T183734Z
LAST-MODIFIED:20250827T183734Z
UID:10009962-1760958000-1760959800@www.portdiscovery.org
SUMMARY:Budding Musicians
DESCRIPTION:Look\, listen and sing! Gather ’round\, friends. Join us as we sing songs and read stories that the whole family can enjoy with this introduction to music time. \nDue to scheduling\, all programs are subject to change or cancellations. Thank you for your understanding.
URL:https://www.portdiscovery.org/event/budding-musicians-5/2025-10-20/
LOCATION:Port Discovery Children’s Museum\, 35 Market Place\, Baltimore\, MD\, 21202\, United States
CATEGORIES:3-5,6-10
END:VEVENT
BEGIN:VEVENT
DTSTART;TZID=America/New_York:20251020T120000
DTEND;TZID=America/New_York:20251020T123000
DTSTAMP:20260425T153336
CREATED:20250827T184508Z
LAST-MODIFIED:20250827T184508Z
UID:10009981-1760961600-1760963400@www.portdiscovery.org
SUMMARY:What's on the Wall?
DESCRIPTION:On the 1st floor\, come up to our magnet wall and play with special items brought out by our Port Discovery staff members. From foam balls propelled by air tubes to tangram shapes\, find out what’s on the wall! \nDue to scheduling\, all programs are subject to change or cancellations. Thank you for your understanding.
URL:https://www.portdiscovery.org/event/whats-on-the-wall-8/2025-10-20/
LOCATION:Port Discovery Children’s Museum\, 35 Market Place\, Baltimore\, MD\, 21202\, United States
CATEGORIES:3-5,6-10,3-6
END:VEVENT
BEGIN:VEVENT
DTSTART;TZID=America/New_York:20251020T130000
DTEND;TZID=America/New_York:20251020T133000
DTSTAMP:20260425T153336
CREATED:20250827T185441Z
LAST-MODIFIED:20250827T185441Z
UID:10010011-1760965200-1760967000@www.portdiscovery.org
SUMMARY:Exploration Bins
DESCRIPTION:Explore through a hands-on sensory-friendly experience with a variety of textures and hidden objects inside of one of our themed sensory bins. Kids will have the opportunity to create and play pretend with the surprises in store. \nDue to scheduling\, all programs are subject to change or cancellations. Thank you for your understanding.
URL:https://www.portdiscovery.org/event/exploration-bins-6/2025-10-20/
LOCATION:Port Discovery Children’s Museum\, 35 Market Place\, Baltimore\, MD\, 21202\, United States
END:VEVENT
END:VCALENDAR