BEGIN:VCALENDAR
VERSION:2.0
PRODID:-//Port Discovery Children&#039;s Museum - ECPv6.15.20//NONSGML v1.0//EN
CALSCALE:GREGORIAN
METHOD:PUBLISH
X-ORIGINAL-URL:https://www.portdiscovery.org
X-WR-CALDESC:Events for Port Discovery Children&#039;s Museum
REFRESH-INTERVAL;VALUE=DURATION:PT1H
X-Robots-Tag:noindex
X-PUBLISHED-TTL:PT1H
BEGIN:VTIMEZONE
TZID:America/New_York
BEGIN:DAYLIGHT
TZOFFSETFROM:-0500
TZOFFSETTO:-0400
TZNAME:EDT
DTSTART:20240310T070000
END:DAYLIGHT
BEGIN:STANDARD
TZOFFSETFROM:-0400
TZOFFSETTO:-0500
TZNAME:EST
DTSTART:20241103T060000
END:STANDARD
BEGIN:DAYLIGHT
TZOFFSETFROM:-0500
TZOFFSETTO:-0400
TZNAME:EDT
DTSTART:20250309T070000
END:DAYLIGHT
BEGIN:STANDARD
TZOFFSETFROM:-0400
TZOFFSETTO:-0500
TZNAME:EST
DTSTART:20251102T060000
END:STANDARD
BEGIN:DAYLIGHT
TZOFFSETFROM:-0500
TZOFFSETTO:-0400
TZNAME:EDT
DTSTART:20260308T070000
END:DAYLIGHT
BEGIN:STANDARD
TZOFFSETFROM:-0400
TZOFFSETTO:-0500
TZNAME:EST
DTSTART:20261101T060000
END:STANDARD
END:VTIMEZONE
BEGIN:VEVENT
DTSTART;TZID=America/New_York:20250703T130000
DTEND;TZID=America/New_York:20250703T133000
DTSTAMP:20260420T134356
CREATED:20250507T170152Z
LAST-MODIFIED:20250507T170152Z
UID:10009065-1751547600-1751549400@www.portdiscovery.org
SUMMARY:Imagine That!
DESCRIPTION:Stop inside our Playhouse exhibit for a hands-on activity focused on imaginative play through an interactive improvisation game where you create your own character in the exhibit\, led by one of our learning specialists. \nDue to scheduling\, programs are subject to change. Thank you for your understanding.
URL:https://www.portdiscovery.org/event/imagine-that-4/2025-07-03/
LOCATION:Port Discovery Children’s Museum\, 35 Market Place\, Baltimore\, MD\, 21202\, United States
CATEGORIES:Educational Activity,3-5,6-10,3-6
END:VEVENT
BEGIN:VEVENT
DTSTART;TZID=America/New_York:20250703T140000
DTEND;TZID=America/New_York:20250703T143000
DTSTAMP:20260420T134356
CREATED:20250507T173818Z
LAST-MODIFIED:20250507T173818Z
UID:10009220-1751551200-1751553000@www.portdiscovery.org
SUMMARY:Shipping Show & Tell
DESCRIPTION:Learn all about items and materials shipped at the Port of Baltimore by exploring mystery cargo boxes resembling shipping containers\, and participate in port themed hands-on activities! \nDue to scheduling\, programs are subject to change. Thank you for your understanding.
URL:https://www.portdiscovery.org/event/shipping-show-tell-2/2025-07-03/
LOCATION:Port Discovery Children’s Museum\, 35 Market Place\, Baltimore\, MD\, 21202\, United States
CATEGORIES:6-10
END:VEVENT
BEGIN:VEVENT
DTSTART;TZID=America/New_York:20250703T150000
DTEND;TZID=America/New_York:20250703T153000
DTSTAMP:20260420T134356
CREATED:20250507T172205Z
LAST-MODIFIED:20250507T172205Z
UID:10009157-1751554800-1751556600@www.portdiscovery.org
SUMMARY:Teddy Talks
DESCRIPTION:Join resident puppet Ted “Theodore” Bearson and his friend Wally Walnuts as they talk about empathy and how it impacts the world around you. \nDue to scheduling\, programs are subject to change. Thank you for your understanding.
URL:https://www.portdiscovery.org/event/teddy-talks-18/2025-07-03/
LOCATION:Port Discovery Children’s Museum\, 35 Market Place\, Baltimore\, MD\, 21202\, United States
CATEGORIES:Educational Activity,0-2,0-3,3-5
END:VEVENT
BEGIN:VEVENT
DTSTART;VALUE=DATE:20250704
DTEND;VALUE=DATE:20250705
DTSTAMP:20260420T134356
CREATED:20250417T191644Z
LAST-MODIFIED:20250417T191809Z
UID:10008668-1751587200-1751673599@www.portdiscovery.org
SUMMARY:OPEN | 10AM-5PM
DESCRIPTION:The museum is open this Summer on Mondays through Saturdays from 10AM-5PM. These hours may change as we enter the Summer season. Thank you for your understanding! \nHours are subject to change. Please refer to our hours page for additional hours.
URL:https://www.portdiscovery.org/event/open-10am-5pm-4/2025-07-04/
LOCATION:Port Discovery Children’s Museum\, 35 Market Place\, Baltimore\, MD\, 21202\, United States
END:VEVENT
BEGIN:VEVENT
DTSTART;VALUE=DATE:20250704
DTEND;VALUE=DATE:20250705
DTSTAMP:20260420T134356
CREATED:20250701T155402Z
LAST-MODIFIED:20250703T132439Z
UID:10009362-1751587200-1751673599@www.portdiscovery.org
SUMMARY:ON-SITE ADMISSION ONLY
DESCRIPTION:NOTICE: Our online ticketing is temporarily unavailable today\, and we are working through getting it back up and running. \nWe’re still open 10AM-5PM and happy to welcome you — card or cash is available at the Box Office. Thank you for your patience and understanding!
URL:https://www.portdiscovery.org/event/cash-only-admission/2025-07-04/
LOCATION:MD
END:VEVENT
BEGIN:VEVENT
DTSTART;TZID=America/New_York:20250704T110000
DTEND;TZID=America/New_York:20250704T113000
DTSTAMP:20260420T134356
CREATED:20250507T165350Z
LAST-MODIFIED:20250507T165350Z
UID:10009036-1751626800-1751628600@www.portdiscovery.org
SUMMARY:Discovery Tales
DESCRIPTION:Look\, listen and sing! Gather ’round\, friends. Join us as we sing songs and read stories and the whole family can enjoy. \nDue to scheduling\, programs are subject to change. Thank you for your understanding.
URL:https://www.portdiscovery.org/event/discovery-tales-41/2025-07-04/
LOCATION:Port Discovery Children’s Museum\, 35 Market Place\, Baltimore\, MD\, 21202\, United States
CATEGORIES:3-5,6-10
END:VEVENT
BEGIN:VEVENT
DTSTART;TZID=America/New_York:20250704T120000
DTEND;TZID=America/New_York:20250704T123000
DTSTAMP:20260420T134356
CREATED:20250509T170831Z
LAST-MODIFIED:20250509T170831Z
UID:10009264-1751630400-1751632200@www.portdiscovery.org
SUMMARY:Show What You Know: Game Show
DESCRIPTION:Test your knowledge and be a contestant on our game show happening on the museum floor! Celebrate Fourth of July with a special themed gameshow all about fireworks\, the declaration of independence\, and more! \nDue to scheduling\, programs are subject to change. Thank you for your understanding.
URL:https://www.portdiscovery.org/event/show-what-you-know-game-show-5/
LOCATION:Port Discovery Children’s Museum\, 35 Market Place\, Baltimore\, MD\, 21202\, United States
CATEGORIES:6-10
END:VEVENT
BEGIN:VEVENT
DTSTART;TZID=America/New_York:20250704T130000
DTEND;TZID=America/New_York:20250704T133000
DTSTAMP:20260420T134356
CREATED:20250509T181719Z
LAST-MODIFIED:20250509T181826Z
UID:10009265-1751634000-1751635800@www.portdiscovery.org
SUMMARY:Bubbling Fireworks
DESCRIPTION:Let’s get bubbly! Make fizzy fireworks through a hands-on science experiment where you can play with a variety of materials in an activity led by one of our Learning Specialists. \nDue to scheduling\, programs are subject to change. Thank you for your understanding.
URL:https://www.portdiscovery.org/event/bubbling-fireworks/
LOCATION:Port Discovery Children’s Museum\, 35 Market Place\, Baltimore\, MD\, 21202\, United States
CATEGORIES:Educational Activity,3-5,6-10,3-6
END:VEVENT
BEGIN:VEVENT
DTSTART;TZID=America/New_York:20250704T140000
DTEND;TZID=America/New_York:20250704T143000
DTSTAMP:20260420T134356
CREATED:20250509T185820Z
LAST-MODIFIED:20250509T185820Z
UID:10009267-1751637600-1751639400@www.portdiscovery.org
SUMMARY:Flag Matching
DESCRIPTION:Match the flag to the correct order in a hands-on matching game all about the history of the U.S. Flag! Learn all about the differences in the flag from past to present. \nDue to scheduling\, programs are subject to change. Thank you for your understanding.
URL:https://www.portdiscovery.org/event/flag-matching/
LOCATION:Port Discovery Children’s Museum\, 35 Market Place\, Baltimore\, MD\, 21202\, United States
CATEGORIES:Educational Activity,3-5,6-10
END:VEVENT
BEGIN:VEVENT
DTSTART;TZID=America/New_York:20250704T150000
DTEND;TZID=America/New_York:20250704T153000
DTSTAMP:20260420T134356
CREATED:20250509T190500Z
LAST-MODIFIED:20250509T190500Z
UID:10009268-1751641200-1751643000@www.portdiscovery.org
SUMMARY:Fireworks in a Jar
DESCRIPTION:Burst colors in a hands-on science activity where you can experiment with viscosity and color in a jar! Play with different materials and see what combinations you can make. \nDue to scheduling\, programs are subject to change. Thank you for your understanding.
URL:https://www.portdiscovery.org/event/fireworks-in-a-jar/
LOCATION:Port Discovery Children’s Museum\, 35 Market Place\, Baltimore\, MD\, 21202\, United States
CATEGORIES:Educational Activity,0-3,6-10,3-6
END:VEVENT
BEGIN:VEVENT
DTSTART;VALUE=DATE:20250705
DTEND;VALUE=DATE:20250706
DTSTAMP:20260420T134356
CREATED:20250417T191644Z
LAST-MODIFIED:20250417T191809Z
UID:10008669-1751673600-1751759999@www.portdiscovery.org
SUMMARY:OPEN | 10AM-5PM
DESCRIPTION:The museum is open this Summer on Mondays through Saturdays from 10AM-5PM. These hours may change as we enter the Summer season. Thank you for your understanding! \nHours are subject to change. Please refer to our hours page for additional hours.
URL:https://www.portdiscovery.org/event/open-10am-5pm-4/2025-07-05/
LOCATION:Port Discovery Children’s Museum\, 35 Market Place\, Baltimore\, MD\, 21202\, United States
END:VEVENT
BEGIN:VEVENT
DTSTART;VALUE=DATE:20250705
DTEND;VALUE=DATE:20250706
DTSTAMP:20260420T134356
CREATED:20250701T155402Z
LAST-MODIFIED:20250703T132439Z
UID:10009363-1751673600-1751759999@www.portdiscovery.org
SUMMARY:ON-SITE ADMISSION ONLY
DESCRIPTION:NOTICE: Our online ticketing is temporarily unavailable today\, and we are working through getting it back up and running. \nWe’re still open 10AM-5PM and happy to welcome you — card or cash is available at the Box Office. Thank you for your patience and understanding!
URL:https://www.portdiscovery.org/event/cash-only-admission/2025-07-05/
LOCATION:MD
END:VEVENT
BEGIN:VEVENT
DTSTART;TZID=America/New_York:20250705T110000
DTEND;TZID=America/New_York:20250705T113000
DTSTAMP:20260420T134356
CREATED:20250507T171942Z
LAST-MODIFIED:20250507T171942Z
UID:10009142-1751713200-1751715000@www.portdiscovery.org
SUMMARY:Budding Musicians
DESCRIPTION:Look\, listen and sing! Gather ’round\, friends. Join us as we sing songs and read stories that the whole family can enjoy with this introduction to music time. \nDue to scheduling\, programs are subject to change. Thank you for your understanding.
URL:https://www.portdiscovery.org/event/budding-musicians-2/2025-07-05/
LOCATION:Port Discovery Children’s Museum\, 35 Market Place\, Baltimore\, MD\, 21202\, United States
CATEGORIES:3-5,6-10
END:VEVENT
BEGIN:VEVENT
DTSTART;TZID=America/New_York:20250705T120000
DTEND;TZID=America/New_York:20250705T123000
DTSTAMP:20260420T134356
CREATED:20250507T164334Z
LAST-MODIFIED:20250507T164334Z
UID:10009019-1751716800-1751718600@www.portdiscovery.org
SUMMARY:Puppet FUNdamentals
DESCRIPTION:Stop inside our Playhouse exhibit for a hands-on imaginative activity where choose your own puppet to create a story\, starring you and your puppet! \nDue to scheduling\, programs are subject to change. Thank you for your understanding.
URL:https://www.portdiscovery.org/event/puppet-fundamentals-7/2025-07-05/
LOCATION:Port Discovery Children’s Museum\, 35 Market Place\, Baltimore\, MD\, 21202\, United States
CATEGORIES:Educational Activity,3-5,6-10,3-6
END:VEVENT
BEGIN:VEVENT
DTSTART;TZID=America/New_York:20250705T150000
DTEND;TZID=America/New_York:20250705T153000
DTSTAMP:20260420T134356
CREATED:20250507T170152Z
LAST-MODIFIED:20250507T170152Z
UID:10009066-1751727600-1751729400@www.portdiscovery.org
SUMMARY:Imagine That!
DESCRIPTION:Stop inside our Playhouse exhibit for a hands-on activity focused on imaginative play through an interactive improvisation game where you create your own character in the exhibit\, led by one of our learning specialists. \nDue to scheduling\, programs are subject to change. Thank you for your understanding.
URL:https://www.portdiscovery.org/event/imagine-that-4/2025-07-05/
LOCATION:Port Discovery Children’s Museum\, 35 Market Place\, Baltimore\, MD\, 21202\, United States
CATEGORIES:Educational Activity,3-5,6-10,3-6
END:VEVENT
BEGIN:VEVENT
DTSTART;TZID=America/New_York:20250705T150000
DTEND;TZID=America/New_York:20250705T153000
DTSTAMP:20260420T134356
CREATED:20250507T172704Z
LAST-MODIFIED:20250507T172704Z
UID:10009170-1751727600-1751729400@www.portdiscovery.org
SUMMARY:Exploration Bins
DESCRIPTION:Explore through a hands-on sensory-friendly experience with a variety of textures and hidden objects inside of one of our themed sensory bins. Kids will have the opportunity to create and play pretend with the surprises in store. \nDue to scheduling\, programs are subject to change. Thank you for your understanding.
URL:https://www.portdiscovery.org/event/exploration-bins-2/2025-07-05/
LOCATION:Port Discovery Children’s Museum\, 35 Market Place\, Baltimore\, MD\, 21202\, United States
END:VEVENT
BEGIN:VEVENT
DTSTART;TZID=America/New_York:20250705T170000
DTEND;TZID=America/New_York:20250705T200000
DTSTAMP:20260420T134356
CREATED:20250513T181714Z
LAST-MODIFIED:20250513T181714Z
UID:10009289-1751734800-1751745600@www.portdiscovery.org
SUMMARY:$15 Saturday Fun Nights
DESCRIPTION:Saturday nights from July through August the museum will extend its hours to 8pm. From 5pm-8pm admission will be $15!
URL:https://www.portdiscovery.org/event/15-saturday-fun-nights/2025-07-05/
LOCATION:Port Discovery Children’s Museum\, 35 Market Place\, Baltimore\, MD\, 21202\, United States
CATEGORIES:Discounts,0-2,3-5,6-10
END:VEVENT
BEGIN:VEVENT
DTSTART;VALUE=DATE:20250706
DTEND;VALUE=DATE:20250707
DTSTAMP:20260420T134356
CREATED:20250417T191729Z
LAST-MODIFIED:20250531T122903Z
UID:10008724-1751760000-1751846399@www.portdiscovery.org
SUMMARY:OPEN | 10AM-5PM
DESCRIPTION:The museum is open Sundays from 10AM-5PM for the Summer. These hours may change as we enter the Summer season. Thank you for your understanding! \nHours are subject to change. Please refer to our hours page for additional hours.
URL:https://www.portdiscovery.org/event/open-11am-5pm-2/2025-07-06/
LOCATION:Port Discovery Children’s Museum\, 35 Market Place\, Baltimore\, MD\, 21202\, United States
END:VEVENT
BEGIN:VEVENT
DTSTART;VALUE=DATE:20250706
DTEND;VALUE=DATE:20250707
DTSTAMP:20260420T134356
CREATED:20250701T155402Z
LAST-MODIFIED:20250703T132439Z
UID:10009364-1751760000-1751846399@www.portdiscovery.org
SUMMARY:ON-SITE ADMISSION ONLY
DESCRIPTION:NOTICE: Our online ticketing is temporarily unavailable today\, and we are working through getting it back up and running. \nWe’re still open 10AM-5PM and happy to welcome you — card or cash is available at the Box Office. Thank you for your patience and understanding!
URL:https://www.portdiscovery.org/event/cash-only-admission/2025-07-06/
LOCATION:MD
END:VEVENT
BEGIN:VEVENT
DTSTART;TZID=America/New_York:20250706T110000
DTEND;TZID=America/New_York:20250706T113000
DTSTAMP:20260420T134356
CREATED:20250507T165350Z
LAST-MODIFIED:20250507T165350Z
UID:10009037-1751799600-1751801400@www.portdiscovery.org
SUMMARY:Discovery Tales
DESCRIPTION:Look\, listen and sing! Gather ’round\, friends. Join us as we sing songs and read stories and the whole family can enjoy. \nDue to scheduling\, programs are subject to change. Thank you for your understanding.
URL:https://www.portdiscovery.org/event/discovery-tales-41/2025-07-06/
LOCATION:Port Discovery Children’s Museum\, 35 Market Place\, Baltimore\, MD\, 21202\, United States
CATEGORIES:3-5,6-10
END:VEVENT
BEGIN:VEVENT
DTSTART;TZID=America/New_York:20250706T120000
DTEND;TZID=America/New_York:20250706T123000
DTSTAMP:20260420T134356
CREATED:20250507T170754Z
LAST-MODIFIED:20250507T170754Z
UID:10009076-1751803200-1751805000@www.portdiscovery.org
SUMMARY:Tech & Tinker
DESCRIPTION:Tinker in this hands-on activity focused on problem solving and curiosity through STEM Learning\, where you can participate in a screen-free exploration of coding\, robotics\, and creative design. \nDue to scheduling\, programs are subject to change. Thank you for your understanding.
URL:https://www.portdiscovery.org/event/tech-tinker-11/2025-07-06/
LOCATION:Port Discovery Children’s Museum\, 35 Market Place\, Baltimore\, MD\, 21202\, United States
CATEGORIES:Educational Activity,3-5,6-10,3-6
END:VEVENT
BEGIN:VEVENT
DTSTART;TZID=America/New_York:20250706T140000
DTEND;TZID=America/New_York:20250706T143000
DTSTAMP:20260420T134356
CREATED:20250507T172704Z
LAST-MODIFIED:20250507T172704Z
UID:10009171-1751810400-1751812200@www.portdiscovery.org
SUMMARY:Exploration Bins
DESCRIPTION:Explore through a hands-on sensory-friendly experience with a variety of textures and hidden objects inside of one of our themed sensory bins. Kids will have the opportunity to create and play pretend with the surprises in store. \nDue to scheduling\, programs are subject to change. Thank you for your understanding.
URL:https://www.portdiscovery.org/event/exploration-bins-2/2025-07-06/
LOCATION:Port Discovery Children’s Museum\, 35 Market Place\, Baltimore\, MD\, 21202\, United States
END:VEVENT
BEGIN:VEVENT
DTSTART;TZID=America/New_York:20250706T150000
DTEND;TZID=America/New_York:20250706T153000
DTSTAMP:20260420T134356
CREATED:20250507T164334Z
LAST-MODIFIED:20250507T164334Z
UID:10009020-1751814000-1751815800@www.portdiscovery.org
SUMMARY:Puppet FUNdamentals
DESCRIPTION:Stop inside our Playhouse exhibit for a hands-on imaginative activity where choose your own puppet to create a story\, starring you and your puppet! \nDue to scheduling\, programs are subject to change. Thank you for your understanding.
URL:https://www.portdiscovery.org/event/puppet-fundamentals-7/2025-07-06/
LOCATION:Port Discovery Children’s Museum\, 35 Market Place\, Baltimore\, MD\, 21202\, United States
CATEGORIES:Educational Activity,3-5,6-10,3-6
END:VEVENT
BEGIN:VEVENT
DTSTART;TZID=America/New_York:20250706T150000
DTEND;TZID=America/New_York:20250706T153000
DTSTAMP:20260420T134356
CREATED:20250507T173106Z
LAST-MODIFIED:20250507T173106Z
UID:10009200-1751814000-1751815800@www.portdiscovery.org
SUMMARY:Out of the Cove
DESCRIPTION:Get creative and crafty outside of the Art Cove with one of our learning specialists in a hands-on art project out on the museum floor. Become inspired with an immersive art piece! \nDue to scheduling\, programs are subject to change. Thank you for your understanding.
URL:https://www.portdiscovery.org/event/out-of-the-cove-2/2025-07-06/
LOCATION:Port Discovery Children’s Museum\, 35 Market Place\, Baltimore\, MD\, 21202\, United States
CATEGORIES:Educational Activity,0-3,3-5,6-10
END:VEVENT
BEGIN:VEVENT
DTSTART;VALUE=DATE:20250707
DTEND;VALUE=DATE:20250708
DTSTAMP:20260420T134356
CREATED:20250417T191644Z
LAST-MODIFIED:20250417T191809Z
UID:10008670-1751846400-1751932799@www.portdiscovery.org
SUMMARY:OPEN | 10AM-5PM
DESCRIPTION:The museum is open this Summer on Mondays through Saturdays from 10AM-5PM. These hours may change as we enter the Summer season. Thank you for your understanding! \nHours are subject to change. Please refer to our hours page for additional hours.
URL:https://www.portdiscovery.org/event/open-10am-5pm-4/2025-07-07/
LOCATION:Port Discovery Children’s Museum\, 35 Market Place\, Baltimore\, MD\, 21202\, United States
END:VEVENT
BEGIN:VEVENT
DTSTART;VALUE=DATE:20250707
DTEND;VALUE=DATE:20250708
DTSTAMP:20260420T134356
CREATED:20250527T134406Z
LAST-MODIFIED:20250527T134406Z
UID:10009340-1751846400-1751932799@www.portdiscovery.org
SUMMARY:Wonders of Water : Closed for Cleaning
DESCRIPTION:During the summer\, Wonders of Water will be closed for sanitary cleaning on Monday afternoons beginning at 3 PM and will reopen Tuesday afternoons at 12 PM.
URL:https://www.portdiscovery.org/event/wonders-of-water-closed-for-cleaning-3/2025-07-07/
LOCATION:Port Discovery Children’s Museum\, 35 Market Place\, Baltimore\, MD\, 21202\, United States
END:VEVENT
BEGIN:VEVENT
DTSTART;TZID=America/New_York:20250707T110000
DTEND;TZID=America/New_York:20250707T113000
DTSTAMP:20260420T134356
CREATED:20250507T165350Z
LAST-MODIFIED:20250507T165350Z
UID:10009038-1751886000-1751887800@www.portdiscovery.org
SUMMARY:Discovery Tales
DESCRIPTION:Look\, listen and sing! Gather ’round\, friends. Join us as we sing songs and read stories and the whole family can enjoy. \nDue to scheduling\, programs are subject to change. Thank you for your understanding.
URL:https://www.portdiscovery.org/event/discovery-tales-41/2025-07-07/
LOCATION:Port Discovery Children’s Museum\, 35 Market Place\, Baltimore\, MD\, 21202\, United States
CATEGORIES:3-5,6-10
END:VEVENT
BEGIN:VEVENT
DTSTART;TZID=America/New_York:20250707T120000
DTEND;TZID=America/New_York:20250707T123000
DTSTAMP:20260420T134356
CREATED:20250507T164334Z
LAST-MODIFIED:20250507T164334Z
UID:10009021-1751889600-1751891400@www.portdiscovery.org
SUMMARY:Puppet FUNdamentals
DESCRIPTION:Stop inside our Playhouse exhibit for a hands-on imaginative activity where choose your own puppet to create a story\, starring you and your puppet! \nDue to scheduling\, programs are subject to change. Thank you for your understanding.
URL:https://www.portdiscovery.org/event/puppet-fundamentals-7/2025-07-07/
LOCATION:Port Discovery Children’s Museum\, 35 Market Place\, Baltimore\, MD\, 21202\, United States
CATEGORIES:Educational Activity,3-5,6-10,3-6
END:VEVENT
BEGIN:VEVENT
DTSTART;TZID=America/New_York:20250707T130000
DTEND;TZID=America/New_York:20250707T133000
DTSTAMP:20260420T134356
CREATED:20250507T171704Z
LAST-MODIFIED:20250507T171704Z
UID:10009121-1751893200-1751895000@www.portdiscovery.org
SUMMARY:What's on the Wall?
DESCRIPTION:On the 1st floor\, come up to our magnet wall and play with special items brought out by our Port Discovery staff members. From foam balls propelled by air tubes to tangram shapes\, find out what’s on the wall! \nDue to scheduling\, programs are subject to change. Thank you for your understanding.
URL:https://www.portdiscovery.org/event/whats-on-the-wall-4/2025-07-07/
LOCATION:Port Discovery Children’s Museum\, 35 Market Place\, Baltimore\, MD\, 21202\, United States
CATEGORIES:3-5,6-10,3-6
END:VEVENT
BEGIN:VEVENT
DTSTART;TZID=America/New_York:20250707T140000
DTEND;TZID=America/New_York:20250707T143000
DTSTAMP:20260420T134356
CREATED:20250507T172704Z
LAST-MODIFIED:20250507T172704Z
UID:10009172-1751896800-1751898600@www.portdiscovery.org
SUMMARY:Exploration Bins
DESCRIPTION:Explore through a hands-on sensory-friendly experience with a variety of textures and hidden objects inside of one of our themed sensory bins. Kids will have the opportunity to create and play pretend with the surprises in store. \nDue to scheduling\, programs are subject to change. Thank you for your understanding.
URL:https://www.portdiscovery.org/event/exploration-bins-2/2025-07-07/
LOCATION:Port Discovery Children’s Museum\, 35 Market Place\, Baltimore\, MD\, 21202\, United States
END:VEVENT
END:VCALENDAR