BEGIN:VCALENDAR
VERSION:2.0
PRODID:-//Port Discovery Children&#039;s Museum - ECPv6.15.20//NONSGML v1.0//EN
CALSCALE:GREGORIAN
METHOD:PUBLISH
X-ORIGINAL-URL:https://www.portdiscovery.org
X-WR-CALDESC:Events for Port Discovery Children&#039;s Museum
REFRESH-INTERVAL;VALUE=DURATION:PT1H
X-Robots-Tag:noindex
X-PUBLISHED-TTL:PT1H
BEGIN:VTIMEZONE
TZID:America/New_York
BEGIN:DAYLIGHT
TZOFFSETFROM:-0500
TZOFFSETTO:-0400
TZNAME:EDT
DTSTART:20240310T070000
END:DAYLIGHT
BEGIN:STANDARD
TZOFFSETFROM:-0400
TZOFFSETTO:-0500
TZNAME:EST
DTSTART:20241103T060000
END:STANDARD
BEGIN:DAYLIGHT
TZOFFSETFROM:-0500
TZOFFSETTO:-0400
TZNAME:EDT
DTSTART:20250309T070000
END:DAYLIGHT
BEGIN:STANDARD
TZOFFSETFROM:-0400
TZOFFSETTO:-0500
TZNAME:EST
DTSTART:20251102T060000
END:STANDARD
BEGIN:DAYLIGHT
TZOFFSETFROM:-0500
TZOFFSETTO:-0400
TZNAME:EDT
DTSTART:20260308T070000
END:DAYLIGHT
BEGIN:STANDARD
TZOFFSETFROM:-0400
TZOFFSETTO:-0500
TZNAME:EST
DTSTART:20261101T060000
END:STANDARD
END:VTIMEZONE
BEGIN:VEVENT
DTSTART;TZID=America/New_York:20250425T120000
DTEND;TZID=America/New_York:20250425T123000
DTSTAMP:20260420T215313
CREATED:20250318T154134Z
LAST-MODIFIED:20250318T154134Z
UID:10008459-1745582400-1745584200@www.portdiscovery.org
SUMMARY:Tech & Tinker
DESCRIPTION:Tinker in this hands-on activity focused on problem solving and curiosity through STEM Learning\, where you can participate in a screen-free exploration of coding\, robotics\, and creative design. \nDue to scheduling\, programs are subject to change. Thank you for your understanding.
URL:https://www.portdiscovery.org/event/tech-tinker-2/2025-04-25/
LOCATION:Port Discovery Children’s Museum\, 35 Market Place\, Baltimore\, MD\, 21202\, United States
CATEGORIES:Educational Activity,3-5,6-10,3-6
END:VEVENT
BEGIN:VEVENT
DTSTART;TZID=America/New_York:20250425T133000
DTEND;TZID=America/New_York:20250425T143000
DTSTAMP:20260420T215313
CREATED:20250226T174524Z
LAST-MODIFIED:20250226T174524Z
UID:10008045-1745587800-1745591400@www.portdiscovery.org
SUMMARY:Science in the Skies: Sounding Rockets - Homeschool Days
DESCRIPTION:Join us for a day of excitement\, exploration\, and learning\, all by the way of play! Embark on a self-guided journey throughout the three floors of fun Port Discovery has to offer and tap into special workshops offered just for our homeschoolers on these special days. \nScience in the Skies: Sounding Rockets\nWorkshop sessions at 10:30am and 1:30pm\nBecome an aerospace engineer! Learn about Sounding Rockets and how they carry science tools\, not astronauts\, into space. Choose the tools for your rocket’s mission then design\, build and launch your own rocket. \n*Homeschool Days and workshops are not drop-off programs. Children must be accompanied by an adult throughout the museum and within special workshops.  \n\n*Tickets are $15 per person and include all day admission to explore the museum as well as one workshop.\nMembers’ tickets are $7.50 per person\, which includes access to one homeschool day workshop at a discounted price as part of Port Discovery’s exclusive membership benefits. \n\nAdditional discounts cannot be applied to our Homeschool special program tickets for either adults or children. Additional tickets may not be purchased with memberships or other discounts. \n 
URL:https://www.portdiscovery.org/event/science-in-the-skies-sounding-rockets-homeschool-days/2025-04-25/2/
LOCATION:Port Discovery Children’s Museum\, 35 Market Place\, Baltimore\, MD\, 21202\, United States
CATEGORIES:Educational Activity,3-5,6-10,3-6
END:VEVENT
BEGIN:VEVENT
DTSTART;TZID=America/New_York:20250425T140000
DTEND;TZID=America/New_York:20250425T143000
DTSTAMP:20260420T215313
CREATED:20250318T154247Z
LAST-MODIFIED:20250318T154247Z
UID:10008465-1745589600-1745591400@www.portdiscovery.org
SUMMARY:Show What You Know: Game Show
DESCRIPTION:Test your knowledge and be a contestant on our game show happening on the museum floor! To celebrate Black History Month\, match up inventions to their famous inventors for the chance to win take-home prizes. \nDue to scheduling\, programs are subject to change. Thank you for your understanding.
URL:https://www.portdiscovery.org/event/show-what-you-know-game-show-3/2025-04-25/
LOCATION:Port Discovery Children’s Museum\, 35 Market Place\, Baltimore\, MD\, 21202\, United States
CATEGORIES:6-10
END:VEVENT
BEGIN:VEVENT
DTSTART;VALUE=DATE:20250426
DTEND;VALUE=DATE:20250427
DTSTAMP:20260420T215313
CREATED:20250227T142603Z
LAST-MODIFIED:20250227T143548Z
UID:10008119-1745625600-1745711999@www.portdiscovery.org
SUMMARY:OPEN | 10AM-5PM
DESCRIPTION:The museum is open Friday through Saturday from 10AM-5PM for the Spring. These hours may change as we enter the Spring season. Thank you for your understanding! \nHours are subject to change. Please refer to our hours page for additional hours.
URL:https://www.portdiscovery.org/event/open-10am-5pm/2025-04-26/
LOCATION:Port Discovery Children’s Museum\, 35 Market Place\, Baltimore\, MD\, 21202\, United States
END:VEVENT
BEGIN:VEVENT
DTSTART;TZID=America/New_York:20250426T110000
DTEND;TZID=America/New_York:20250426T113000
DTSTAMP:20260420T215313
CREATED:20250305T152527Z
LAST-MODIFIED:20250305T154217Z
UID:10008263-1745665200-1745667000@www.portdiscovery.org
SUMMARY:Discovery Time
DESCRIPTION:Look\, listen and sing! Gather ’round\, friends. Join us as we sing songs and read stories and the whole family can enjoy. \nDue to scheduling\, programs are subject to change. Thank you for your understanding.
URL:https://www.portdiscovery.org/event/discovery-time-7/2025-04-26/
LOCATION:Port Discovery Children’s Museum\, 35 Market Place\, Baltimore\, MD\, 21202\, United States
CATEGORIES:3-5,6-10
END:VEVENT
BEGIN:VEVENT
DTSTART;TZID=America/New_York:20250426T120000
DTEND;TZID=America/New_York:20250426T123000
DTSTAMP:20260420T215313
CREATED:20250305T153743Z
LAST-MODIFIED:20250305T153743Z
UID:10008357-1745668800-1745670600@www.portdiscovery.org
SUMMARY:Diner Detectives
DESCRIPTION:Test your five senses and solve a diner mystery. Can you figure out what was cooked in Tiny’s Diner? Find all the clues\, crack the code (and some eggs!) and become a Diner Detective! \nDue to scheduling\, programs are subject to change. Thank you for your understanding.
URL:https://www.portdiscovery.org/event/diner-detectives/2025-04-26/
LOCATION:Port Discovery Children’s Museum\, 35 Market Place\, Baltimore\, MD\, 21202\, United States
CATEGORIES:3-5,6-10,3-6
END:VEVENT
BEGIN:VEVENT
DTSTART;TZID=America/New_York:20250426T150000
DTEND;TZID=America/New_York:20250426T153000
DTSTAMP:20260420T215313
CREATED:20250305T153817Z
LAST-MODIFIED:20250305T153817Z
UID:10008365-1745679600-1745681400@www.portdiscovery.org
SUMMARY:Diner Detectives
DESCRIPTION:Test your five senses and solve a diner mystery. Can you figure out what was cooked in Tiny’s Diner? Find all the clues\, crack the code (and some eggs!) and become a Diner Detective! \nDue to scheduling\, programs are subject to change. Thank you for your understanding.
URL:https://www.portdiscovery.org/event/diner-detectives-2/2025-04-26/
LOCATION:Port Discovery Children’s Museum\, 35 Market Place\, Baltimore\, MD\, 21202\, United States
CATEGORIES:3-5,6-10,3-6
END:VEVENT
BEGIN:VEVENT
DTSTART;VALUE=DATE:20250427
DTEND;VALUE=DATE:20250428
DTSTAMP:20260420T215313
CREATED:20250227T142734Z
LAST-MODIFIED:20250305T164403Z
UID:10008179-1745712000-1745798399@www.portdiscovery.org
SUMMARY:OPEN | 11AM-5PM
DESCRIPTION:The museum is open Sunday from 11AM-5PM for the Spring. These hours may change as we enter the Spring season. Thank you for your understanding! \nHours are subject to change. Please refer to our hours page for additional hours.
URL:https://www.portdiscovery.org/event/open-11am-5pm/2025-04-27/
LOCATION:Port Discovery Children’s Museum\, 35 Market Place\, Baltimore\, MD\, 21202\, United States
END:VEVENT
BEGIN:VEVENT
DTSTART;TZID=America/New_York:20250427T090000
DTEND;TZID=America/New_York:20250427T110000
DTSTAMP:20260420T215313
CREATED:20241107T181512Z
LAST-MODIFIED:20250224T165400Z
UID:10008035-1745744400-1745751600@www.portdiscovery.org
SUMMARY:Sensory Friendly Sundays
DESCRIPTION:Port Discovery’s Sensory Friendly Sundays provide Museum access to families who would benefit from a sensory friendly experience and quieter setting at Port Discovery two hours before opening to the general public. \n 
URL:https://www.portdiscovery.org/event/sensory-friendly-sundays-2/2025-04-27/
LOCATION:Port Discovery Children’s Museum\, 35 Market Place\, Baltimore\, MD\, 21202\, United States
CATEGORIES:Special Events
ATTACH;FMTTYPE=image/jpeg:https://www.portdiscovery.org/wp-content/uploads/2024/08/Art_studio_baby_coloring-X3.jpg
END:VEVENT
BEGIN:VEVENT
DTSTART;TZID=America/New_York:20250427T110000
DTEND;TZID=America/New_York:20250427T113000
DTSTAMP:20260420T215313
CREATED:20250305T152527Z
LAST-MODIFIED:20250305T154217Z
UID:10008385-1745751600-1745753400@www.portdiscovery.org
SUMMARY:Discovery Time
DESCRIPTION:Look\, listen and sing! Gather ’round\, friends. Join us as we sing songs and read stories and the whole family can enjoy. \nDue to scheduling\, programs are subject to change. Thank you for your understanding.
URL:https://www.portdiscovery.org/event/discovery-time-7/2025-04-27/
LOCATION:Port Discovery Children’s Museum\, 35 Market Place\, Baltimore\, MD\, 21202\, United States
CATEGORIES:3-5,6-10
END:VEVENT
BEGIN:VEVENT
DTSTART;TZID=America/New_York:20250427T113000
DTEND;TZID=America/New_York:20250427T120000
DTSTAMP:20260420T215313
CREATED:20250305T153927Z
LAST-MODIFIED:20250305T153927Z
UID:10008371-1745753400-1745755200@www.portdiscovery.org
SUMMARY:Wingin' It
DESCRIPTION:A performing arts program for children under 3 and their caregivers. Move\, sound\, and act like birds while exploring dance\, music\, and dramatic play. \nDue to scheduling\, programs are subject to change. Thank you for your understanding.
URL:https://www.portdiscovery.org/event/wingin-it-2/2025-04-27/
LOCATION:Port Discovery Children’s Museum\, 35 Market Place\, Baltimore\, MD\, 21202\, United States
CATEGORIES:3-5,3-6
END:VEVENT
BEGIN:VEVENT
DTSTART;TZID=America/New_York:20250427T140000
DTEND;TZID=America/New_York:20250427T143000
DTSTAMP:20260420T215313
CREATED:20250318T153429Z
LAST-MODIFIED:20250318T153429Z
UID:10008453-1745762400-1745764200@www.portdiscovery.org
SUMMARY:Exploration Bins: Life is a Garden
DESCRIPTION:Explore through a hands-on sensory-friendly experience with a variety of textures and hidden objects inside of one of our themed sensory bins. Kids will have the opportunity to create and play pretend with the surprises in store. With Life is a Garden\, these garden themed bins will focus on nature and the critters in our backyards! \nDue to scheduling\, programs are subject to change. Thank you for your understanding.
URL:https://www.portdiscovery.org/event/exploration-bins-life-is-a-garden-2/2025-04-27/
LOCATION:Port Discovery Children’s Museum\, 35 Market Place\, Baltimore\, MD\, 21202\, United States
END:VEVENT
BEGIN:VEVENT
DTSTART;VALUE=DATE:20250428
DTEND;VALUE=DATE:20250429
DTSTAMP:20260420T215313
CREATED:20241108T161809Z
LAST-MODIFIED:20250227T143707Z
UID:10008191-1745798400-1745884799@www.portdiscovery.org
SUMMARY:CLOSED
DESCRIPTION:The museum is closed Monday-Tuesday for the Spring. These hours may change as we enter the Spring season. Thank you for your understanding! \nHours are subject to change.
URL:https://www.portdiscovery.org/event/closed-23-2/2025-04-28/
LOCATION:Port Discovery Children’s Museum\, 35 Market Place\, Baltimore\, MD\, 21202\, United States
END:VEVENT
BEGIN:VEVENT
DTSTART;VALUE=DATE:20250429
DTEND;VALUE=DATE:20250430
DTSTAMP:20260420T215313
CREATED:20241108T161929Z
LAST-MODIFIED:20250227T143650Z
UID:10008186-1745884800-1745971199@www.portdiscovery.org
SUMMARY:CLOSED
DESCRIPTION:The museum is closed Monday-Tuesday for the Spring. These hours may change as we enter the Spring season. Thank you for your understanding! \nHours are subject to change.
URL:https://www.portdiscovery.org/event/closed-22/2025-04-29/
LOCATION:Port Discovery Children’s Museum\, 35 Market Place\, Baltimore\, MD\, 21202\, United States
END:VEVENT
BEGIN:VEVENT
DTSTART;TZID=America/New_York:20250429T130000
DTEND;TZID=America/New_York:20250429T150000
DTSTAMP:20260420T215313
CREATED:20250303T205109Z
LAST-MODIFIED:20250429T175116Z
UID:10008232-1745931600-1745938800@www.portdiscovery.org
SUMMARY:Access & Inclusion Afternoons
DESCRIPTION:Port Discovery’s Access & Inclusion Afternoons provide Museum access on select weekday afternoons to families who would benefit from a modified sensory friendly environment for play and learning for children\, their caregivers\, and families. \n 
URL:https://www.portdiscovery.org/event/access-inclusion-afternoons/2025-04-29/
LOCATION:Port Discovery Children’s Museum\, 35 Market Place\, Baltimore\, MD\, 21202\, United States
CATEGORIES:Special Events
ATTACH;FMTTYPE=image/jpeg:https://www.portdiscovery.org/wp-content/uploads/2025/03/72D3BBC1-6705-40D7-BEB6-9A97B55E40E5_1_105_c-XL.jpg
END:VEVENT
BEGIN:VEVENT
DTSTART;VALUE=DATE:20250430
DTEND;VALUE=DATE:20250501
DTSTAMP:20260420T215313
CREATED:20250227T142413Z
LAST-MODIFIED:20250305T154959Z
UID:10008064-1745971200-1746057599@www.portdiscovery.org
SUMMARY:OPEN | 10AM-3PM
DESCRIPTION:The museum is open Wednesday through Thursday from 10AM-3PM for the Spring. These hours may change as we enter the Spring season. Thank you for your understanding! \nHours are subject to change. Please refer to our hours page for additional hours.
URL:https://www.portdiscovery.org/event/open-10am-3pm/2025-04-30/
LOCATION:Port Discovery Children’s Museum\, 35 Market Place\, Baltimore\, MD\, 21202\, United States
END:VEVENT
BEGIN:VEVENT
DTSTART;TZID=America/New_York:20250430T110000
DTEND;TZID=America/New_York:20250430T113000
DTSTAMP:20260420T215313
CREATED:20250305T152527Z
LAST-MODIFIED:20250305T154217Z
UID:10008264-1746010800-1746012600@www.portdiscovery.org
SUMMARY:Discovery Time
DESCRIPTION:Look\, listen and sing! Gather ’round\, friends. Join us as we sing songs and read stories and the whole family can enjoy. \nDue to scheduling\, programs are subject to change. Thank you for your understanding.
URL:https://www.portdiscovery.org/event/discovery-time-7/2025-04-30/
LOCATION:Port Discovery Children’s Museum\, 35 Market Place\, Baltimore\, MD\, 21202\, United States
CATEGORIES:3-5,6-10
END:VEVENT
BEGIN:VEVENT
DTSTART;TZID=America/New_York:20250430T120000
DTEND;TZID=America/New_York:20250430T123000
DTSTAMP:20260420T215313
CREATED:20250305T152621Z
LAST-MODIFIED:20250305T153452Z
UID:10008297-1746014400-1746016200@www.portdiscovery.org
SUMMARY:Pop-Up Puppets
DESCRIPTION:Stop inside our Playhouse exhibit for a hands-on imaginative activity where choose your own puppet to create a story\, starring you and your puppet! \nDue to scheduling\, programs are subject to change. Thank you for your understanding.
URL:https://www.portdiscovery.org/event/pop-up-puppets-5/2025-04-30/
LOCATION:Port Discovery Children’s Museum\, 35 Market Place\, Baltimore\, MD\, 21202\, United States
CATEGORIES:Educational Activity,3-5,6-10,3-6
END:VEVENT
BEGIN:VEVENT
DTSTART;TZID=America/New_York:20250430T140000
DTEND;TZID=America/New_York:20250430T143000
DTSTAMP:20260420T215313
CREATED:20250305T154610Z
LAST-MODIFIED:20250424T170932Z
UID:10008967-1746021600-1746023400@www.portdiscovery.org
SUMMARY:What's on the Wall?
DESCRIPTION:On the 1st floor\, come up to our magnet wall and play with special items brought out by our Port Discovery staff members. From foam balls propelled by air tubes to tangram shapes\, find out what’s on the wall! \nDue to scheduling\, programs are subject to change. Thank you for your understanding.
URL:https://www.portdiscovery.org/event/whats-on-the-wall-3/2025-04-30/
LOCATION:Port Discovery Children’s Museum\, 35 Market Place\, Baltimore\, MD\, 21202\, United States
CATEGORIES:3-5,6-10,3-6
END:VEVENT
BEGIN:VEVENT
DTSTART;VALUE=DATE:20250501
DTEND;VALUE=DATE:20250502
DTSTAMP:20260420T215313
CREATED:20250227T142413Z
LAST-MODIFIED:20250305T154959Z
UID:10008065-1746057600-1746143999@www.portdiscovery.org
SUMMARY:OPEN | 10AM-3PM
DESCRIPTION:The museum is open Wednesday through Thursday from 10AM-3PM for the Spring. These hours may change as we enter the Spring season. Thank you for your understanding! \nHours are subject to change. Please refer to our hours page for additional hours.
URL:https://www.portdiscovery.org/event/open-10am-3pm/2025-05-01/
LOCATION:Port Discovery Children’s Museum\, 35 Market Place\, Baltimore\, MD\, 21202\, United States
END:VEVENT
BEGIN:VEVENT
DTSTART;TZID=America/New_York:20250501T110000
DTEND;TZID=America/New_York:20250501T113000
DTSTAMP:20260420T215313
CREATED:20250417T181248Z
LAST-MODIFIED:20250417T181429Z
UID:10008520-1746097200-1746099000@www.portdiscovery.org
SUMMARY:The Music in Me
DESCRIPTION:Sing it loud\, sing it proud! Join us in a special music time that will bring the love of music into your hearts. \nDue to scheduling\, programs are subject to change. Thank you for your understanding.
URL:https://www.portdiscovery.org/event/the-music-in-me-32/2025-05-01/
LOCATION:Port Discovery Children’s Museum\, 35 Market Place\, Baltimore\, MD\, 21202\, United States
CATEGORIES:Educational Activity,0-2,0-3,3-5,6-10
END:VEVENT
BEGIN:VEVENT
DTSTART;TZID=America/New_York:20250501T120000
DTEND;TZID=America/New_York:20250501T123000
DTSTAMP:20260420T215313
CREATED:20250417T181703Z
LAST-MODIFIED:20250417T181703Z
UID:10008526-1746100800-1746102600@www.portdiscovery.org
SUMMARY:Pop-Up Puppets
DESCRIPTION:Stop inside our Playhouse exhibit for a hands-on imaginative activity where choose your own puppet to create a story\, starring you and your puppet! \nDue to scheduling\, programs are subject to change. Thank you for your understanding.
URL:https://www.portdiscovery.org/event/pop-up-puppets-7/2025-05-01/
LOCATION:Port Discovery Children’s Museum\, 35 Market Place\, Baltimore\, MD\, 21202\, United States
CATEGORIES:Educational Activity,3-5,6-10,3-6
END:VEVENT
BEGIN:VEVENT
DTSTART;VALUE=DATE:20250502
DTEND;VALUE=DATE:20250503
DTSTAMP:20260420T215313
CREATED:20250227T142603Z
LAST-MODIFIED:20250227T143548Z
UID:10008120-1746144000-1746230399@www.portdiscovery.org
SUMMARY:OPEN | 10AM-5PM
DESCRIPTION:The museum is open Friday through Saturday from 10AM-5PM for the Spring. These hours may change as we enter the Spring season. Thank you for your understanding! \nHours are subject to change. Please refer to our hours page for additional hours.
URL:https://www.portdiscovery.org/event/open-10am-5pm/2025-05-02/
LOCATION:Port Discovery Children’s Museum\, 35 Market Place\, Baltimore\, MD\, 21202\, United States
END:VEVENT
BEGIN:VEVENT
DTSTART;TZID=America/New_York:20250502T110000
DTEND;TZID=America/New_York:20250502T113000
DTSTAMP:20260420T215313
CREATED:20250417T182651Z
LAST-MODIFIED:20250417T182651Z
UID:10008534-1746183600-1746185400@www.portdiscovery.org
SUMMARY:Discovery Time
DESCRIPTION:Look\, listen and sing! Gather ’round\, friends. Join us as we sing songs and read stories and the whole family can enjoy. \nDue to scheduling\, programs are subject to change. Thank you for your understanding.
URL:https://www.portdiscovery.org/event/discovery-time-12/2025-05-02/
LOCATION:Port Discovery Children’s Museum\, 35 Market Place\, Baltimore\, MD\, 21202\, United States
CATEGORIES:3-5,6-10
END:VEVENT
BEGIN:VEVENT
DTSTART;TZID=America/New_York:20250502T120000
DTEND;TZID=America/New_York:20250502T123000
DTSTAMP:20260420T215313
CREATED:20250417T183103Z
LAST-MODIFIED:20250417T183103Z
UID:10008550-1746187200-1746189000@www.portdiscovery.org
SUMMARY:Tech & Tinker
DESCRIPTION:Tinker in this hands-on activity focused on problem solving and curiosity through STEM Learning\, where you can participate in a screen-free exploration of coding\, robotics\, and creative design. \nDue to scheduling\, programs are subject to change. Thank you for your understanding.
URL:https://www.portdiscovery.org/event/tech-tinker-4/2025-05-02/
LOCATION:Port Discovery Children’s Museum\, 35 Market Place\, Baltimore\, MD\, 21202\, United States
CATEGORIES:Educational Activity,3-5,6-10,3-6
END:VEVENT
BEGIN:VEVENT
DTSTART;VALUE=DATE:20250503
DTEND;VALUE=DATE:20250504
DTSTAMP:20260420T215313
CREATED:20250227T142603Z
LAST-MODIFIED:20250227T143548Z
UID:10008121-1746230400-1746316799@www.portdiscovery.org
SUMMARY:OPEN | 10AM-5PM
DESCRIPTION:The museum is open Friday through Saturday from 10AM-5PM for the Spring. These hours may change as we enter the Spring season. Thank you for your understanding! \nHours are subject to change. Please refer to our hours page for additional hours.
URL:https://www.portdiscovery.org/event/open-10am-5pm/2025-05-03/
LOCATION:Port Discovery Children’s Museum\, 35 Market Place\, Baltimore\, MD\, 21202\, United States
END:VEVENT
BEGIN:VEVENT
DTSTART;VALUE=DATE:20250503
DTEND;VALUE=DATE:20250505
DTSTAMP:20260420T215313
CREATED:20250226T154317Z
LAST-MODIFIED:20250421T145925Z
UID:10008036-1746230400-1746403199@www.portdiscovery.org
SUMMARY:Be A Hero: Galaxy Rebels
DESCRIPTION:Come be a hero at a Children’s Museum not so far away! On May 3rd & 4th\, visit Port Discovery Children’s Museum for fun that visitors from all planets and galaxies are sure to enjoy. With activities ranging from building a laser sword to hero training\, everyone is sure to find something that will put a smile on their face. \nProgramming this Weekend Includes… \n\n\n\nFoam Laser Sword Making Workshop : Embark on a cosmic adventure and craft your very own laser sword! Using cardboard\, tape\, and foam pool noodles\, you’ll design a unique weapon for your intergalactic journey. Take home your custom creation and get inspired by sample designs from our Port Discovery team. Available while supplies last\, with 20 space travelers per session. \n\n\n\nRobot Factory : Step into a world of innovation and technology! Design and customize your own robot from various materials\, then bring it to life. Perfect for budding engineers and creators of all ages! \nBoomwhacker Orchestra – Iconic Heroic Themes : Explore the power of music through the Boomwhacker Orchestra! Join in a fun\, hands-on performance featuring iconic and heroic music that will get your creative juices flowing as you work together to make beautiful sounds. \nHero Training : Get ready to rise to the challenge and become the galaxy’s next great hero! Participate in exciting physical challenges that will test your strength\, agility\, and teamwork. Get ready to unlock your inner hero and rise to the challenge! \nDiscovery Time : Blast off into a universe of imagination! Enjoy fun stories\, music\, and engaging activities that bring the wonders of space to life for our youngest explorers. Gather round for a stellar story-time program filled with songs and hands-on fun that will spark curiosity and creativity in little ones! \nStar Maps : Navigate the stars as you craft your personal star map! Learn about constellations\, planets\, and the mysteries of the universe while designing a celestial guide for your space adventures. \nCreature Feature : Craft a unique space creature puppet from a selection of materials. Once finished\, bring your intergalactic creation to life and join others for a fun\, interactive experience that brings your puppet into a cosmic adventure. \nStay tuned for more information about special programming this galactic weekend.
URL:https://www.portdiscovery.org/event/be-a-hero-galaxy-rebels/
LOCATION:Port Discovery Children’s Museum\, 35 Market Place\, Baltimore\, MD\, 21202\, United States
CATEGORIES:0-2,0-3,3-5,6-10,3-6
ATTACH;FMTTYPE=image/jpeg:https://www.portdiscovery.org/wp-content/uploads/2025/02/24JUN24-0931-X2-e1740584792216.jpg
END:VEVENT
BEGIN:VEVENT
DTSTART;TZID=America/New_York:20250503T090000
DTEND;TZID=America/New_York:20250503T100000
DTSTAMP:20260420T215313
CREATED:20240731T151517Z
LAST-MODIFIED:20250129T223757Z
UID:10006489-1746262800-1746266400@www.portdiscovery.org
SUMMARY:Member-Only Hour
DESCRIPTION:Port Discovery members are invited to enjoy museum access one-hour before we open to the general public!
URL:https://www.portdiscovery.org/event/member-only-hour-8/2025-05-03/
LOCATION:Port Discovery Children’s Museum\, 35 Market Place\, Baltimore\, MD\, 21202\, United States
CATEGORIES:Special Events
END:VEVENT
BEGIN:VEVENT
DTSTART;TZID=America/New_York:20250503T170000
DTEND;TZID=America/New_York:20250504T083000
DTSTAMP:20260420T215313
CREATED:20250319T161844Z
LAST-MODIFIED:20250319T161844Z
UID:10008501-1746291600-1746347400@www.portdiscovery.org
SUMMARY:Overnight Adventures | Cub Scouts - Artistic Attire
DESCRIPTION:Earn your Scout badges through exciting new programs exclusively made for Girl Scouts & Cub Scouts at Port Discovery Children’s Museum! Book now to receive private museum free play that includes three floors of hands-on exhibits and unique programming and activities designed just for scouts! \nUnleash your inner artist and explore the exciting world of art and design at Port Discovery’s Artistic Attire Scout Overnight Program! Perfect for Daisies\, Brownies\, Juniors\, and Cub Scouts\, this overnight adventure offers a unique opportunity for scouts to dive into creativity\, imagination\, and hands-on learning. \nDuring this program\, scouts will embark on a journey through our interactive exhibits and engaging workshops\, where they’ll discover the fundamentals of art and design. From experimenting with different mediums to creating their own wearable art masterpieces\, this overnight experience is designed to inspire and ignite a passion for the arts. \n\nPlease note this event is for Scouts ONLY.  No exceptions. Reserve your tickets in advance.
URL:https://www.portdiscovery.org/event/overnight-adventures-cub-scouts-artistic-attire/
LOCATION:Port Discovery Children’s Museum\, 35 Market Place\, Baltimore\, MD\, 21202\, United States
CATEGORIES:Scouts
END:VEVENT
BEGIN:VEVENT
DTSTART;VALUE=DATE:20250504
DTEND;VALUE=DATE:20250505
DTSTAMP:20260420T215313
CREATED:20250227T142734Z
LAST-MODIFIED:20250305T164403Z
UID:10008180-1746316800-1746403199@www.portdiscovery.org
SUMMARY:OPEN | 11AM-5PM
DESCRIPTION:The museum is open Sunday from 11AM-5PM for the Spring. These hours may change as we enter the Spring season. Thank you for your understanding! \nHours are subject to change. Please refer to our hours page for additional hours.
URL:https://www.portdiscovery.org/event/open-11am-5pm/2025-05-04/
LOCATION:Port Discovery Children’s Museum\, 35 Market Place\, Baltimore\, MD\, 21202\, United States
END:VEVENT
END:VCALENDAR