BEGIN:VCALENDAR
VERSION:2.0
PRODID:-//Port Discovery Children&#039;s Museum - ECPv6.15.20//NONSGML v1.0//EN
CALSCALE:GREGORIAN
METHOD:PUBLISH
X-ORIGINAL-URL:https://www.portdiscovery.org
X-WR-CALDESC:Events for Port Discovery Children&#039;s Museum
REFRESH-INTERVAL;VALUE=DURATION:PT1H
X-Robots-Tag:noindex
X-PUBLISHED-TTL:PT1H
BEGIN:VTIMEZONE
TZID:America/New_York
BEGIN:DAYLIGHT
TZOFFSETFROM:-0500
TZOFFSETTO:-0400
TZNAME:EDT
DTSTART:20240310T070000
END:DAYLIGHT
BEGIN:STANDARD
TZOFFSETFROM:-0400
TZOFFSETTO:-0500
TZNAME:EST
DTSTART:20241103T060000
END:STANDARD
BEGIN:DAYLIGHT
TZOFFSETFROM:-0500
TZOFFSETTO:-0400
TZNAME:EDT
DTSTART:20250309T070000
END:DAYLIGHT
BEGIN:STANDARD
TZOFFSETFROM:-0400
TZOFFSETTO:-0500
TZNAME:EST
DTSTART:20251102T060000
END:STANDARD
BEGIN:DAYLIGHT
TZOFFSETFROM:-0500
TZOFFSETTO:-0400
TZNAME:EDT
DTSTART:20260308T070000
END:DAYLIGHT
BEGIN:STANDARD
TZOFFSETFROM:-0400
TZOFFSETTO:-0500
TZNAME:EST
DTSTART:20261101T060000
END:STANDARD
END:VTIMEZONE
BEGIN:VEVENT
DTSTART;TZID=America/New_York:20251101T110000
DTEND;TZID=America/New_York:20251101T113000
DTSTAMP:20260425T155627
CREATED:20251009T182418Z
LAST-MODIFIED:20251029T135051Z
UID:10010430-1761994800-1761996600@www.portdiscovery.org
SUMMARY:Budding Musicians
DESCRIPTION:Look\, listen and sing! Gather ’round\, friends. Join us as we sing songs and read stories that the whole family can enjoy with this introduction to music time. \nDue to scheduling\, all programs are subject to change or cancellations. Thank you for your understanding.
URL:https://www.portdiscovery.org/event/budding-musicians-7/2025-11-01/
LOCATION:Port Discovery Children’s Museum\, 35 Market Place\, Baltimore\, MD\, 21202\, United States
CATEGORIES:3-5,6-10
END:VEVENT
BEGIN:VEVENT
DTSTART;TZID=America/New_York:20251102T120000
DTEND;TZID=America/New_York:20251102T123000
DTSTAMP:20260425T155627
CREATED:20251027T193710Z
LAST-MODIFIED:20251027T193710Z
UID:10010451-1762084800-1762086600@www.portdiscovery.org
SUMMARY:Discovery Tales
DESCRIPTION:Look\, listen and sing! Gather ’round\, friends. Join us as we sing songs and read stories and the whole family can enjoy. \nDue to scheduling\, all programs are subject to change or cancellations. Thank you for your understanding.
URL:https://www.portdiscovery.org/event/discovery-tales-45/2025-11-02/
LOCATION:Port Discovery Children’s Museum\, 35 Market Place\, Baltimore\, MD\, 21202\, United States
CATEGORIES:3-5,6-10
END:VEVENT
BEGIN:VEVENT
DTSTART;TZID=America/New_York:20251102T130000
DTEND;TZID=America/New_York:20251102T133000
DTSTAMP:20260425T155627
CREATED:20251028T003049Z
LAST-MODIFIED:20251029T143211Z
UID:10010468-1762088400-1762090200@www.portdiscovery.org
SUMMARY:Exploration Bins: Nature Exploration
DESCRIPTION:Explore through a hands-on sensory-friendly experience with a variety of textures and hidden objects inside of one of our themed sensory bins. Kids will have the opportunity to create and play pretend with the surprises in store. \nDue to scheduling\, all programs are subject to change or cancellations. Thank you for your understanding.
URL:https://www.portdiscovery.org/event/exploration-bins-7/2025-11-02/
LOCATION:Port Discovery Children’s Museum\, 35 Market Place\, Baltimore\, MD\, 21202\, United States
END:VEVENT
BEGIN:VEVENT
DTSTART;TZID=America/New_York:20251103T110000
DTEND;TZID=America/New_York:20251103T113000
DTSTAMP:20260425T155627
CREATED:20251009T182418Z
LAST-MODIFIED:20251029T135051Z
UID:10010431-1762167600-1762169400@www.portdiscovery.org
SUMMARY:Budding Musicians
DESCRIPTION:Look\, listen and sing! Gather ’round\, friends. Join us as we sing songs and read stories that the whole family can enjoy with this introduction to music time. \nDue to scheduling\, all programs are subject to change or cancellations. Thank you for your understanding.
URL:https://www.portdiscovery.org/event/budding-musicians-7/2025-11-03/
LOCATION:Port Discovery Children’s Museum\, 35 Market Place\, Baltimore\, MD\, 21202\, United States
CATEGORIES:3-5,6-10
END:VEVENT
BEGIN:VEVENT
DTSTART;TZID=America/New_York:20251103T130000
DTEND;TZID=America/New_York:20251103T133000
DTSTAMP:20260425T155627
CREATED:20251028T003049Z
LAST-MODIFIED:20251029T143211Z
UID:10010469-1762174800-1762176600@www.portdiscovery.org
SUMMARY:Exploration Bins: Nature Exploration
DESCRIPTION:Explore through a hands-on sensory-friendly experience with a variety of textures and hidden objects inside of one of our themed sensory bins. Kids will have the opportunity to create and play pretend with the surprises in store. \nDue to scheduling\, all programs are subject to change or cancellations. Thank you for your understanding.
URL:https://www.portdiscovery.org/event/exploration-bins-7/2025-11-03/
LOCATION:Port Discovery Children’s Museum\, 35 Market Place\, Baltimore\, MD\, 21202\, United States
END:VEVENT
BEGIN:VEVENT
DTSTART;TZID=America/New_York:20251106T110000
DTEND;TZID=America/New_York:20251106T113000
DTSTAMP:20260425T155627
CREATED:20251027T193710Z
LAST-MODIFIED:20251027T193710Z
UID:10010452-1762426800-1762428600@www.portdiscovery.org
SUMMARY:Discovery Tales
DESCRIPTION:Look\, listen and sing! Gather ’round\, friends. Join us as we sing songs and read stories and the whole family can enjoy. \nDue to scheduling\, all programs are subject to change or cancellations. Thank you for your understanding.
URL:https://www.portdiscovery.org/event/discovery-tales-45/2025-11-06/
LOCATION:Port Discovery Children’s Museum\, 35 Market Place\, Baltimore\, MD\, 21202\, United States
CATEGORIES:3-5,6-10
END:VEVENT
BEGIN:VEVENT
DTSTART;TZID=America/New_York:20251107T110000
DTEND;TZID=America/New_York:20251107T113000
DTSTAMP:20260425T155627
CREATED:20251027T193710Z
LAST-MODIFIED:20251027T193710Z
UID:10010453-1762513200-1762515000@www.portdiscovery.org
SUMMARY:Discovery Tales
DESCRIPTION:Look\, listen and sing! Gather ’round\, friends. Join us as we sing songs and read stories and the whole family can enjoy. \nDue to scheduling\, all programs are subject to change or cancellations. Thank you for your understanding.
URL:https://www.portdiscovery.org/event/discovery-tales-45/2025-11-07/
LOCATION:Port Discovery Children’s Museum\, 35 Market Place\, Baltimore\, MD\, 21202\, United States
CATEGORIES:3-5,6-10
END:VEVENT
BEGIN:VEVENT
DTSTART;TZID=America/New_York:20251107T140000
DTEND;TZID=America/New_York:20251107T143000
DTSTAMP:20260425T155627
CREATED:20251028T003049Z
LAST-MODIFIED:20251029T143211Z
UID:10010470-1762524000-1762525800@www.portdiscovery.org
SUMMARY:Exploration Bins: Nature Exploration
DESCRIPTION:Explore through a hands-on sensory-friendly experience with a variety of textures and hidden objects inside of one of our themed sensory bins. Kids will have the opportunity to create and play pretend with the surprises in store. \nDue to scheduling\, all programs are subject to change or cancellations. Thank you for your understanding.
URL:https://www.portdiscovery.org/event/exploration-bins-7/2025-11-07/
LOCATION:Port Discovery Children’s Museum\, 35 Market Place\, Baltimore\, MD\, 21202\, United States
END:VEVENT
BEGIN:VEVENT
DTSTART;TZID=America/New_York:20251109T120000
DTEND;TZID=America/New_York:20251109T123000
DTSTAMP:20260425T155627
CREATED:20251009T182418Z
LAST-MODIFIED:20251029T135051Z
UID:10010432-1762689600-1762691400@www.portdiscovery.org
SUMMARY:Budding Musicians
DESCRIPTION:Look\, listen and sing! Gather ’round\, friends. Join us as we sing songs and read stories that the whole family can enjoy with this introduction to music time. \nDue to scheduling\, all programs are subject to change or cancellations. Thank you for your understanding.
URL:https://www.portdiscovery.org/event/budding-musicians-7/2025-11-09/
LOCATION:Port Discovery Children’s Museum\, 35 Market Place\, Baltimore\, MD\, 21202\, United States
CATEGORIES:3-5,6-10
END:VEVENT
BEGIN:VEVENT
DTSTART;TZID=America/New_York:20251110T110000
DTEND;TZID=America/New_York:20251110T113000
DTSTAMP:20260425T155627
CREATED:20251027T193710Z
LAST-MODIFIED:20251027T193710Z
UID:10010454-1762772400-1762774200@www.portdiscovery.org
SUMMARY:Discovery Tales
DESCRIPTION:Look\, listen and sing! Gather ’round\, friends. Join us as we sing songs and read stories and the whole family can enjoy. \nDue to scheduling\, all programs are subject to change or cancellations. Thank you for your understanding.
URL:https://www.portdiscovery.org/event/discovery-tales-45/2025-11-10/
LOCATION:Port Discovery Children’s Museum\, 35 Market Place\, Baltimore\, MD\, 21202\, United States
CATEGORIES:3-5,6-10
END:VEVENT
BEGIN:VEVENT
DTSTART;TZID=America/New_York:20251111T110000
DTEND;TZID=America/New_York:20251111T113000
DTSTAMP:20260425T155627
CREATED:20251009T182418Z
LAST-MODIFIED:20251029T135051Z
UID:10010898-1762858800-1762860600@www.portdiscovery.org
SUMMARY:Budding Musicians
DESCRIPTION:Look\, listen and sing! Gather ’round\, friends. Join us as we sing songs and read stories that the whole family can enjoy with this introduction to music time. \nDue to scheduling\, all programs are subject to change or cancellations. Thank you for your understanding.
URL:https://www.portdiscovery.org/event/budding-musicians-7/2025-11-11/
LOCATION:Port Discovery Children’s Museum\, 35 Market Place\, Baltimore\, MD\, 21202\, United States
CATEGORIES:3-5,6-10
END:VEVENT
BEGIN:VEVENT
DTSTART;TZID=America/New_York:20251111T140000
DTEND;TZID=America/New_York:20251111T143000
DTSTAMP:20260425T155627
CREATED:20251028T003049Z
LAST-MODIFIED:20251029T143211Z
UID:10010896-1762869600-1762871400@www.portdiscovery.org
SUMMARY:Exploration Bins: Nature Exploration
DESCRIPTION:Explore through a hands-on sensory-friendly experience with a variety of textures and hidden objects inside of one of our themed sensory bins. Kids will have the opportunity to create and play pretend with the surprises in store. \nDue to scheduling\, all programs are subject to change or cancellations. Thank you for your understanding.
URL:https://www.portdiscovery.org/event/exploration-bins-7/2025-11-11/
LOCATION:Port Discovery Children’s Museum\, 35 Market Place\, Baltimore\, MD\, 21202\, United States
END:VEVENT
BEGIN:VEVENT
DTSTART;TZID=America/New_York:20251113T110000
DTEND;TZID=America/New_York:20251113T113000
DTSTAMP:20260425T155627
CREATED:20251009T182418Z
LAST-MODIFIED:20251029T135051Z
UID:10010433-1763031600-1763033400@www.portdiscovery.org
SUMMARY:Budding Musicians
DESCRIPTION:Look\, listen and sing! Gather ’round\, friends. Join us as we sing songs and read stories that the whole family can enjoy with this introduction to music time. \nDue to scheduling\, all programs are subject to change or cancellations. Thank you for your understanding.
URL:https://www.portdiscovery.org/event/budding-musicians-7/2025-11-13/
LOCATION:Port Discovery Children’s Museum\, 35 Market Place\, Baltimore\, MD\, 21202\, United States
CATEGORIES:3-5,6-10
END:VEVENT
BEGIN:VEVENT
DTSTART;TZID=America/New_York:20251114T110000
DTEND;TZID=America/New_York:20251114T113000
DTSTAMP:20260425T155627
CREATED:20251027T193710Z
LAST-MODIFIED:20251027T193710Z
UID:10010455-1763118000-1763119800@www.portdiscovery.org
SUMMARY:Discovery Tales
DESCRIPTION:Look\, listen and sing! Gather ’round\, friends. Join us as we sing songs and read stories and the whole family can enjoy. \nDue to scheduling\, all programs are subject to change or cancellations. Thank you for your understanding.
URL:https://www.portdiscovery.org/event/discovery-tales-45/2025-11-14/
LOCATION:Port Discovery Children’s Museum\, 35 Market Place\, Baltimore\, MD\, 21202\, United States
CATEGORIES:3-5,6-10
END:VEVENT
BEGIN:VEVENT
DTSTART;TZID=America/New_York:20251115T110000
DTEND;TZID=America/New_York:20251115T113000
DTSTAMP:20260425T155627
CREATED:20251009T182418Z
LAST-MODIFIED:20251029T135051Z
UID:10010434-1763204400-1763206200@www.portdiscovery.org
SUMMARY:Budding Musicians
DESCRIPTION:Look\, listen and sing! Gather ’round\, friends. Join us as we sing songs and read stories that the whole family can enjoy with this introduction to music time. \nDue to scheduling\, all programs are subject to change or cancellations. Thank you for your understanding.
URL:https://www.portdiscovery.org/event/budding-musicians-7/2025-11-15/
LOCATION:Port Discovery Children’s Museum\, 35 Market Place\, Baltimore\, MD\, 21202\, United States
CATEGORIES:3-5,6-10
END:VEVENT
BEGIN:VEVENT
DTSTART;TZID=America/New_York:20251116T100000
DTEND;TZID=America/New_York:20251116T103000
DTSTAMP:20260425T155627
CREATED:20251028T003049Z
LAST-MODIFIED:20251029T143211Z
UID:10010471-1763287200-1763289000@www.portdiscovery.org
SUMMARY:Exploration Bins: Nature Exploration
DESCRIPTION:Explore through a hands-on sensory-friendly experience with a variety of textures and hidden objects inside of one of our themed sensory bins. Kids will have the opportunity to create and play pretend with the surprises in store. \nDue to scheduling\, all programs are subject to change or cancellations. Thank you for your understanding.
URL:https://www.portdiscovery.org/event/exploration-bins-7/2025-11-16/
LOCATION:Port Discovery Children’s Museum\, 35 Market Place\, Baltimore\, MD\, 21202\, United States
END:VEVENT
BEGIN:VEVENT
DTSTART;TZID=America/New_York:20251116T120000
DTEND;TZID=America/New_York:20251116T123000
DTSTAMP:20260425T155627
CREATED:20251027T193710Z
LAST-MODIFIED:20251027T193710Z
UID:10010456-1763294400-1763296200@www.portdiscovery.org
SUMMARY:Discovery Tales
DESCRIPTION:Look\, listen and sing! Gather ’round\, friends. Join us as we sing songs and read stories and the whole family can enjoy. \nDue to scheduling\, all programs are subject to change or cancellations. Thank you for your understanding.
URL:https://www.portdiscovery.org/event/discovery-tales-45/2025-11-16/
LOCATION:Port Discovery Children’s Museum\, 35 Market Place\, Baltimore\, MD\, 21202\, United States
CATEGORIES:3-5,6-10
END:VEVENT
BEGIN:VEVENT
DTSTART;TZID=America/New_York:20251117T110000
DTEND;TZID=America/New_York:20251117T113000
DTSTAMP:20260425T155627
CREATED:20251009T182418Z
LAST-MODIFIED:20251029T135051Z
UID:10010435-1763377200-1763379000@www.portdiscovery.org
SUMMARY:Budding Musicians
DESCRIPTION:Look\, listen and sing! Gather ’round\, friends. Join us as we sing songs and read stories that the whole family can enjoy with this introduction to music time. \nDue to scheduling\, all programs are subject to change or cancellations. Thank you for your understanding.
URL:https://www.portdiscovery.org/event/budding-musicians-7/2025-11-17/
LOCATION:Port Discovery Children’s Museum\, 35 Market Place\, Baltimore\, MD\, 21202\, United States
CATEGORIES:3-5,6-10
END:VEVENT
BEGIN:VEVENT
DTSTART;TZID=America/New_York:20251117T130000
DTEND;TZID=America/New_York:20251117T133000
DTSTAMP:20260425T155627
CREATED:20251028T003049Z
LAST-MODIFIED:20251029T143211Z
UID:10010472-1763384400-1763386200@www.portdiscovery.org
SUMMARY:Exploration Bins: Nature Exploration
DESCRIPTION:Explore through a hands-on sensory-friendly experience with a variety of textures and hidden objects inside of one of our themed sensory bins. Kids will have the opportunity to create and play pretend with the surprises in store. \nDue to scheduling\, all programs are subject to change or cancellations. Thank you for your understanding.
URL:https://www.portdiscovery.org/event/exploration-bins-7/2025-11-17/
LOCATION:Port Discovery Children’s Museum\, 35 Market Place\, Baltimore\, MD\, 21202\, United States
END:VEVENT
BEGIN:VEVENT
DTSTART;TZID=America/New_York:20251120T110000
DTEND;TZID=America/New_York:20251120T113000
DTSTAMP:20260425T155627
CREATED:20251027T193710Z
LAST-MODIFIED:20251027T193710Z
UID:10010457-1763636400-1763638200@www.portdiscovery.org
SUMMARY:Discovery Tales
DESCRIPTION:Look\, listen and sing! Gather ’round\, friends. Join us as we sing songs and read stories and the whole family can enjoy. \nDue to scheduling\, all programs are subject to change or cancellations. Thank you for your understanding.
URL:https://www.portdiscovery.org/event/discovery-tales-45/2025-11-20/
LOCATION:Port Discovery Children’s Museum\, 35 Market Place\, Baltimore\, MD\, 21202\, United States
CATEGORIES:3-5,6-10
END:VEVENT
BEGIN:VEVENT
DTSTART;TZID=America/New_York:20251121T110000
DTEND;TZID=America/New_York:20251121T113000
DTSTAMP:20260425T155627
CREATED:20251027T193710Z
LAST-MODIFIED:20251027T193710Z
UID:10010458-1763722800-1763724600@www.portdiscovery.org
SUMMARY:Discovery Tales
DESCRIPTION:Look\, listen and sing! Gather ’round\, friends. Join us as we sing songs and read stories and the whole family can enjoy. \nDue to scheduling\, all programs are subject to change or cancellations. Thank you for your understanding.
URL:https://www.portdiscovery.org/event/discovery-tales-45/2025-11-21/
LOCATION:Port Discovery Children’s Museum\, 35 Market Place\, Baltimore\, MD\, 21202\, United States
CATEGORIES:3-5,6-10
END:VEVENT
BEGIN:VEVENT
DTSTART;TZID=America/New_York:20251121T140000
DTEND;TZID=America/New_York:20251121T143000
DTSTAMP:20260425T155627
CREATED:20251028T003049Z
LAST-MODIFIED:20251029T143211Z
UID:10010473-1763733600-1763735400@www.portdiscovery.org
SUMMARY:Exploration Bins: Nature Exploration
DESCRIPTION:Explore through a hands-on sensory-friendly experience with a variety of textures and hidden objects inside of one of our themed sensory bins. Kids will have the opportunity to create and play pretend with the surprises in store. \nDue to scheduling\, all programs are subject to change or cancellations. Thank you for your understanding.
URL:https://www.portdiscovery.org/event/exploration-bins-7/2025-11-21/
LOCATION:Port Discovery Children’s Museum\, 35 Market Place\, Baltimore\, MD\, 21202\, United States
END:VEVENT
BEGIN:VEVENT
DTSTART;TZID=America/New_York:20251122T110000
DTEND;TZID=America/New_York:20251122T113000
DTSTAMP:20260425T155627
CREATED:20251027T193710Z
LAST-MODIFIED:20251027T193710Z
UID:10010459-1763809200-1763811000@www.portdiscovery.org
SUMMARY:Discovery Tales
DESCRIPTION:Look\, listen and sing! Gather ’round\, friends. Join us as we sing songs and read stories and the whole family can enjoy. \nDue to scheduling\, all programs are subject to change or cancellations. Thank you for your understanding.
URL:https://www.portdiscovery.org/event/discovery-tales-45/2025-11-22/
LOCATION:Port Discovery Children’s Museum\, 35 Market Place\, Baltimore\, MD\, 21202\, United States
CATEGORIES:3-5,6-10
END:VEVENT
BEGIN:VEVENT
DTSTART;TZID=America/New_York:20251123T120000
DTEND;TZID=America/New_York:20251123T123000
DTSTAMP:20260425T155627
CREATED:20251009T182418Z
LAST-MODIFIED:20251029T135051Z
UID:10010436-1763899200-1763901000@www.portdiscovery.org
SUMMARY:Budding Musicians
DESCRIPTION:Look\, listen and sing! Gather ’round\, friends. Join us as we sing songs and read stories that the whole family can enjoy with this introduction to music time. \nDue to scheduling\, all programs are subject to change or cancellations. Thank you for your understanding.
URL:https://www.portdiscovery.org/event/budding-musicians-7/2025-11-23/
LOCATION:Port Discovery Children’s Museum\, 35 Market Place\, Baltimore\, MD\, 21202\, United States
CATEGORIES:3-5,6-10
END:VEVENT
BEGIN:VEVENT
DTSTART;TZID=America/New_York:20251124T110000
DTEND;TZID=America/New_York:20251124T113000
DTSTAMP:20260425T155627
CREATED:20251027T193710Z
LAST-MODIFIED:20251027T193710Z
UID:10010460-1763982000-1763983800@www.portdiscovery.org
SUMMARY:Discovery Tales
DESCRIPTION:Look\, listen and sing! Gather ’round\, friends. Join us as we sing songs and read stories and the whole family can enjoy. \nDue to scheduling\, all programs are subject to change or cancellations. Thank you for your understanding.
URL:https://www.portdiscovery.org/event/discovery-tales-45/2025-11-24/
LOCATION:Port Discovery Children’s Museum\, 35 Market Place\, Baltimore\, MD\, 21202\, United States
CATEGORIES:3-5,6-10
END:VEVENT
BEGIN:VEVENT
DTSTART;TZID=America/New_York:20251125T150000
DTEND;TZID=America/New_York:20251125T153000
DTSTAMP:20260425T155627
CREATED:20251028T003049Z
LAST-MODIFIED:20251029T143211Z
UID:10010474-1764082800-1764084600@www.portdiscovery.org
SUMMARY:Exploration Bins: Nature Exploration
DESCRIPTION:Explore through a hands-on sensory-friendly experience with a variety of textures and hidden objects inside of one of our themed sensory bins. Kids will have the opportunity to create and play pretend with the surprises in store. \nDue to scheduling\, all programs are subject to change or cancellations. Thank you for your understanding.
URL:https://www.portdiscovery.org/event/exploration-bins-7/2025-11-25/
LOCATION:Port Discovery Children’s Museum\, 35 Market Place\, Baltimore\, MD\, 21202\, United States
END:VEVENT
BEGIN:VEVENT
DTSTART;TZID=America/New_York:20251126T110000
DTEND;TZID=America/New_York:20251126T113000
DTSTAMP:20260425T155627
CREATED:20251027T193710Z
LAST-MODIFIED:20251027T193710Z
UID:10010461-1764154800-1764156600@www.portdiscovery.org
SUMMARY:Discovery Tales
DESCRIPTION:Look\, listen and sing! Gather ’round\, friends. Join us as we sing songs and read stories and the whole family can enjoy. \nDue to scheduling\, all programs are subject to change or cancellations. Thank you for your understanding.
URL:https://www.portdiscovery.org/event/discovery-tales-45/2025-11-26/
LOCATION:Port Discovery Children’s Museum\, 35 Market Place\, Baltimore\, MD\, 21202\, United States
CATEGORIES:3-5,6-10
END:VEVENT
BEGIN:VEVENT
DTSTART;TZID=America/New_York:20251128T110000
DTEND;TZID=America/New_York:20251128T113000
DTSTAMP:20260425T155627
CREATED:20251105T155419Z
LAST-MODIFIED:20251105T155419Z
UID:10010941-1764327600-1764329400@www.portdiscovery.org
SUMMARY:Discovery Tales
DESCRIPTION:Look\, listen and sing! Gather ’round\, friends. Join us as we sing songs and read stories and the whole family can enjoy. \nDue to scheduling\, all programs are subject to change or cancellations. Thank you for your understanding.
URL:https://www.portdiscovery.org/event/discovery-tales-49/2025-11-28/1/
LOCATION:Port Discovery Children’s Museum\, 35 Market Place\, Baltimore\, MD\, 21202\, United States
CATEGORIES:3-5,6-10
END:VEVENT
BEGIN:VEVENT
DTSTART;TZID=America/New_York:20251128T140000
DTEND;TZID=America/New_York:20251128T143000
DTSTAMP:20260425T155627
CREATED:20251105T155419Z
LAST-MODIFIED:20251105T155419Z
UID:10010942-1764338400-1764340200@www.portdiscovery.org
SUMMARY:Discovery Tales
DESCRIPTION:Look\, listen and sing! Gather ’round\, friends. Join us as we sing songs and read stories and the whole family can enjoy. \nDue to scheduling\, all programs are subject to change or cancellations. Thank you for your understanding.
URL:https://www.portdiscovery.org/event/discovery-tales-49/2025-11-28/2/
LOCATION:Port Discovery Children’s Museum\, 35 Market Place\, Baltimore\, MD\, 21202\, United States
CATEGORIES:3-5,6-10
END:VEVENT
BEGIN:VEVENT
DTSTART;TZID=America/New_York:20251130T120000
DTEND;TZID=America/New_York:20251130T123000
DTSTAMP:20260425T155627
CREATED:20251009T182418Z
LAST-MODIFIED:20251029T135051Z
UID:10010437-1764504000-1764505800@www.portdiscovery.org
SUMMARY:Budding Musicians
DESCRIPTION:Look\, listen and sing! Gather ’round\, friends. Join us as we sing songs and read stories that the whole family can enjoy with this introduction to music time. \nDue to scheduling\, all programs are subject to change or cancellations. Thank you for your understanding.
URL:https://www.portdiscovery.org/event/budding-musicians-7/2025-11-30/
LOCATION:Port Discovery Children’s Museum\, 35 Market Place\, Baltimore\, MD\, 21202\, United States
CATEGORIES:3-5,6-10
END:VEVENT
END:VCALENDAR