BEGIN:VCALENDAR
VERSION:2.0
PRODID:-//Port Discovery Children&#039;s Museum - ECPv6.15.20//NONSGML v1.0//EN
CALSCALE:GREGORIAN
METHOD:PUBLISH
X-WR-CALNAME:Port Discovery Children&#039;s Museum
X-ORIGINAL-URL:https://www.portdiscovery.org
X-WR-CALDESC:Events for Port Discovery Children&#039;s Museum
REFRESH-INTERVAL;VALUE=DURATION:PT1H
X-Robots-Tag:noindex
X-PUBLISHED-TTL:PT1H
BEGIN:VTIMEZONE
TZID:America/New_York
BEGIN:DAYLIGHT
TZOFFSETFROM:-0500
TZOFFSETTO:-0400
TZNAME:EDT
DTSTART:20240310T070000
END:DAYLIGHT
BEGIN:STANDARD
TZOFFSETFROM:-0400
TZOFFSETTO:-0500
TZNAME:EST
DTSTART:20241103T060000
END:STANDARD
BEGIN:DAYLIGHT
TZOFFSETFROM:-0500
TZOFFSETTO:-0400
TZNAME:EDT
DTSTART:20250309T070000
END:DAYLIGHT
BEGIN:STANDARD
TZOFFSETFROM:-0400
TZOFFSETTO:-0500
TZNAME:EST
DTSTART:20251102T060000
END:STANDARD
BEGIN:DAYLIGHT
TZOFFSETFROM:-0500
TZOFFSETTO:-0400
TZNAME:EDT
DTSTART:20260308T070000
END:DAYLIGHT
BEGIN:STANDARD
TZOFFSETFROM:-0400
TZOFFSETTO:-0500
TZNAME:EST
DTSTART:20261101T060000
END:STANDARD
END:VTIMEZONE
BEGIN:VEVENT
DTSTART;TZID=America/New_York:20250704T130000
DTEND;TZID=America/New_York:20250704T133000
DTSTAMP:20260423T000050
CREATED:20250509T181719Z
LAST-MODIFIED:20250509T181826Z
UID:10009265-1751634000-1751635800@www.portdiscovery.org
SUMMARY:Bubbling Fireworks
DESCRIPTION:Let’s get bubbly! Make fizzy fireworks through a hands-on science experiment where you can play with a variety of materials in an activity led by one of our Learning Specialists. \nDue to scheduling\, programs are subject to change. Thank you for your understanding.
URL:https://www.portdiscovery.org/event/bubbling-fireworks/
LOCATION:Port Discovery Children’s Museum\, 35 Market Place\, Baltimore\, MD\, 21202\, United States
CATEGORIES:Educational Activity,3-5,6-10,3-6
END:VEVENT
BEGIN:VEVENT
DTSTART;TZID=America/New_York:20250704T150000
DTEND;TZID=America/New_York:20250704T153000
DTSTAMP:20260423T000050
CREATED:20250509T190500Z
LAST-MODIFIED:20250509T190500Z
UID:10009268-1751641200-1751643000@www.portdiscovery.org
SUMMARY:Fireworks in a Jar
DESCRIPTION:Burst colors in a hands-on science activity where you can experiment with viscosity and color in a jar! Play with different materials and see what combinations you can make. \nDue to scheduling\, programs are subject to change. Thank you for your understanding.
URL:https://www.portdiscovery.org/event/fireworks-in-a-jar/
LOCATION:Port Discovery Children’s Museum\, 35 Market Place\, Baltimore\, MD\, 21202\, United States
CATEGORIES:Educational Activity,0-3,6-10,3-6
END:VEVENT
BEGIN:VEVENT
DTSTART;VALUE=DATE:20250728
DTEND;VALUE=DATE:20250729
DTSTAMP:20260423T000050
CREATED:20250127T222242Z
LAST-MODIFIED:20250127T222242Z
UID:10007807-1753660800-1753747199@www.portdiscovery.org
SUMMARY:Dream Big\, Play More! Summer Camp at Port Discovery
DESCRIPTION:Looking for a an epic adventure this summer? Join us for up to four weeks with Summer Camp at Port Discovery. Each day campers will dive into STEAM with art creations\, engineering experiences and scientific discovery through play. Ample time to navigate the museum’s three floors of interactive fun will give way to engaging workshops in the creative arts\, including theater\, music\, and dance. \nAll summer camp activities and workshops are available by registration only\, coming soon!
URL:https://www.portdiscovery.org/event/dream-big-play-more-summer-camp-at-port-discovery-2/2025-07-28/
LOCATION:Port Discovery Children’s Museum\, 35 Market Place\, Baltimore\, MD\, 21202\, United States
CATEGORIES:Educational Activity,3-5,6-10,3-6
END:VEVENT
BEGIN:VEVENT
DTSTART;VALUE=DATE:20250729
DTEND;VALUE=DATE:20250730
DTSTAMP:20260423T000050
CREATED:20250127T222242Z
LAST-MODIFIED:20250127T222242Z
UID:10007808-1753747200-1753833599@www.portdiscovery.org
SUMMARY:Dream Big\, Play More! Summer Camp at Port Discovery
DESCRIPTION:Looking for a an epic adventure this summer? Join us for up to four weeks with Summer Camp at Port Discovery. Each day campers will dive into STEAM with art creations\, engineering experiences and scientific discovery through play. Ample time to navigate the museum’s three floors of interactive fun will give way to engaging workshops in the creative arts\, including theater\, music\, and dance. \nAll summer camp activities and workshops are available by registration only\, coming soon!
URL:https://www.portdiscovery.org/event/dream-big-play-more-summer-camp-at-port-discovery-2/2025-07-29/
LOCATION:Port Discovery Children’s Museum\, 35 Market Place\, Baltimore\, MD\, 21202\, United States
CATEGORIES:Educational Activity,3-5,6-10,3-6
END:VEVENT
BEGIN:VEVENT
DTSTART;VALUE=DATE:20250730
DTEND;VALUE=DATE:20250731
DTSTAMP:20260423T000050
CREATED:20250127T222242Z
LAST-MODIFIED:20250127T222242Z
UID:10007809-1753833600-1753919999@www.portdiscovery.org
SUMMARY:Dream Big\, Play More! Summer Camp at Port Discovery
DESCRIPTION:Looking for a an epic adventure this summer? Join us for up to four weeks with Summer Camp at Port Discovery. Each day campers will dive into STEAM with art creations\, engineering experiences and scientific discovery through play. Ample time to navigate the museum’s three floors of interactive fun will give way to engaging workshops in the creative arts\, including theater\, music\, and dance. \nAll summer camp activities and workshops are available by registration only\, coming soon!
URL:https://www.portdiscovery.org/event/dream-big-play-more-summer-camp-at-port-discovery-2/2025-07-30/
LOCATION:Port Discovery Children’s Museum\, 35 Market Place\, Baltimore\, MD\, 21202\, United States
CATEGORIES:Educational Activity,3-5,6-10,3-6
END:VEVENT
BEGIN:VEVENT
DTSTART;VALUE=DATE:20250731
DTEND;VALUE=DATE:20250801
DTSTAMP:20260423T000050
CREATED:20250127T222242Z
LAST-MODIFIED:20250127T222242Z
UID:10007810-1753920000-1754006399@www.portdiscovery.org
SUMMARY:Dream Big\, Play More! Summer Camp at Port Discovery
DESCRIPTION:Looking for a an epic adventure this summer? Join us for up to four weeks with Summer Camp at Port Discovery. Each day campers will dive into STEAM with art creations\, engineering experiences and scientific discovery through play. Ample time to navigate the museum’s three floors of interactive fun will give way to engaging workshops in the creative arts\, including theater\, music\, and dance. \nAll summer camp activities and workshops are available by registration only\, coming soon!
URL:https://www.portdiscovery.org/event/dream-big-play-more-summer-camp-at-port-discovery-2/2025-07-31/
LOCATION:Port Discovery Children’s Museum\, 35 Market Place\, Baltimore\, MD\, 21202\, United States
CATEGORIES:Educational Activity,3-5,6-10,3-6
END:VEVENT
END:VCALENDAR