BEGIN:VCALENDAR
VERSION:2.0
PRODID:-//Port Discovery Children&#039;s Museum - ECPv6.15.20//NONSGML v1.0//EN
CALSCALE:GREGORIAN
METHOD:PUBLISH
X-ORIGINAL-URL:https://www.portdiscovery.org
X-WR-CALDESC:Events for Port Discovery Children&#039;s Museum
REFRESH-INTERVAL;VALUE=DURATION:PT1H
X-Robots-Tag:noindex
X-PUBLISHED-TTL:PT1H
BEGIN:VTIMEZONE
TZID:America/New_York
BEGIN:DAYLIGHT
TZOFFSETFROM:-0500
TZOFFSETTO:-0400
TZNAME:EDT
DTSTART:20250309T070000
END:DAYLIGHT
BEGIN:STANDARD
TZOFFSETFROM:-0400
TZOFFSETTO:-0500
TZNAME:EST
DTSTART:20251102T060000
END:STANDARD
BEGIN:DAYLIGHT
TZOFFSETFROM:-0500
TZOFFSETTO:-0400
TZNAME:EDT
DTSTART:20260308T070000
END:DAYLIGHT
BEGIN:STANDARD
TZOFFSETFROM:-0400
TZOFFSETTO:-0500
TZNAME:EST
DTSTART:20261101T060000
END:STANDARD
BEGIN:DAYLIGHT
TZOFFSETFROM:-0500
TZOFFSETTO:-0400
TZNAME:EDT
DTSTART:20270314T070000
END:DAYLIGHT
BEGIN:STANDARD
TZOFFSETFROM:-0400
TZOFFSETTO:-0500
TZNAME:EST
DTSTART:20271107T060000
END:STANDARD
END:VTIMEZONE
BEGIN:VEVENT
DTSTART;TZID=America/New_York:20260423T120000
DTEND;TZID=America/New_York:20260423T123000
DTSTAMP:20260420T094945
CREATED:20260212T204305Z
LAST-MODIFIED:20260212T204305Z
UID:10011567-1776945600-1776947400@www.portdiscovery.org
SUMMARY:Coding Corner
DESCRIPTION:Swing by our coding corner and play with hands-on problem solving and curiosity through STEM Learning\, where you can participate in an exploration of coding\, robotics\, and creative design. \nDue to scheduling\, all programs are subject to change or cancellations. Thank you for your understanding.
URL:https://www.portdiscovery.org/event/coding-corner-2/2026-04-23/
LOCATION:Port Discovery Children’s Museum\, 35 Market Place\, Baltimore\, MD\, 21202\, United States
CATEGORIES:Educational Activity,3-5,6-10,3-6
END:VEVENT
BEGIN:VEVENT
DTSTART;TZID=America/New_York:20260424T140000
DTEND;TZID=America/New_York:20260424T143000
DTSTAMP:20260420T094945
CREATED:20260212T204305Z
LAST-MODIFIED:20260212T204305Z
UID:10011568-1777039200-1777041000@www.portdiscovery.org
SUMMARY:Coding Corner
DESCRIPTION:Swing by our coding corner and play with hands-on problem solving and curiosity through STEM Learning\, where you can participate in an exploration of coding\, robotics\, and creative design. \nDue to scheduling\, all programs are subject to change or cancellations. Thank you for your understanding.
URL:https://www.portdiscovery.org/event/coding-corner-2/2026-04-24/
LOCATION:Port Discovery Children’s Museum\, 35 Market Place\, Baltimore\, MD\, 21202\, United States
CATEGORIES:Educational Activity,3-5,6-10,3-6
END:VEVENT
BEGIN:VEVENT
DTSTART;TZID=America/New_York:20260426T140000
DTEND;TZID=America/New_York:20260426T143000
DTSTAMP:20260420T094945
CREATED:20260212T204305Z
LAST-MODIFIED:20260212T204305Z
UID:10011569-1777212000-1777213800@www.portdiscovery.org
SUMMARY:Coding Corner
DESCRIPTION:Swing by our coding corner and play with hands-on problem solving and curiosity through STEM Learning\, where you can participate in an exploration of coding\, robotics\, and creative design. \nDue to scheduling\, all programs are subject to change or cancellations. Thank you for your understanding.
URL:https://www.portdiscovery.org/event/coding-corner-2/2026-04-26/
LOCATION:Port Discovery Children’s Museum\, 35 Market Place\, Baltimore\, MD\, 21202\, United States
CATEGORIES:Educational Activity,3-5,6-10,3-6
END:VEVENT
BEGIN:VEVENT
DTSTART;TZID=America/New_York:20260427T120000
DTEND;TZID=America/New_York:20260427T123000
DTSTAMP:20260420T094945
CREATED:20260212T204305Z
LAST-MODIFIED:20260212T204305Z
UID:10011570-1777291200-1777293000@www.portdiscovery.org
SUMMARY:Coding Corner
DESCRIPTION:Swing by our coding corner and play with hands-on problem solving and curiosity through STEM Learning\, where you can participate in an exploration of coding\, robotics\, and creative design. \nDue to scheduling\, all programs are subject to change or cancellations. Thank you for your understanding.
URL:https://www.portdiscovery.org/event/coding-corner-2/2026-04-27/
LOCATION:Port Discovery Children’s Museum\, 35 Market Place\, Baltimore\, MD\, 21202\, United States
CATEGORIES:Educational Activity,3-5,6-10,3-6
END:VEVENT
END:VCALENDAR