BEGIN:VCALENDAR
VERSION:2.0
PRODID:-//Port Discovery Children&#039;s Museum - ECPv6.15.20//NONSGML v1.0//EN
CALSCALE:GREGORIAN
METHOD:PUBLISH
X-ORIGINAL-URL:https://www.portdiscovery.org
X-WR-CALDESC:Events for Port Discovery Children&#039;s Museum
REFRESH-INTERVAL;VALUE=DURATION:PT1H
X-Robots-Tag:noindex
X-PUBLISHED-TTL:PT1H
BEGIN:VTIMEZONE
TZID:America/New_York
BEGIN:DAYLIGHT
TZOFFSETFROM:-0500
TZOFFSETTO:-0400
TZNAME:EDT
DTSTART:20250309T070000
END:DAYLIGHT
BEGIN:STANDARD
TZOFFSETFROM:-0400
TZOFFSETTO:-0500
TZNAME:EST
DTSTART:20251102T060000
END:STANDARD
BEGIN:DAYLIGHT
TZOFFSETFROM:-0500
TZOFFSETTO:-0400
TZNAME:EDT
DTSTART:20260308T070000
END:DAYLIGHT
BEGIN:STANDARD
TZOFFSETFROM:-0400
TZOFFSETTO:-0500
TZNAME:EST
DTSTART:20261101T060000
END:STANDARD
BEGIN:DAYLIGHT
TZOFFSETFROM:-0500
TZOFFSETTO:-0400
TZNAME:EDT
DTSTART:20270314T070000
END:DAYLIGHT
BEGIN:STANDARD
TZOFFSETFROM:-0400
TZOFFSETTO:-0500
TZNAME:EST
DTSTART:20271107T060000
END:STANDARD
END:VTIMEZONE
BEGIN:VEVENT
DTSTART;TZID=America/New_York:20260407T110000
DTEND;TZID=America/New_York:20260407T113000
DTSTAMP:20260421T134513
CREATED:20260409T134257Z
LAST-MODIFIED:20260409T134257Z
UID:10011667-1775559600-1775561400@www.portdiscovery.org
SUMMARY:R.I.S.E. Space Adventure (RISE Arts Center)
DESCRIPTION:Join us for a fun workshop held by RISE Arts Center\, which provides a multidisciplinary arts education to a diverse range of youth while placing a special focus on underserved communities and youth and young adults with autism and/or other intellectual disabilities in Baltimore City. RISE aims to strengthen creative skillsets by utilizing art exhibitions\, musical theater\, art therapy\, creative writing\, and entrepreneurship education. \nDue to scheduling\, all programs are subject to change or cancellations. Thank you for your understanding. \n 
URL:https://www.portdiscovery.org/event/r-i-s-e-space-adventure-rise-arts-center/2026-04-07/
LOCATION:Port Discovery Children’s Museum\, 35 Market Place\, Baltimore\, MD\, 21202\, United States
CATEGORIES:Educational Activity,3-5,6-10,3-6
END:VEVENT
BEGIN:VEVENT
DTSTART;TZID=America/New_York:20260407T140000
DTEND;TZID=America/New_York:20260407T143000
DTSTAMP:20260421T134513
CREATED:20260212T204305Z
LAST-MODIFIED:20260212T204305Z
UID:10011564-1775570400-1775572200@www.portdiscovery.org
SUMMARY:Coding Corner
DESCRIPTION:Swing by our coding corner and play with hands-on problem solving and curiosity through STEM Learning\, where you can participate in an exploration of coding\, robotics\, and creative design. \nDue to scheduling\, all programs are subject to change or cancellations. Thank you for your understanding.
URL:https://www.portdiscovery.org/event/coding-corner-2/2026-04-07/
LOCATION:Port Discovery Children’s Museum\, 35 Market Place\, Baltimore\, MD\, 21202\, United States
CATEGORIES:Educational Activity,3-5,6-10,3-6
END:VEVENT
END:VCALENDAR