BEGIN:VCALENDAR
VERSION:2.0
PRODID:-//Port Discovery Children&#039;s Museum - ECPv6.15.20//NONSGML v1.0//EN
CALSCALE:GREGORIAN
METHOD:PUBLISH
X-ORIGINAL-URL:https://www.portdiscovery.org
X-WR-CALDESC:Events for Port Discovery Children&#039;s Museum
REFRESH-INTERVAL;VALUE=DURATION:PT1H
X-Robots-Tag:noindex
X-PUBLISHED-TTL:PT1H
BEGIN:VTIMEZONE
TZID:America/New_York
BEGIN:DAYLIGHT
TZOFFSETFROM:-0500
TZOFFSETTO:-0400
TZNAME:EDT
DTSTART:20240310T070000
END:DAYLIGHT
BEGIN:STANDARD
TZOFFSETFROM:-0400
TZOFFSETTO:-0500
TZNAME:EST
DTSTART:20241103T060000
END:STANDARD
BEGIN:DAYLIGHT
TZOFFSETFROM:-0500
TZOFFSETTO:-0400
TZNAME:EDT
DTSTART:20250309T070000
END:DAYLIGHT
BEGIN:STANDARD
TZOFFSETFROM:-0400
TZOFFSETTO:-0500
TZNAME:EST
DTSTART:20251102T060000
END:STANDARD
BEGIN:DAYLIGHT
TZOFFSETFROM:-0500
TZOFFSETTO:-0400
TZNAME:EDT
DTSTART:20260308T070000
END:DAYLIGHT
BEGIN:STANDARD
TZOFFSETFROM:-0400
TZOFFSETTO:-0500
TZNAME:EST
DTSTART:20261101T060000
END:STANDARD
END:VTIMEZONE
BEGIN:VEVENT
DTSTART;VALUE=DATE:20250602
DTEND;VALUE=DATE:20250603
DTSTAMP:20260420T135257
CREATED:20250527T134406Z
LAST-MODIFIED:20250527T134406Z
UID:10009330-1748822400-1748908799@www.portdiscovery.org
SUMMARY:Wonders of Water : Closed for Cleaning
DESCRIPTION:During the summer\, Wonders of Water will be closed for sanitary cleaning on Monday afternoons beginning at 3 PM and will reopen Tuesday afternoons at 12 PM.
URL:https://www.portdiscovery.org/event/wonders-of-water-closed-for-cleaning-3/2025-06-02/
LOCATION:Port Discovery Children’s Museum\, 35 Market Place\, Baltimore\, MD\, 21202\, United States
END:VEVENT
BEGIN:VEVENT
DTSTART;VALUE=DATE:20250603
DTEND;VALUE=DATE:20250604
DTSTAMP:20260420T135257
CREATED:20250527T134406Z
LAST-MODIFIED:20250527T134406Z
UID:10009331-1748908800-1748995199@www.portdiscovery.org
SUMMARY:Wonders of Water : Closed for Cleaning
DESCRIPTION:During the summer\, Wonders of Water will be closed for sanitary cleaning on Monday afternoons beginning at 3 PM and will reopen Tuesday afternoons at 12 PM.
URL:https://www.portdiscovery.org/event/wonders-of-water-closed-for-cleaning-3/2025-06-03/
LOCATION:Port Discovery Children’s Museum\, 35 Market Place\, Baltimore\, MD\, 21202\, United States
END:VEVENT
BEGIN:VEVENT
DTSTART;VALUE=DATE:20250609
DTEND;VALUE=DATE:20250610
DTSTAMP:20260420T135257
CREATED:20250527T134406Z
LAST-MODIFIED:20250527T134406Z
UID:10009332-1749427200-1749513599@www.portdiscovery.org
SUMMARY:Wonders of Water : Closed for Cleaning
DESCRIPTION:During the summer\, Wonders of Water will be closed for sanitary cleaning on Monday afternoons beginning at 3 PM and will reopen Tuesday afternoons at 12 PM.
URL:https://www.portdiscovery.org/event/wonders-of-water-closed-for-cleaning-3/2025-06-09/
LOCATION:Port Discovery Children’s Museum\, 35 Market Place\, Baltimore\, MD\, 21202\, United States
END:VEVENT
BEGIN:VEVENT
DTSTART;VALUE=DATE:20250610
DTEND;VALUE=DATE:20250611
DTSTAMP:20260420T135257
CREATED:20250527T134406Z
LAST-MODIFIED:20250527T134406Z
UID:10009333-1749513600-1749599999@www.portdiscovery.org
SUMMARY:Wonders of Water : Closed for Cleaning
DESCRIPTION:During the summer\, Wonders of Water will be closed for sanitary cleaning on Monday afternoons beginning at 3 PM and will reopen Tuesday afternoons at 12 PM.
URL:https://www.portdiscovery.org/event/wonders-of-water-closed-for-cleaning-3/2025-06-10/
LOCATION:Port Discovery Children’s Museum\, 35 Market Place\, Baltimore\, MD\, 21202\, United States
END:VEVENT
BEGIN:VEVENT
DTSTART;VALUE=DATE:20250616
DTEND;VALUE=DATE:20250617
DTSTAMP:20260420T135257
CREATED:20250527T134406Z
LAST-MODIFIED:20250527T134406Z
UID:10009334-1750032000-1750118399@www.portdiscovery.org
SUMMARY:Wonders of Water : Closed for Cleaning
DESCRIPTION:During the summer\, Wonders of Water will be closed for sanitary cleaning on Monday afternoons beginning at 3 PM and will reopen Tuesday afternoons at 12 PM.
URL:https://www.portdiscovery.org/event/wonders-of-water-closed-for-cleaning-3/2025-06-16/
LOCATION:Port Discovery Children’s Museum\, 35 Market Place\, Baltimore\, MD\, 21202\, United States
END:VEVENT
BEGIN:VEVENT
DTSTART;VALUE=DATE:20250617
DTEND;VALUE=DATE:20250618
DTSTAMP:20260420T135257
CREATED:20250527T134406Z
LAST-MODIFIED:20250527T134406Z
UID:10009335-1750118400-1750204799@www.portdiscovery.org
SUMMARY:Wonders of Water : Closed for Cleaning
DESCRIPTION:During the summer\, Wonders of Water will be closed for sanitary cleaning on Monday afternoons beginning at 3 PM and will reopen Tuesday afternoons at 12 PM.
URL:https://www.portdiscovery.org/event/wonders-of-water-closed-for-cleaning-3/2025-06-17/
LOCATION:Port Discovery Children’s Museum\, 35 Market Place\, Baltimore\, MD\, 21202\, United States
END:VEVENT
BEGIN:VEVENT
DTSTART;VALUE=DATE:20250623
DTEND;VALUE=DATE:20250624
DTSTAMP:20260420T135257
CREATED:20250527T134406Z
LAST-MODIFIED:20250527T134406Z
UID:10009336-1750636800-1750723199@www.portdiscovery.org
SUMMARY:Wonders of Water : Closed for Cleaning
DESCRIPTION:During the summer\, Wonders of Water will be closed for sanitary cleaning on Monday afternoons beginning at 3 PM and will reopen Tuesday afternoons at 12 PM.
URL:https://www.portdiscovery.org/event/wonders-of-water-closed-for-cleaning-3/2025-06-23/
LOCATION:Port Discovery Children’s Museum\, 35 Market Place\, Baltimore\, MD\, 21202\, United States
END:VEVENT
BEGIN:VEVENT
DTSTART;VALUE=DATE:20250625
DTEND;VALUE=DATE:20250626
DTSTAMP:20260420T135257
CREATED:20250624T205424Z
LAST-MODIFIED:20250624T205424Z
UID:10009337-1750809600-1750895999@www.portdiscovery.org
SUMMARY:Wonders of Water : Closed for Cleaning
DESCRIPTION:On Wednesday June 24th\, Wonders of Water will be closed for sanitary cleaning and will reopen as soon as possible. Thank you for understanding and we apologize for any inconvenience.
URL:https://www.portdiscovery.org/event/wonders-of-water-closed-for-cleaning-3-2/
LOCATION:Port Discovery Children’s Museum\, 35 Market Place\, Baltimore\, MD\, 21202\, United States
END:VEVENT
BEGIN:VEVENT
DTSTART;VALUE=DATE:20250630
DTEND;VALUE=DATE:20250701
DTSTAMP:20260420T135257
CREATED:20250527T134406Z
LAST-MODIFIED:20250527T134406Z
UID:10009338-1751241600-1751327999@www.portdiscovery.org
SUMMARY:Wonders of Water : Closed for Cleaning
DESCRIPTION:During the summer\, Wonders of Water will be closed for sanitary cleaning on Monday afternoons beginning at 3 PM and will reopen Tuesday afternoons at 12 PM.
URL:https://www.portdiscovery.org/event/wonders-of-water-closed-for-cleaning-3/2025-06-30/
LOCATION:Port Discovery Children’s Museum\, 35 Market Place\, Baltimore\, MD\, 21202\, United States
END:VEVENT
END:VCALENDAR